BEGIN:VCALENDAR
VERSION:2.0
PRODID:-//penarthtowncouncil.gov.uk - ECPv6.15.20//NONSGML v1.0//EN
CALSCALE:GREGORIAN
METHOD:PUBLISH
X-WR-CALNAME:penarthtowncouncil.gov.uk
X-ORIGINAL-URL:https://www.penarthtowncouncil.gov.uk
X-WR-CALDESC:Events for penarthtowncouncil.gov.uk
REFRESH-INTERVAL;VALUE=DURATION:PT1H
X-Robots-Tag:noindex
X-PUBLISHED-TTL:PT1H
BEGIN:VTIMEZONE
TZID:Europe/London
BEGIN:DAYLIGHT
TZOFFSETFROM:+0000
TZOFFSETTO:+0100
TZNAME:BST
DTSTART:20240331T010000
END:DAYLIGHT
BEGIN:STANDARD
TZOFFSETFROM:+0100
TZOFFSETTO:+0000
TZNAME:GMT
DTSTART:20241027T010000
END:STANDARD
BEGIN:DAYLIGHT
TZOFFSETFROM:+0000
TZOFFSETTO:+0100
TZNAME:BST
DTSTART:20250330T010000
END:DAYLIGHT
BEGIN:STANDARD
TZOFFSETFROM:+0100
TZOFFSETTO:+0000
TZNAME:GMT
DTSTART:20251026T010000
END:STANDARD
BEGIN:DAYLIGHT
TZOFFSETFROM:+0000
TZOFFSETTO:+0100
TZNAME:BST
DTSTART:20260329T010000
END:DAYLIGHT
BEGIN:STANDARD
TZOFFSETFROM:+0100
TZOFFSETTO:+0000
TZNAME:GMT
DTSTART:20261025T010000
END:STANDARD
BEGIN:DAYLIGHT
TZOFFSETFROM:+0000
TZOFFSETTO:+0100
TZNAME:BST
DTSTART:20270328T010000
END:DAYLIGHT
BEGIN:STANDARD
TZOFFSETFROM:+0100
TZOFFSETTO:+0000
TZNAME:GMT
DTSTART:20271031T010000
END:STANDARD
END:VTIMEZONE
BEGIN:VEVENT
DTSTART;TZID=Europe/London:20260210T190000
DTEND;TZID=Europe/London:20260210T220000
DTSTAMP:20260420T100504
CREATED:20251209T154400Z
LAST-MODIFIED:20251209T154404Z
UID:10001507-1770750000-1770760800@www.penarthtowncouncil.gov.uk
SUMMARY:National Theatre Live: Hamlet
DESCRIPTION:Hamlet by William Shakespeare\ndirected by Robert Hastie \nOlivier Award-winner Hiran Abeysekera (Life of Pi) is Hamlet in this fearless\, contemporary take on Shakespeare’s famous tragedy.\nTrapped between duty and doubt\, surrounded by power and privilege\, young Prince Hamlet dares to ask the ultimate question – you know the one. \nNational Theatre Deputy Artistic Director\, Robert Hastie (Standing at the Sky’s Edge\, Operation Mincemeat) directs this sharp\, stylish and darkly funny reimagining.
URL:https://www.penarthtowncouncil.gov.uk/event/national-theatre-live-hamlet/
LOCATION:The Paget Rooms\, The Paget Rooms\, Victoria Road\, Penarth\, Vale of Glamorgan\, CF64 3EG\, United Kingdom
CATEGORIES:Featured Events,Film & Theatre,Penarth Town Council Events
ATTACH;FMTTYPE=image/png:https://www.penarthtowncouncil.gov.uk/ptcmedia/uploads/NTL-2026-Hamlet-Listing-Image-Landscape.png
GEO:51.435432;-3.176803
X-APPLE-STRUCTURED-LOCATION;VALUE=URI;X-ADDRESS=The Paget Rooms The Paget Rooms Victoria Road Penarth Vale of Glamorgan CF64 3EG United Kingdom;X-APPLE-RADIUS=500;X-TITLE=The Paget Rooms\, Victoria Road:geo:-3.176803,51.435432
END:VEVENT
BEGIN:VEVENT
DTSTART;TZID=Europe/London:20251211T190000
DTEND;TZID=Europe/London:20251211T220000
DTSTAMP:20260420T100504
CREATED:20251007T101012Z
LAST-MODIFIED:20251007T101012Z
UID:10000698-1765479600-1765490400@www.penarthtowncouncil.gov.uk
SUMMARY:NT Live: The Fifth Step
DESCRIPTION:The Fifth Step\nby David Ireland\ndirected by Finn den Hertog \nOlivier Award-winner Jack Lowden (Slow Horses\, Dunkirk) is joined by Emmy and BAFTA-winner Martin Freeman (The Hobbit\, The Responder) in the critically acclaimed and subversively funny new play by David Ireland. \nAfter years in the 12-step programme of Alcoholics Anonymous\, James becomes a sponsor to newcomer Luka. The pair bond over black coffee\, trade stories and build a fragile friendship out of their shared experiences. But as Luka approaches step five – the moment of confession – dangerous truths emerge\, threatening the trust on which both of their recoveries depend. \nFinn den Hertog directs the provocative and entertaining production filmed live from @sohoplace on London’s West End.
URL:https://www.penarthtowncouncil.gov.uk/event/nt-live-the-fifth-step/
LOCATION:The Paget Rooms\, The Paget Rooms\, Victoria Road\, Penarth\, Vale of Glamorgan\, CF64 3EG\, United Kingdom
CATEGORIES:Film & Theatre,Penarth Town Council Events
ATTACH;FMTTYPE=image/jpeg:https://www.penarthtowncouncil.gov.uk/ptcmedia/uploads/NTL-2025-The-Fifth-Step-Listing-Images-Landscape-1240x874px.jpg
GEO:51.435432;-3.176803
X-APPLE-STRUCTURED-LOCATION;VALUE=URI;X-ADDRESS=The Paget Rooms The Paget Rooms Victoria Road Penarth Vale of Glamorgan CF64 3EG United Kingdom;X-APPLE-RADIUS=500;X-TITLE=The Paget Rooms\, Victoria Road:geo:-3.176803,51.435432
END:VEVENT
BEGIN:VEVENT
DTSTART;TZID=Europe/London:20251011T193000
DTEND;TZID=Europe/London:20251011T220000
DTSTAMP:20260420T100504
CREATED:20250902T192542Z
LAST-MODIFIED:20250902T193304Z
UID:10000665-1760211000-1760220000@www.penarthtowncouncil.gov.uk
SUMMARY:The Ghost Train
DESCRIPTION:An assortment of assorted railway travellers find themselves stranded in the waiting room of an isolated country station in the evening. The station master tries to persuade them to leave as he is closing the station for the night. When they refuse\, he warns them of the supernatural danger of a passenger train\, its passengers fatally wrecked in the locality several years before\, that sometimes haunts the line at night\, bringing death to all who set eyes upon it. Incredulous of his story\, they still refuse to leave\, and he departs leaving them facing a night at the station. \nFor more information or to purchase tickets\, please visit https://www.ticketsource.co.uk/pods/the-ghost-train/e-xzqjpo.
URL:https://www.penarthtowncouncil.gov.uk/event/the-ghost-train-2/2025-10-11/
LOCATION:The Paget Rooms\, The Paget Rooms\, Victoria Road\, Penarth\, Vale of Glamorgan\, CF64 3EG\, United Kingdom
CATEGORIES:Community Events,Film & Theatre
ATTACH;FMTTYPE=image/jpeg:https://www.penarthtowncouncil.gov.uk/ptcmedia/uploads/PODS_TGT_Instagram_1080x1080px_1pp_v13.jpg
ORGANIZER;CN="Penarth Operatic and Drama Society":MAILTO:ticketsecretary@pods-penarth.org
GEO:51.435432;-3.176803
X-APPLE-STRUCTURED-LOCATION;VALUE=URI;X-ADDRESS=The Paget Rooms The Paget Rooms Victoria Road Penarth Vale of Glamorgan CF64 3EG United Kingdom;X-APPLE-RADIUS=500;X-TITLE=The Paget Rooms\, Victoria Road:geo:-3.176803,51.435432
END:VEVENT
BEGIN:VEVENT
DTSTART;TZID=Europe/London:20251010T193000
DTEND;TZID=Europe/London:20251010T220000
DTSTAMP:20260420T100505
CREATED:20250902T192542Z
LAST-MODIFIED:20250902T193304Z
UID:10000664-1760124600-1760133600@www.penarthtowncouncil.gov.uk
SUMMARY:The Ghost Train
DESCRIPTION:An assortment of assorted railway travellers find themselves stranded in the waiting room of an isolated country station in the evening. The station master tries to persuade them to leave as he is closing the station for the night. When they refuse\, he warns them of the supernatural danger of a passenger train\, its passengers fatally wrecked in the locality several years before\, that sometimes haunts the line at night\, bringing death to all who set eyes upon it. Incredulous of his story\, they still refuse to leave\, and he departs leaving them facing a night at the station. \nFor more information or to purchase tickets\, please visit https://www.ticketsource.co.uk/pods/the-ghost-train/e-xzqjpo.
URL:https://www.penarthtowncouncil.gov.uk/event/the-ghost-train-2/2025-10-10/
LOCATION:The Paget Rooms\, The Paget Rooms\, Victoria Road\, Penarth\, Vale of Glamorgan\, CF64 3EG\, United Kingdom
CATEGORIES:Community Events,Film & Theatre
ATTACH;FMTTYPE=image/jpeg:https://www.penarthtowncouncil.gov.uk/ptcmedia/uploads/PODS_TGT_Instagram_1080x1080px_1pp_v13.jpg
ORGANIZER;CN="Penarth Operatic and Drama Society":MAILTO:ticketsecretary@pods-penarth.org
GEO:51.435432;-3.176803
X-APPLE-STRUCTURED-LOCATION;VALUE=URI;X-ADDRESS=The Paget Rooms The Paget Rooms Victoria Road Penarth Vale of Glamorgan CF64 3EG United Kingdom;X-APPLE-RADIUS=500;X-TITLE=The Paget Rooms\, Victoria Road:geo:-3.176803,51.435432
END:VEVENT
BEGIN:VEVENT
DTSTART;TZID=Europe/London:20251009T193000
DTEND;TZID=Europe/London:20251009T220000
DTSTAMP:20260420T100505
CREATED:20250902T192542Z
LAST-MODIFIED:20250902T193304Z
UID:10000663-1760038200-1760047200@www.penarthtowncouncil.gov.uk
SUMMARY:The Ghost Train
DESCRIPTION:An assortment of assorted railway travellers find themselves stranded in the waiting room of an isolated country station in the evening. The station master tries to persuade them to leave as he is closing the station for the night. When they refuse\, he warns them of the supernatural danger of a passenger train\, its passengers fatally wrecked in the locality several years before\, that sometimes haunts the line at night\, bringing death to all who set eyes upon it. Incredulous of his story\, they still refuse to leave\, and he departs leaving them facing a night at the station. \nFor more information or to purchase tickets\, please visit https://www.ticketsource.co.uk/pods/the-ghost-train/e-xzqjpo.
URL:https://www.penarthtowncouncil.gov.uk/event/the-ghost-train-2/2025-10-09/
LOCATION:The Paget Rooms\, The Paget Rooms\, Victoria Road\, Penarth\, Vale of Glamorgan\, CF64 3EG\, United Kingdom
CATEGORIES:Community Events,Film & Theatre
ATTACH;FMTTYPE=image/jpeg:https://www.penarthtowncouncil.gov.uk/ptcmedia/uploads/PODS_TGT_Instagram_1080x1080px_1pp_v13.jpg
ORGANIZER;CN="Penarth Operatic and Drama Society":MAILTO:ticketsecretary@pods-penarth.org
GEO:51.435432;-3.176803
X-APPLE-STRUCTURED-LOCATION;VALUE=URI;X-ADDRESS=The Paget Rooms The Paget Rooms Victoria Road Penarth Vale of Glamorgan CF64 3EG United Kingdom;X-APPLE-RADIUS=500;X-TITLE=The Paget Rooms\, Victoria Road:geo:-3.176803,51.435432
END:VEVENT
BEGIN:VEVENT
DTSTART;TZID=Europe/London:20251008T193000
DTEND;TZID=Europe/London:20251008T220000
DTSTAMP:20260420T100505
CREATED:20250902T192542Z
LAST-MODIFIED:20250902T193304Z
UID:10000662-1759951800-1759960800@www.penarthtowncouncil.gov.uk
SUMMARY:The Ghost Train
DESCRIPTION:An assortment of assorted railway travellers find themselves stranded in the waiting room of an isolated country station in the evening. The station master tries to persuade them to leave as he is closing the station for the night. When they refuse\, he warns them of the supernatural danger of a passenger train\, its passengers fatally wrecked in the locality several years before\, that sometimes haunts the line at night\, bringing death to all who set eyes upon it. Incredulous of his story\, they still refuse to leave\, and he departs leaving them facing a night at the station. \nFor more information or to purchase tickets\, please visit https://www.ticketsource.co.uk/pods/the-ghost-train/e-xzqjpo.
URL:https://www.penarthtowncouncil.gov.uk/event/the-ghost-train-2/2025-10-08/
LOCATION:The Paget Rooms\, The Paget Rooms\, Victoria Road\, Penarth\, Vale of Glamorgan\, CF64 3EG\, United Kingdom
CATEGORIES:Community Events,Film & Theatre
ATTACH;FMTTYPE=image/jpeg:https://www.penarthtowncouncil.gov.uk/ptcmedia/uploads/PODS_TGT_Instagram_1080x1080px_1pp_v13.jpg
ORGANIZER;CN="Penarth Operatic and Drama Society":MAILTO:ticketsecretary@pods-penarth.org
GEO:51.435432;-3.176803
X-APPLE-STRUCTURED-LOCATION;VALUE=URI;X-ADDRESS=The Paget Rooms The Paget Rooms Victoria Road Penarth Vale of Glamorgan CF64 3EG United Kingdom;X-APPLE-RADIUS=500;X-TITLE=The Paget Rooms\, Victoria Road:geo:-3.176803,51.435432
END:VEVENT
BEGIN:VEVENT
DTSTART;TZID=Europe/London:20250503T143000
DTEND;TZID=Europe/London:20250503T143000
DTSTAMP:20260420T100505
CREATED:20250414T145847Z
LAST-MODIFIED:20250414T145848Z
UID:10000348-1746282600-1746282600@www.penarthtowncouncil.gov.uk
SUMMARY:A Spring Concert at the Paget Rooms
DESCRIPTION:Join The Penarth Town Mayor\, Cllr Gwenda Roberts\, for A Spring Concert at the Paget Rooms – a joyous afternoon of choral music featuring Rhapsody\, Harmonics\, Diatonics\, and Sully U3A Singing for Pleasure Group.\n\nFollowing their acclaimed performance at Turner House\, Rhapsody returns to Penarth\, joined by these fantastic choirs for a celebration of song and community.\nWith every note\, you’ll be helping support Tenovus Cancer Care—Wales’ leading cancer research charity\, providing vital support to patients and their families.\n\nCome along\, enjoy some wonderful music\, and support a great cause!\n\nDon’t miss this afternoon of joy\, music\, and community spirit!
URL:https://www.penarthtowncouncil.gov.uk/event/a-spring-concert-at-the-paget-rooms/
LOCATION:The Paget Rooms\, The Paget Rooms\, Victoria Road\, Penarth\, Vale of Glamorgan\, CF64 3EG\, United Kingdom
CATEGORIES:Community Events,Featured Events,Music,Penarth Town Council Events
ATTACH;FMTTYPE=image/jpeg:https://www.penarthtowncouncil.gov.uk/ptcmedia/uploads/spring-concert-1-scaled.jpg
GEO:51.435432;-3.176803
X-APPLE-STRUCTURED-LOCATION;VALUE=URI;X-ADDRESS=The Paget Rooms The Paget Rooms Victoria Road Penarth Vale of Glamorgan CF64 3EG United Kingdom;X-APPLE-RADIUS=500;X-TITLE=The Paget Rooms\, Victoria Road:geo:-3.176803,51.435432
END:VEVENT
END:VCALENDAR