BEGIN:VCALENDAR
VERSION:2.0
PRODID:-//penarthtowncouncil.gov.uk - ECPv6.15.20//NONSGML v1.0//EN
CALSCALE:GREGORIAN
METHOD:PUBLISH
X-WR-CALNAME:penarthtowncouncil.gov.uk
X-ORIGINAL-URL:https://www.penarthtowncouncil.gov.uk
X-WR-CALDESC:Events for penarthtowncouncil.gov.uk
REFRESH-INTERVAL;VALUE=DURATION:PT1H
X-Robots-Tag:noindex
X-PUBLISHED-TTL:PT1H
BEGIN:VTIMEZONE
TZID:Europe/London
BEGIN:DAYLIGHT
TZOFFSETFROM:+0000
TZOFFSETTO:+0100
TZNAME:BST
DTSTART:20250330T010000
END:DAYLIGHT
BEGIN:STANDARD
TZOFFSETFROM:+0100
TZOFFSETTO:+0000
TZNAME:GMT
DTSTART:20251026T010000
END:STANDARD
BEGIN:DAYLIGHT
TZOFFSETFROM:+0000
TZOFFSETTO:+0100
TZNAME:BST
DTSTART:20260329T010000
END:DAYLIGHT
BEGIN:STANDARD
TZOFFSETFROM:+0100
TZOFFSETTO:+0000
TZNAME:GMT
DTSTART:20261025T010000
END:STANDARD
BEGIN:DAYLIGHT
TZOFFSETFROM:+0000
TZOFFSETTO:+0100
TZNAME:BST
DTSTART:20270328T010000
END:DAYLIGHT
BEGIN:STANDARD
TZOFFSETFROM:+0100
TZOFFSETTO:+0000
TZNAME:GMT
DTSTART:20271031T010000
END:STANDARD
END:VTIMEZONE
BEGIN:VEVENT
DTSTART;TZID=Europe/London:20260501T193000
DTEND;TZID=Europe/London:20260501T213000
DTSTAMP:20260423T102846
CREATED:20260420T120035Z
LAST-MODIFIED:20260420T111431Z
UID:10001577-1777663800-1777671000@www.penarthtowncouncil.gov.uk
SUMMARY:Cathays Brass Band Concert
DESCRIPTION:Step beyond the everyday and enjoy an evening of bold brass\, West End favourites and unforgettable melodies as Cathays Brass presents an exciting concert celebration of music and performance. Featuring big tunes\, rich harmonies and a warm\, engaging atmosphere\, the band brings the stage to life with a programme full of character and storytelling. \nFrom show-stopping numbers to more reflective moments\, this concert is designed to entertain\, uplift and surprise\, showcasing the versatility and energy of a modern brass band. \nJoining the band are special guest vocalists Cadi Mullane and Joe Munn\, whose powerful voices and stage presence add an extra dimension to the evening. \nWhether you’re a fan of brass band music\, musical theatre\, or simply looking for a brilliant night of live performance\, this concert promises an evening full of energy\, colour and musical flair.
URL:https://www.penarthtowncouncil.gov.uk/event/cathays-brass-band-concert/
LOCATION:Penarth Pier Pavilion\, Penarth Pier Pavilion
CATEGORIES:Community Events,Music
ATTACH;FMTTYPE=image/jpeg:https://www.penarthtowncouncil.gov.uk/ptcmedia/uploads/Group.-St-Davids.-23.jpg
END:VEVENT
BEGIN:VEVENT
DTSTART;TZID=Europe/London:20260512T140000
DTEND;TZID=Europe/London:20260512T140000
DTSTAMP:20260423T102846
CREATED:20260119T160054Z
LAST-MODIFIED:20260116T133446Z
UID:10001541-1778594400-1778594400@www.penarthtowncouncil.gov.uk
SUMMARY:Art History Talk - Broken by Life: The Paintings of Vincent van Gogh
DESCRIPTION:In his lifetime Vincent van Gogh only sold one painting. Yet today he is one of the most celebrated artists in the world\, perceived by many as a genius. \nThe fascination with his life story is unrivalled. Because we know so much about Van Gogh’s life\, there is a tendency to look for signs of the artist’s mental state in each of his works. But how much should we let our knowledge of Van Gogh’s personality affect our reading of his work? \nThis talk looks closely at the artist’s life in relation to his painting\, and questions whether Van Gogh’s work really does reflect his changing state of mind. \nFollowing the talk\, please stay for tea and cake\, served in the Pavilion’s beautiful Gallery.
URL:https://www.penarthtowncouncil.gov.uk/event/art-history-talk-broken-by-life-the-paintings-of-vincent-van-gogh/
LOCATION:Penarth Pier Pavilion\, Penarth Pier Pavilion
CATEGORIES:Community Events
ATTACH;FMTTYPE=image/jpeg:https://www.penarthtowncouncil.gov.uk/ptcmedia/uploads/Van-Gogh-image.jpg
END:VEVENT
BEGIN:VEVENT
DTSTART;TZID=Europe/London:20260528T193000
DTEND;TZID=Europe/London:20260528T210000
DTSTAMP:20260423T102846
CREATED:20260309T160008Z
LAST-MODIFIED:20260306T155325Z
UID:10001561-1779996600-1780002000@www.penarthtowncouncil.gov.uk
SUMMARY:Patrick Gale: Love Lane
DESCRIPTION:From beloved\, bestselling author Patrick Gale comes Love Lane\, a quietly powerful new novel about escape and entrapment\, love and loss\, and what home and family can truly mean. Set between the rural plains of Canada and 1950s Liverpool and Yorkshire\, Love Lane is a standalone novel that revisits characters from Patrick’s Costa-shortlisted novel\, A Place Called Winter. Across three generations\, it tells a deeply humane story of reckoning and return. \nBook now for what is sure to be a truly special evening in the company of much-loved author Patrick Gale.\n\nLove Lane:\nWhen Harry Cane\, a veteran Canadian wheat farmer\, is forced to sell up and sail back to an England reshaped by two world wars\, his arrival unsettles the family he abandoned decades earlier — a family for whom he has existed only as a distant myth. His daughter\, torn between duty and long-buried anger\, reluctantly takes him in. Yet Harry’s presence has unexpected consequences for the next generation: enabling his granddaughter to confront an unspeakable trauma\, and allowing her gentle husband\, at last\, to feel seen for who he truly is. \nAs Harry faces the question of whether it is possible to make a new life before it is too late\, Love Lane becomes a moving meditation on memory\, forgiveness\, and the fragile bonds that hold families together. \n***\n\nPatrick Gale was born on the Isle of Wight and grew up in Winchester before studying at Oxford University. He now lives on a farm near Land’s End. One of the UK’s best-loved novelists\, his works include Notes from an Exhibition (a Richard and Judy bestseller)\, A Perfectly Good Man\, Mother’s Boy and the Costa-shortlisted A Place Called Winter. His original BBC drama Man in an Orange Shirt was broadcast to great acclaim in 2017 as part of the BBC’s Queer Britannia season\, introducing his work to readers around the world.\n\nThursday 28 May | 7.30 pm\nPenarth Pier Pavilion\, The Esplanade\, CF64 3AU\nTickets:  £25.00 including a signed hardback copy of Love Lane (RRP £20.00)* / £12.00 Event Only** / £5.00 Student Ticket / £5.00 Inclusive Ticket \n*Any book not collected at the event will be held in Griffin Books for three months after the date of the event.\n**There are a limited number of Event Only\, Student and Inclusive tickets available.
URL:https://www.penarthtowncouncil.gov.uk/event/patrick-gale-love-lane/
LOCATION:Penarth Pier Pavilion\, Penarth Pier Pavilion
CATEGORIES:Community Events
ATTACH;FMTTYPE=image/png:https://www.penarthtowncouncil.gov.uk/ptcmedia/uploads/Facebook-Templates-4-1.png
END:VEVENT
BEGIN:VEVENT
DTSTART;TZID=Europe/London:20260612T193000
DTEND;TZID=Europe/London:20260612T220000
DTSTAMP:20260423T102846
CREATED:20260421T140047Z
LAST-MODIFIED:20260420T121046Z
UID:10001586-1781292600-1781301600@www.penarthtowncouncil.gov.uk
SUMMARY:Silver: 25th Anniversary Concert
DESCRIPTION:Magpie-like\, we’ve gathered a hoard of brilliant choral music to celebrate our Silver Jubilee as we revel in the reflective and radiant qualities of this precious metal. \nBask in Spectrum Singers’ glittering mix of genres in contemporary choral compositions\, polyphony and madrigals\, close‑harmony jazz\, doo‑wap\, and barbershop\, all sung a cappella. \nBright new repertoire and beloved golden oldies are woven together with threads of silver\, which run organically through hair and tongue; nobly through coinage and breastplate; luminously through gleaming water and moonlight. \nJoin us for this shining night in celebration of Spectrum Singers’ 25 years beside the silvery sea. \nProgramme to include: \nMorten Lauridsen / Sure on this Shining Night\nĒriks Ešenvalds / Stars\nThe Beach Boys arr. Tomas Bergquist / God Only Knows\nArvo Pärt / The Deer’s Cry\nThe Beatles (Lennon & McCartney) arr. Paul Hart / When I’m Sixty-Four\nLudwig van Beethoven arr. Benjamin Gait / Piano Concerto No.5 (Adagio)\nHenry Mancini arr. Steve Zegree / Moon River\nCaroline Shaw / and the swallow
URL:https://www.penarthtowncouncil.gov.uk/event/silver-25th-anniversary-concert/
LOCATION:Penarth Pier Pavilion\, Penarth Pier Pavilion
CATEGORIES:Community Events,Music
ATTACH;FMTTYPE=image/jpeg:https://www.penarthtowncouncil.gov.uk/ptcmedia/uploads/Silver-Poster_Low-Res.jpg
ORGANIZER;CN="Spectrum Singers":MAILTO:hello@spectrumsingers.vpweb.co.uk 
END:VEVENT
BEGIN:VEVENT
DTSTART;TZID=Europe/London:20260703T190000
DTEND;TZID=Europe/London:20260703T220000
DTSTAMP:20260423T102846
CREATED:20260422T090008Z
LAST-MODIFIED:20260420T121824Z
UID:10001587-1783105200-1783116000@www.penarthtowncouncil.gov.uk
SUMMARY:ABBAholics - Abba Tribute Night
DESCRIPTION:Friday 3rd July Doors open: 7:00pm | Show starts: 7:30pm \nCome along for a fantastic night of ABBA classics\, including Waterloo\, Mamma Mia\, Dancing Queen and many\, many more. This vibrant and uplifting tribute show is a celebration of one of pop music’s greatest bands. \nThe ABBAholics have been touring theatres\, holiday parks and a wide range of venues across the UK and overseas for many years\, delighting audiences wherever they go. Expect a high-energy performance with plenty of dancing opportunities and a touch of audience participation throughout the night — it promises to be great fun! \nThe evening will be introduced by the Pavilions Cabaret Compère\, Mark Thompson\, setting the scene for an unforgettable night of music and entertainment. \n 
URL:https://www.penarthtowncouncil.gov.uk/event/abbaholics-abba-tribute-night/
LOCATION:Penarth Pier Pavilion\, Penarth Pier Pavilion
CATEGORIES:Community Events,Music
ATTACH;FMTTYPE=image/jpeg:https://www.penarthtowncouncil.gov.uk/ptcmedia/uploads/abba-logo.jpg
END:VEVENT
END:VCALENDAR