BEGIN:VCALENDAR
VERSION:2.0
PRODID:-//penarthtowncouncil.gov.uk - ECPv6.15.20//NONSGML v1.0//EN
CALSCALE:GREGORIAN
METHOD:PUBLISH
X-WR-CALNAME:penarthtowncouncil.gov.uk
X-ORIGINAL-URL:https://www.penarthtowncouncil.gov.uk
X-WR-CALDESC:Events for penarthtowncouncil.gov.uk
REFRESH-INTERVAL;VALUE=DURATION:PT1H
X-Robots-Tag:noindex
X-PUBLISHED-TTL:PT1H
BEGIN:VTIMEZONE
TZID:Europe/London
BEGIN:DAYLIGHT
TZOFFSETFROM:+0000
TZOFFSETTO:+0100
TZNAME:BST
DTSTART:20250330T010000
END:DAYLIGHT
BEGIN:STANDARD
TZOFFSETFROM:+0100
TZOFFSETTO:+0000
TZNAME:GMT
DTSTART:20251026T010000
END:STANDARD
BEGIN:DAYLIGHT
TZOFFSETFROM:+0000
TZOFFSETTO:+0100
TZNAME:BST
DTSTART:20260329T010000
END:DAYLIGHT
BEGIN:STANDARD
TZOFFSETFROM:+0100
TZOFFSETTO:+0000
TZNAME:GMT
DTSTART:20261025T010000
END:STANDARD
BEGIN:DAYLIGHT
TZOFFSETFROM:+0000
TZOFFSETTO:+0100
TZNAME:BST
DTSTART:20270328T010000
END:DAYLIGHT
BEGIN:STANDARD
TZOFFSETFROM:+0100
TZOFFSETTO:+0000
TZNAME:GMT
DTSTART:20271031T010000
END:STANDARD
END:VTIMEZONE
BEGIN:VEVENT
DTSTART;TZID=Europe/London:20260423T190000
DTEND;TZID=Europe/London:20260423T220000
DTSTAMP:20260420T061838
CREATED:20260116T163536Z
LAST-MODIFIED:20260116T163539Z
UID:10001544-1776970800-1776981600@www.penarthtowncouncil.gov.uk
SUMMARY:National Theatre Live: All My Sons
DESCRIPTION:All My Sons  by Arthur Miller\ndirected by Ivo Van Hove\, design by Jan Versweyveld \nBryan Cranston (Breaking Bad) and Marianne Jean-Baptiste (Hard Truths) feature in a five-star\, triumphantly acclaimed new production of Arthur Miller’s classic play\, from visionary director Ivo Van Hove (A View from the Bridge). \nOne family\, the heart of the American dream. When wartime delivers profits for Joe\, it comes at a price when his partner is charged with criminal manufacturing deals\, and his eldest son goes missing in action. Will peacetime bring peace of mind\, or will he be confronted by the consequence of his actions? \nFilmed live from the West End\, Paapa Essiedu (I May Destroy You)\, Tom Glynn-Carney (House of the Dragon)\, and Hayley Squires (I\, Daniel Blake) also feature in this disturbingly prescient play.
URL:https://www.penarthtowncouncil.gov.uk/event/national-theatre-live-all-my-sons/
LOCATION:Paget Rooms Penarth\, Paget Rooms Penarth
CATEGORIES:Community Events,Film & Theatre,Penarth Town Council Events
ATTACH;FMTTYPE=image/jpeg:https://www.penarthtowncouncil.gov.uk/ptcmedia/uploads/NTL-2026-All-My-Sons-Listing-Image-1240x874-1.jpg
END:VEVENT
BEGIN:VEVENT
DTSTART;TZID=Europe/London:20260430T193000
DTEND;TZID=Europe/London:20260430T220000
DTSTAMP:20260420T061838
CREATED:20260127T160041Z
LAST-MODIFIED:20260126T161234Z
UID:10001549-1777577400-1777586400@www.penarthtowncouncil.gov.uk
SUMMARY:Pianoforte
DESCRIPTION:Get ready to dive into the captivating life story of Mary Frost – a woman at the centre of the Chartist movement & the 1839 Newport Rising. \n\n\n\n\nWelcome to Pianoforte – The Story of Mary Frost! Join us at The Paget Rooms\, Penarth to hear the captivating tale of Mary Frost as we unravel the story of this remarkable woman. \nDon’t miss this unique opportunity to immerse yourself in this significant piece of local history coming to life on stage. \nCome and be part of this unforgettable event!
URL:https://www.penarthtowncouncil.gov.uk/event/pianoforte/
LOCATION:Paget Rooms Penarth\, Paget Rooms Penarth
CATEGORIES:Community Events,Film & Theatre
ATTACH;FMTTYPE=image/jpeg:https://www.penarthtowncouncil.gov.uk/ptcmedia/uploads/IMG_8756.jpeg
END:VEVENT
BEGIN:VEVENT
DTSTART;TZID=Europe/London:20260506T193000
DTEND;TZID=Europe/London:20260506T220000
DTSTAMP:20260420T061838
CREATED:20260326T140051Z
LAST-MODIFIED:20260325T124408Z
UID:10001570-1778095800-1778104800@www.penarthtowncouncil.gov.uk
SUMMARY:Matty O'Brien: Boots and Bare Hands [BOOK LAUNCH]
DESCRIPTION:From drumming on global tours to selling out a backyard supper club months in advance\, Matty O’Brien – the mastermind behind Matty’s BBQ Chop Shop – is bringing his fire-stoked secrets straight to home kitchens with the launch of his debut cookbook\, Boots and Bare Hands. Matty will be in conversation with broadcaster and 44Group co-founder Owen Morgan\, in what we know is going to be a very special event! \nBoots and Bare Hands is a deeply personal and practical guide to live-fire cooking\, reflecting the creativity\, precision and passion that have made Matty’s Penarth cul-de-sac a must-visit destination for food lovers. In the book\, he takes readers through everything from preparing premium cuts of beef\, pork\, poultry and seafood to mastering smoking\, brining and the techniques that elevate everyday meals into something extraordinary. Beyond the barbecue\, Boots and Bare Hands shows how to bring these skills into a busy family week\, with midweek meals and clever kitchen hacks designed for home cooks of all levels.\n\nMatty O’Brien: Matty’s journey is as unconventional as it is inspiring. Two years ago\, he ran his pop-up events from a domestic oven and a single chip tray. Today\, ten smokers hum in his backyard and his “cue fine dining” experiences have caught the attention of Saturday Kitchen’s Matt Tebbutt\, who called his short rib a “need to try” dish. Alongside his wife\, Lowri\, and children\, Rune and Red\, Matty has built a community hub where the thrill of cooking live over fire mirrors the adrenaline of his days on stage. \nThis is more than a cookbook: it’s an invitation into the Chop Shop experience\, the haphazard museum aesthetic of antiques and Americana\, and the philosophy that world-class barbecue can fit into everyday life. An event not to be missed for food lovers\, home cooks and anyone curious about the live-fire revolution happening right here in Penarth. \nWHAT TO EXPECT: Matty O’Brien will be in conversation with Owen Morgan (around 60 minutes)\, followed by an audience Q&A (15 mins). Matty will then be available after the ‘in-conversation’ part of the event to sign books and add a personal dedication. \nThe first 100 tickets sold (with book included) will also receive an exclusive Boots and Bare Hands tote bag!\n\n***\nWednesday 6 May | 7.30 pm\nThe Paget Rooms\, Penarth \nTickets: £35.00 includes a SIGNED hardback copy of Boots and Bare Hands (RRP: £24.99)* / £15.00 Event Only** / £10.00 Student Ticket / £5.00 Inclusive Ticket \n*Any book not collected at the event will be held at Griffin Books for three months after the date of the event.\n** There are a limited number of Event Only tickets available.
URL:https://www.penarthtowncouncil.gov.uk/event/matty-obrien-boots-and-bare-hands-book-launch/
LOCATION:Paget Rooms Penarth\, Paget Rooms Penarth
CATEGORIES:Community Events
ATTACH;FMTTYPE=image/png:https://www.penarthtowncouncil.gov.uk/ptcmedia/uploads/Facebook-Templates-5.png
END:VEVENT
BEGIN:VEVENT
DTSTART;TZID=Europe/London:20260625T190000
DTEND;TZID=Europe/London:20260625T220000
DTSTAMP:20260420T061838
CREATED:20251209T155330Z
LAST-MODIFIED:20251209T155332Z
UID:10001509-1782414000-1782424800@www.penarthtowncouncil.gov.uk
SUMMARY:National Theatre Live: Les Liaisons Dangereuses
DESCRIPTION:Les Liaisons Dangereuses by Christopher Hampton\nbased on the novel by Pierre Choderlos de Laclos\ndirected by Marianne Elliott \nBAFTA Award-winner Lesley Manville (Phantom Thread) joins Aidan Turner (Rivals) in a striking new staging of Christopher Hampton’s celebrated adaptation of the classic novel\, where among the glittering salons of the super-rich\, one misstep can mean ruin. \nMarquise de Merteuil is a master in the art of survival. Alongside the magnetic Vicomte de Valmont\, they turn seduction into strategy and weaponise desire.  But when their alliance collapses into rivalry\, the battle between them threatens to destroy everyone in their path. \nFilmed live on stage at the National Theatre\, Marianne Elliott (Angels in America) directs this thrilling game of love\, lies\, and social warfare.
URL:https://www.penarthtowncouncil.gov.uk/event/national-theatre-live-les-liaisons-dangereuses/
LOCATION:Paget Rooms Penarth\, Paget Rooms Penarth
CATEGORIES:Featured Events,Film & Theatre,Penarth Town Council Events
ATTACH;FMTTYPE=image/jpeg:https://www.penarthtowncouncil.gov.uk/ptcmedia/uploads/NTL-2026-Les-Liaisons-Dangereuses-Listing-Image-Landscape.jpg
END:VEVENT
END:VCALENDAR