BEGIN:VCALENDAR
VERSION:2.0
PRODID:-//penarthtowncouncil.gov.uk - ECPv6.15.20//NONSGML v1.0//EN
CALSCALE:GREGORIAN
METHOD:PUBLISH
X-WR-CALNAME:penarthtowncouncil.gov.uk
X-ORIGINAL-URL:https://www.penarthtowncouncil.gov.uk
X-WR-CALDESC:Events for penarthtowncouncil.gov.uk
REFRESH-INTERVAL;VALUE=DURATION:PT1H
X-Robots-Tag:noindex
X-PUBLISHED-TTL:PT1H
BEGIN:VTIMEZONE
TZID:Europe/London
BEGIN:DAYLIGHT
TZOFFSETFROM:+0000
TZOFFSETTO:+0100
TZNAME:BST
DTSTART:20240331T010000
END:DAYLIGHT
BEGIN:STANDARD
TZOFFSETFROM:+0100
TZOFFSETTO:+0000
TZNAME:GMT
DTSTART:20241027T010000
END:STANDARD
BEGIN:DAYLIGHT
TZOFFSETFROM:+0000
TZOFFSETTO:+0100
TZNAME:BST
DTSTART:20250330T010000
END:DAYLIGHT
BEGIN:STANDARD
TZOFFSETFROM:+0100
TZOFFSETTO:+0000
TZNAME:GMT
DTSTART:20251026T010000
END:STANDARD
BEGIN:DAYLIGHT
TZOFFSETFROM:+0000
TZOFFSETTO:+0100
TZNAME:BST
DTSTART:20260329T010000
END:DAYLIGHT
BEGIN:STANDARD
TZOFFSETFROM:+0100
TZOFFSETTO:+0000
TZNAME:GMT
DTSTART:20261025T010000
END:STANDARD
BEGIN:DAYLIGHT
TZOFFSETFROM:+0000
TZOFFSETTO:+0100
TZNAME:BST
DTSTART:20270328T010000
END:DAYLIGHT
BEGIN:STANDARD
TZOFFSETFROM:+0100
TZOFFSETTO:+0000
TZNAME:GMT
DTSTART:20271031T010000
END:STANDARD
END:VTIMEZONE
BEGIN:VEVENT
DTSTART;TZID=Europe/London:20260416T183000
DTEND;TZID=Europe/London:20260416T220000
DTSTAMP:20260420T074337
CREATED:20260120T100055Z
LAST-MODIFIED:20260116T135130Z
UID:10001542-1776364200-1776376800@www.penarthtowncouncil.gov.uk
SUMMARY:From the Vale\, with Love
DESCRIPTION:Join us for a night of music\, food and solidarity in support of Gaza. \n\n\n\n\nFrom the Vale\, with Love is a love letter in music\, food and collective action. \nAn evening of live music\, DJ sets\, raffle prizes and homemade Palestinian food\, bringing our community together in solidarity with Gaza. Featuring performances from Esther\, Jonny Forever and Voya\, and hosted by the hilarious Liam Schewitz. \nThis night is about holding joy and grief side by side — celebrating culture\, amplifying voices\, and turning care into concrete support. \nCome as you are. Bring your friends. Leave with hope. \n🎟️ Ticket Prices \nAdults — £12 \nConcessions / Children — £6 \nFamily Ticket — £30 (2 adults + 2 children) \n💙 The charities we’re supporting \nPalestinian Doctors Association in Europe \nPDAE run the only maternity clinic in Gaza\, serving a population of over 2.5 million people. They also support Palestinian medical students stranded in Egypt after Gaza’s universities were destroyed. We are currently working to bring two medical students to Cardiff so they can continue their education\, despite significant visa barriers. \nProspero World & Restoring Hope \nTogether\, they support amputees in Gaza by providing prosthetic limbs and rehabilitation\, helping restore mobility\, dignity and independence. \n🦾 Every £1\,200 raised funds a prosthetic limb\, covering materials\, medical staff and follow-up care — life-changing support\, especially for children. \n✨ 100% of proceeds go directly to these charities.
URL:https://www.penarthtowncouncil.gov.uk/event/from-the-vale-with-love/
LOCATION:Paget Rooms Penarth\, Paget Rooms Penarth
CATEGORIES:Community Events,Music
ATTACH;FMTTYPE=image/png:https://www.penarthtowncouncil.gov.uk/ptcmedia/uploads/From-Vale-with-Love.png
END:VEVENT
BEGIN:VEVENT
DTSTART;TZID=Europe/London:20260326T190000
DTEND;TZID=Europe/London:20260326T220000
DTSTAMP:20260420T074337
CREATED:20251209T155706Z
LAST-MODIFIED:20251209T155708Z
UID:10001510-1774551600-1774562400@www.penarthtowncouncil.gov.uk
SUMMARY:Othello
DESCRIPTION:Shakespeare’s OTHELLO rages to life like never before in a ‘compelling’ (★★★★ Telegraph) new production starring David Harewood OBE (Homeland\, Best of Enemies)\, Toby Jones OBE (Mr Bates vs the Post Office\, Detectorists)\, Caitlin FitzGerald (Succession\, Masters of Sex)\, Vinette Robinson (Boiling Point) and Luke Treadaway (A Street Cat Named Bob). \nDirected by Tony Award-winner Tom Morris OBE (War Horse\, Dr Semmelweis\, The Grinning Man) with music by PJ Harvey\, this epic story of manipulation\, jealousy and toxic masculinity explores the darker side of power\, rage and desire. Filmed live at the Theatre Royal Haymarket in London especially for the big screen\, this is ‘an electrifying star-studded Othello.’ (★★★★ Mail on Sunday)
URL:https://www.penarthtowncouncil.gov.uk/event/othello/
LOCATION:Paget Rooms Penarth\, Paget Rooms Penarth
CATEGORIES:Featured Events,Film & Theatre,Penarth Town Council Events
ATTACH;FMTTYPE=image/jpeg:https://www.penarthtowncouncil.gov.uk/ptcmedia/uploads/Othello-1080x1350_4x5.jpg
END:VEVENT
BEGIN:VEVENT
DTSTART;TZID=Europe/London:20260318T193000
DTEND;TZID=Europe/London:20260318T193000
DTSTAMP:20260420T074337
CREATED:20260127T120025Z
LAST-MODIFIED:20260126T151429Z
UID:10001548-1773862200-1773862200@www.penarthtowncouncil.gov.uk
SUMMARY:Low Pay? Don't Pay!
DESCRIPTION:The Paget Rooms\, Penarth\, CF64 3EG\n\n\n\n\nWednesday 18th March 2026 – Saturday 21st March 2026\n\nLow Pay? Don’t Pay! is a whirlwind comedy from Italian Nobel Prize-winner Dario Fo that promises plenty of laughter with a cheeky dose of politics.\n\n\n\nIt all kicks off when a group of fed-up women stage a supermarket revolt\, refusing to pay sky-high prices and marching out with armfuls of “free” groceries. From there\, the chaos only grows as they try to keep their secret stash hidden from their husbands – and the law!\n\nPacked with slapstick mishaps\, quick-fire gags\, and larger than life characters\, this is a joyful farce that keeps the laughs coming whilst also shining a light on the struggles of ordinary families.\n\n\n\nHilarious\, sharp\, and full of heart\, Low Pay? Don’t Pay! is a reminder that sometimes the best way to face life’s unfairness is together — and with a good laugh.
URL:https://www.penarthtowncouncil.gov.uk/event/low-pay-dont-pay/
LOCATION:Paget Rooms Penarth\, Paget Rooms Penarth
CATEGORIES:Community Events,Film & Theatre
ATTACH;FMTTYPE=image/jpeg:https://www.penarthtowncouncil.gov.uk/ptcmedia/uploads/PODS_LPDP_Instagram_1080x1080px_1pp_v1.jpg
END:VEVENT
BEGIN:VEVENT
DTSTART;TZID=Europe/London:20260304T193000
DTEND;TZID=Europe/London:20260304T220000
DTSTAMP:20260420T074337
CREATED:20260127T100009Z
LAST-MODIFIED:20260126T150955Z
UID:10001547-1772652600-1772661600@www.penarthtowncouncil.gov.uk
SUMMARY:Come From Away
DESCRIPTION:The Paget Rooms\, Penarth\, CF64 3EG\n\n\n\n\nWednesday 4th March 2026 – Saturday 7th March 2026\n\n\n\nFrom Broadway to Newfoundland to Penarth – the worldwide smash musical that stole hearts across the globe lands soon! \nGet ready to be moved\, uplifted\, and completely captivated—Concept Players is bringing the hit musical Come From Away to the Paget Rooms\, and this is a show you won’t want to miss. Based on the remarkable true story of 7\,000 stranded passengers and the small Newfoundland town that welcomed them after 9/11\, Come From Away is a powerful reminder of humanity at its best. With its driving folk-rock score\, quick-fire storytelling\, and genuine heart\, this musical delivers an unforgettable theatre experience that’s both deeply emotional and surprisingly funny. \nWhether you’re a seasoned musical lover or a first-time theatre-goer\, Come From Away offers something rare: a story that grabs you from the first beat and doesn’t let go. It’s about kindness\, connection\, and finding hope in unexpected places. Concept Players is known for bold\, intimate productions\, and this one promises to be something special—raw\, real\, and filled with energy. Book early. This show is going to fly.
URL:https://www.penarthtowncouncil.gov.uk/event/come-from-away/
LOCATION:Paget Rooms Penarth\, Paget Rooms Penarth
CATEGORIES:Community Events,Film & Theatre
ATTACH;FMTTYPE=image/jpeg:https://www.penarthtowncouncil.gov.uk/ptcmedia/uploads/CFA-A4-Poster-RGB-480.jpg
END:VEVENT
BEGIN:VEVENT
DTSTART;TZID=Europe/London:20260226T190000
DTEND;TZID=Europe/London:20260226T220000
DTSTAMP:20260420T074337
CREATED:20251209T154701Z
LAST-MODIFIED:20251209T154707Z
UID:10001508-1772132400-1772143200@www.penarthtowncouncil.gov.uk
SUMMARY:National Theatre Live: The Audience
DESCRIPTION:The Audience by Peter Morgan\ndirected by Stephen Daldry \nReturning to cinemas for the first time in over a decade\, Helen Mirren plays Queen Elizabeth II in the  Olivier and Tony Award® -winning hit production\, directed by Stephen Daldry. \nFor 60 years\, Queen Elizabeth II met with each of her 12 prime ministers in a private weekly meeting. This meeting is known as The Audience. From Winston Churchill to Margaret Thatcher and David Cameron\, the Queen advised her prime ministers on matters both public and personal. Through these private audiences\, we see glimpses of the woman behind the crown and witness the moments that shaped a monarch. \nPeter Morgan’s Netflix phenomenon The Crown was based on this hit play that was captured live from London’s West End in 2013 and went on to become one of the most-watched NT Live productions.
URL:https://www.penarthtowncouncil.gov.uk/event/national-theatre-live-the-audience/
LOCATION:Paget Rooms Penarth\, Paget Rooms Penarth
CATEGORIES:Featured Events,Film & Theatre,Penarth Town Council Events
ATTACH;FMTTYPE=image/png:https://www.penarthtowncouncil.gov.uk/ptcmedia/uploads/NTL-2026-The-Audience-Listing-image-landscape.png
END:VEVENT
BEGIN:VEVENT
DTSTART;TZID=Europe/London:20260205T193000
DTEND;TZID=Europe/London:20260205T193000
DTSTAMP:20260420T074337
CREATED:20250821T150318Z
LAST-MODIFIED:20250922T121113Z
UID:10000671-1770319800-1770319800@www.penarthtowncouncil.gov.uk
SUMMARY:Val McDermid: Silent Bones
DESCRIPTION:One of the UK’s most accomplished and respected novelists\, number one bestseller Val McDermid is coming to Penarth for a special evening to celebrate the release of her new Karen Pirie thriller\, Silent Bones. With more than 19 million books sold worldwide and translations in over 40 languages\, Val’s gripping and intelligent crime fiction has earned her a devoted global readership. \nSILENT BONES:\nWhen torrential rain causes a landslide on a motorway in Scotland\, it reveals a crime scene: someone hid a body in the tarmac eleven years before. Journalist Sam Nimmo had been the prime suspect in the murder of his fiancée when he disappeared\, and now DCI Karen Pirie and her Historic Cases Unit must find out who buried him\, and why. Meanwhile\, in Edinburgh\, new evidence reopens a closed case\, and the accidental death of a hotel manager starts to look like murder. \nBut what did Tom Jamieson’s book club have to do with his demise – and what will they do to keep their secrets? Karen and her team begin to untangle a web of lies\, one which connects their murder cases with Scotland’s rich and powerful. They will be tested to their limits – and possibly beyond… \nVal McDermid has written five series of crime novels including eight featuring cold case detective Karen Pirie\, with Karen now starring in a major ITV series\, and eleven books with clinical psychologist Dr Tony Hill and DCI Carol Jordan which were adapted for television as Wire in the Blood\, starring Robson Green and Hermione Norris. Val has also published several award-winning standalone novels\, books of non-fiction\, short story collections and a children’s picture book\, My Granny is a Pirate. Her new Karen Pirie novel\, Silent Bones\, publishes in October 2025. \nVal has won multiple international awards\, including the CWA Gold Dagger\, the LA Times Book of the Year Award and the Grand Prix des Romans D’Aventure. She is a Fellow of both the Royal Society of Literature and the Royal Society of Edinburgh and has been a judge for the Women’s Prize for Fiction and the Man Booker Prize\, as well as chairing the Wellcome Book Prize in 2017. She is the recipient of seven honorary doctorates\, is an Honorary Fellow of St Hilda’s College\, Oxford and a Professor at the University of Otago in New Zealand. Val is also lead singer of the Fun Lovin’ Crime Writers\, a rock band who have performed at Glastonbury.  She lives in Edinburgh and the East Neuk of Fife. \n***\n5th February 2026 | 7.30 pm\nThe Paget Rooms\, Penarth \nTickets: £28.00 includes a SIGNED hardback copy of Silent Bones (RRP: £22.00)* / £12.00 Event Only** / £5.00 Student Ticket / £5.00 Inclusive Ticket \n*Any book not collected at the event will be held at Griffin Books for three months after the date of the event.\n** There are a limited number of Event Only tickets available.
URL:https://www.penarthtowncouncil.gov.uk/event/val-mcdermid-silent-bones/
LOCATION:Paget Rooms Penarth\, Paget Rooms Penarth
CATEGORIES:Community Events
ATTACH;FMTTYPE=image/png:https://www.penarthtowncouncil.gov.uk/ptcmedia/uploads/Newsletter-image-1000x525-7.png
END:VEVENT
BEGIN:VEVENT
DTSTART;TZID=Europe/London:20251218T180000
DTEND;TZID=Europe/London:20251218T220000
DTSTAMP:20260420T074337
CREATED:20251210T160055Z
LAST-MODIFIED:20251210T151039Z
UID:10001512-1766080800-1766095200@www.penarthtowncouncil.gov.uk
SUMMARY:Shwmae Penarth
DESCRIPTION:Shwmae Penarth: A documentary photography exhibition celebrating community within Penarth. 18th December 2025\, 18:00 – 22:00\, The Paget Rooms.
URL:https://www.penarthtowncouncil.gov.uk/event/shwmae-penarth/
LOCATION:Paget Rooms Penarth\, Paget Rooms Penarth
CATEGORIES:Community Events
ATTACH;FMTTYPE=image/png:https://www.penarthtowncouncil.gov.uk/ptcmedia/uploads/shwmae.png
END:VEVENT
BEGIN:VEVENT
DTSTART;TZID=Europe/London:20251208T193000
DTEND;TZID=Europe/London:20251208T210000
DTSTAMP:20260420T074337
CREATED:20251119T120038Z
LAST-MODIFIED:20251118T142714Z
UID:10000716-1765222200-1765227600@www.penarthtowncouncil.gov.uk
SUMMARY:Griffin Books | R. F. Kuang: Katabasis
DESCRIPTION:Join us in Penarth for an evening with R. F. Kuang\, the #1 Sunday Times bestselling author of Babel and global phenomenon Yellowface\, as she discusses her dazzling new novel Katabasis before taking audience questions. \nKatabasis (“descent to the underworld”) follows graduate student Alice Law\, who must journey to Hell with her rival Peter Murdoch to retrieve her dead mentor. But Hell is stranger and more perilous than imagined—and its greatest threat may be each other. A darkly funny and fiercely original story of ambition\, obsession\, and unexpected love\, Katabasis is one of 2025’s most anticipated novels. \n📅 Monday 8 December | 7.30 pm\n📍 The Paget Rooms\, Penarth \n🎟️ £30 (includes SIGNED hardback\, tote bag + pin badge) | £15 Event Only | £5 Inclusive\nBooks are pre-signed; no dedications.\nSuitable for ages 14+. \n👉 Book now: GriffinBooksEvents.co.uk
URL:https://www.penarthtowncouncil.gov.uk/event/griffin-books-r-f-kuang-katabasis/
LOCATION:Paget Rooms Penarth\, Paget Rooms Penarth
CATEGORIES:Community Events
ATTACH;FMTTYPE=image/png:https://www.penarthtowncouncil.gov.uk/ptcmedia/uploads/R.-F.-Kuang.png
END:VEVENT
BEGIN:VEVENT
DTSTART;TZID=Europe/London:20251106T190000
DTEND;TZID=Europe/London:20251106T210000
DTSTAMP:20260420T074337
CREATED:20251007T100018Z
LAST-MODIFIED:20251007T100018Z
UID:10000697-1762455600-1762462800@www.penarthtowncouncil.gov.uk
SUMMARY:NT Live: Mrs. Warren’s Profession
DESCRIPTION:Mrs. Warren’s Profession \nby Bernard Shaw \ndirected by Dominic Cooke \n  \nFive-time Olivier Award winner Imelda Staunton (The Crown) joins forces with her real-life daughter Bessie Carter (Bridgerton) for the very first time\, playing mother and daughter in Bernard Shaw’s incendiary moral classic. \nVivie Warren is a woman ahead of her time. Her mother\, however\, is a product of that old patriarchal order. Exploiting it has earned Mrs. Warren a fortune – but at what cost? \nFilmed live from the West End\, this new production reunites Staunton with director Dominic Cooke (Follies\, Good)\, exploring the clash between morality and independence\, traditions and progress.
URL:https://www.penarthtowncouncil.gov.uk/event/nt-live-mrs-warrens-profession/
LOCATION:Paget Rooms Penarth\, Paget Rooms Penarth
CATEGORIES:Film & Theatre,Penarth Town Council Events
ATTACH;FMTTYPE=image/jpeg:https://www.penarthtowncouncil.gov.uk/ptcmedia/uploads/NTL-2025-Mrs.-Warrens-Profession-Listing-Image-Landscape.jpg
END:VEVENT
BEGIN:VEVENT
DTSTART;TZID=Europe/London:20251031T113000
DTEND;TZID=Europe/London:20251031T133000
DTSTAMP:20260420T074337
CREATED:20250926T102311Z
LAST-MODIFIED:20250926T102312Z
UID:10000691-1761910200-1761917400@www.penarthtowncouncil.gov.uk
SUMMARY:Trick & Treat Circus Live in Penarth
DESCRIPTION:The hour-long spooktacular is perfect entertainment for the October Half Term holidays\, featuring family friendly characters\, rib-tickling laughter\, mind blowing magic\, fang-tastic tricks & treats galore. Suitable for even the smallest of monsters\, this spooky\, scare-free experience will get the whole family in the Halloween spirit. \nSo put on your costumes and get ready for a frightfully good time! \nVisiting the Paget Rooms in Penarth on Friday 31st October 2025 at 11.30am. \nTickets available now: http://www.ticketsource.co.uk/circus
URL:https://www.penarthtowncouncil.gov.uk/event/trick-treat-circus-live-in-penarth/
LOCATION:Paget Rooms Penarth\, Paget Rooms Penarth
CATEGORIES:Film & Theatre
ATTACH;FMTTYPE=image/png:https://www.penarthtowncouncil.gov.uk/ptcmedia/uploads/Artwork-cover.png
END:VEVENT
BEGIN:VEVENT
DTSTART;TZID=Europe/London:20251031T113000
DTEND;TZID=Europe/London:20251031T123000
DTSTAMP:20260420T074337
CREATED:20251028T140020Z
LAST-MODIFIED:20251028T104111Z
UID:10000703-1761910200-1761913800@www.penarthtowncouncil.gov.uk
SUMMARY:Trick & Treat Circus Live
DESCRIPTION:The hour-long spooktacular is perfect entertainment for the October Half Term holidays\, featuring family friendly characters\, rib-tickling laughter\, mind blowing magic\, fang-tastic tricks & treats galore. Suitable for even the smallest of monsters\, this spooky\, scare-free experience will get the whole family in the Halloween spirit. So put on your costumes and get ready for a frightfully good time! \nFor more information\, or to purchase tickets\, please visit https://www.ticketsource.co.uk/circus/trick-treat-circus-live-penarth/e-zomorl or contact 07906 854 269.
URL:https://www.penarthtowncouncil.gov.uk/event/trick-treat-circus-live/
LOCATION:Paget Rooms Penarth\, Paget Rooms Penarth
CATEGORIES:Community Events
ATTACH;FMTTYPE=image/png:https://www.penarthtowncouncil.gov.uk/ptcmedia/uploads/Artwork.png
END:VEVENT
BEGIN:VEVENT
DTSTART;TZID=Europe/London:20251023T190000
DTEND;TZID=Europe/London:20251023T190000
DTSTAMP:20260420T074337
CREATED:20250923T150046Z
LAST-MODIFIED:20250923T082609Z
UID:10000686-1761246000-1761246000@www.penarthtowncouncil.gov.uk
SUMMARY:Ted Kravitz: F1 Insider
DESCRIPTION:Step into the fast lane of Formula 1 with Sky Sports pit lane reporter Ted Kravitz as he takes you beyond the grid and into the heart of the sport’s most unforgettable moments. In his first book\, F1 Insider: Notes from the Pit Lane\, Ted looks back over nearly 30 years in Formula 1\, reliving the weird\, wonderful and extraordinary stories that shaped the modern era of racing. With his trademark ‘Notebook’ style\, he reveals what really happened behind the cameras – from the chaos of the garages to the politics of the podium.\n\nF1 Insider: Notes from the Pit Lane:\n\nExpect stories that range from the hilarious – Murray Walker in an air stewardess uniform\, serving champagne mid-flight – to the defining controversies of the sport\, including Ferrari’s infamous team orders in 2002\, Renault’s ‘Crashgate’ scandal\, and McLaren’s ‘Spygate’ espionage controversy. Ted also reflects on the champions who changed the game: the determination of Michael Schumacher\, the genius of Lewis Hamilton\, the brilliance of Alonso\, Vettel and Verstappen\, and the fresh energy of Leclerc\, Norris\, Sainz and Piastri.\n\nF1 Insider isn’t just about racing. It’s about the people behind the machines\, the human emotions that spill over in moments of triumph and despair\, and the drama that you didn’t see on your screen.Ted Kravitz is one of Formula 1’s most experienced and respected pit lane reporters. Over nearly three decades\, he has worked with ITV\, the BBC\, Channel 4 and Sky Sports\, reporting on four BAFTA award-winning programmes and becoming an institution in the sport through his much-loved ‘Ted’s Notebook’. His ability to explain complex technical details while capturing the high-stakes emotion of the paddock has made him a fan favourite. \nAn event not to be missed! \n***\nThursday 23 October | 7.00 pm\nThe Paget Rooms\, Penarth \nTickets: £30.00 includes a SIGNED hardback copy of F1 INSIDER (RRP: £22.00)* / £15.00 Event Only** / £10.00 Student or Child Ticket / £5.00 Inclusive Ticket \n*Any book not collected at the event will be held at Griffin Books for three months after the date of the event.\n** There are a limited number of Event Only tickets available. \n\n\n\nEvent Details\nStarts at 7:00PM
URL:https://www.penarthtowncouncil.gov.uk/event/ted-kravitz-f1-insider/
LOCATION:Paget Rooms Penarth\, Paget Rooms Penarth
CATEGORIES:Community Events
ATTACH;FMTTYPE=image/png:https://www.penarthtowncouncil.gov.uk/ptcmedia/uploads/Copy-of-Facebook-Template-High-Res.png
END:VEVENT
BEGIN:VEVENT
DTSTART;TZID=Europe/London:20250922T193000
DTEND;TZID=Europe/London:20250922T193000
DTSTAMP:20260420T074337
CREATED:20250814T144334Z
LAST-MODIFIED:20250903T084330Z
UID:10000666-1758569400-1758569400@www.penarthtowncouncil.gov.uk
SUMMARY:Joanna Page: LUSH!
DESCRIPTION:We’re thrilled to welcome Welsh actress and national treasure Joanna Page to Penarth to celebrate the publication of her memoir\, Lush! – a funny\, candid and endlessly surprising account of her journey from Swansea to stardom. \nWe can’t promise that you’ll find out what happened on *that* fishing trip\, but we can guarantee an unforgettable and totally lush night out! \n***\nFrom a small village on the outskirts of Swansea to the sets of Love Actually and Gavin & Stacey\, Joanna Page’s journey has been nothing short of extraordinary. In this heartfelt memoir\, Joanna shares her story in full for the first time – from awkward early auditions and chasing her big break\, to falling in love\, motherhood\, and emotional farewells to beloved roles. \nExpect behind-the-scenes stories with stars like Ruth Jones\, James Corden\, Emma Thompson and Johnny Depp\, plus honest reflections on life at RADA\, the madness of fame\, and finding your voice without losing yourself. This is a moving\, laugh-out-loud celebration of the messy\, magical moments that shape us. \nWe’re expecting this to be a very popular event\, so book early to avoid disappointment! \nJoanna Page was born in Swansea and attended her local comprehensive school before graduating from RADA in 1998. She spent a decade performing on stage with the Royal National Theatre and Royal Shakespeare Company\, before landing roles in major films such as From Hell\, Nativity 2: Danger in the Manger\, and Richard Curtis’ Love Actually. Joanna became a household name as Stacey Shipman in the BBC’s much-loved comedy Gavin & Stacey\, appearing in all three series\, the 2019 Christmas special\, and the final ever episode in 2024\, which became the UK’s most-watched scripted show since records began. \nAlongside her acting career\, Joanna regularly appears on TV as a presenter\, most recently fronting Joanna Page’s Wild Life for the BBC. When she’s not working\, she’s at home with her husband\, actor James Thornton\, their four children\, two dogs (Lola and Bess)\, and four guinea pigs.\nLush! is her first memoir. \n***\nMonday 22 September | 7.30 pm (Doors at 7.00pm)\nThe Paget Rooms\, Penarth \nTickets: £30.00 includes a SIGNED hardback copy of Lush! (RRP: £25.00)* / £15.00 Event Only* / £5.00 Student Ticket / £5.00 Inclusive Ticket \n*Any book not collected at the event will be held in Griffin Books for three months after the date of the event.\n**There are a limited number of Event Only tickets available for this event. \nPLEASE NOTE:\n– The balcony in this venue is not accessible to those unable to climb stairs. If you have additional accessibility needs please book a ticket in the ground floor seating area.\n– The minimum age of entry is 12-years-old.
URL:https://www.penarthtowncouncil.gov.uk/event/joanna-page-lush/
LOCATION:Paget Rooms Penarth\, Paget Rooms Penarth
CATEGORIES:Community Events
ATTACH;FMTTYPE=image/png:https://www.penarthtowncouncil.gov.uk/ptcmedia/uploads/Newsletter-image-1000x525-3.png
END:VEVENT
BEGIN:VEVENT
DTSTART;TZID=Europe/London:20250629T143000
DTEND;TZID=Europe/London:20250629T143000
DTSTAMP:20260420T074337
CREATED:20250602T111121Z
LAST-MODIFIED:20250611T092120Z
UID:10000630-1751207400-1751207400@www.penarthtowncouncil.gov.uk
SUMMARY:Disney's High School Musical on Stage
DESCRIPTION:Our young performers from PODyS are proud to present Disney’s High School Musical on Stage! This high-energy show follows the lives and friends of Troy\, a high school jock and Gabriella\, the new smart girl at school. Will they break free from their social stereotypes to audition for their school musical? \nFor more information\, or to purchase tickets\, please visit https://www.ticketsource.co.uk/pods
URL:https://www.penarthtowncouncil.gov.uk/event/disneys-high-school-musical-on-stage/2025-06-29/
LOCATION:Paget Rooms Penarth\, Paget Rooms Penarth
CATEGORIES:Community Events,Film & Theatre
ATTACH;FMTTYPE=image/png:https://www.penarthtowncouncil.gov.uk/ptcmedia/uploads/01546-17374083397573-m-002.png
END:VEVENT
BEGIN:VEVENT
DTSTART;TZID=Europe/London:20250628T190000
DTEND;TZID=Europe/London:20250628T190000
DTSTAMP:20260420T074337
CREATED:20250602T111121Z
LAST-MODIFIED:20250611T092120Z
UID:10000629-1751137200-1751137200@www.penarthtowncouncil.gov.uk
SUMMARY:Disney's High School Musical on Stage
DESCRIPTION:Our young performers from PODyS are proud to present Disney’s High School Musical on Stage! This high-energy show follows the lives and friends of Troy\, a high school jock and Gabriella\, the new smart girl at school. Will they break free from their social stereotypes to audition for their school musical? \nFor more information\, or to purchase tickets\, please visit https://www.ticketsource.co.uk/pods
URL:https://www.penarthtowncouncil.gov.uk/event/disneys-high-school-musical-on-stage/2025-06-28/
LOCATION:Paget Rooms Penarth\, Paget Rooms Penarth
CATEGORIES:Community Events,Film & Theatre
ATTACH;FMTTYPE=image/png:https://www.penarthtowncouncil.gov.uk/ptcmedia/uploads/01546-17374083397573-m-002.png
END:VEVENT
BEGIN:VEVENT
DTSTART;TZID=Europe/London:20250627T190000
DTEND;TZID=Europe/London:20250627T190000
DTSTAMP:20260420T074337
CREATED:20250602T111121Z
LAST-MODIFIED:20250611T092120Z
UID:10000628-1751050800-1751050800@www.penarthtowncouncil.gov.uk
SUMMARY:Disney's High School Musical on Stage
DESCRIPTION:Our young performers from PODyS are proud to present Disney’s High School Musical on Stage! This high-energy show follows the lives and friends of Troy\, a high school jock and Gabriella\, the new smart girl at school. Will they break free from their social stereotypes to audition for their school musical? \nFor more information\, or to purchase tickets\, please visit https://www.ticketsource.co.uk/pods
URL:https://www.penarthtowncouncil.gov.uk/event/disneys-high-school-musical-on-stage/2025-06-27/
LOCATION:Paget Rooms Penarth\, Paget Rooms Penarth
CATEGORIES:Community Events,Film & Theatre
ATTACH;FMTTYPE=image/png:https://www.penarthtowncouncil.gov.uk/ptcmedia/uploads/01546-17374083397573-m-002.png
END:VEVENT
BEGIN:VEVENT
DTSTART;TZID=Europe/London:20250601T190000
DTEND;TZID=Europe/London:20250601T213000
DTSTAMP:20260420T074337
CREATED:20250530T100304Z
LAST-MODIFIED:20250530T115837Z
UID:10000625-1748804400-1748813400@www.penarthtowncouncil.gov.uk
SUMMARY:Bring Him Home Concert
DESCRIPTION:✨ Join us for an enchanting evening of music\, starring incredible performers from Les Misérables in the West End. Be swept away by their breathtaking voices and West End classics in this unforgettable celebration. \n💖 Not only will you enjoy a night of world-class entertainment\, but you’ll also be supporting a life-saving cause—raising funds for Heart Screening and Defibrillators across the country. \n📅 When: Sunday 1st June 2025 at 7pm\n📍 Where: The Paget Rooms\, Penarth \n🎟️ Book your tickets now and be part of something special!
URL:https://www.penarthtowncouncil.gov.uk/event/bring-him-home-concert/
LOCATION:Paget Rooms Penarth\, Paget Rooms Penarth
CATEGORIES:Council Meetings,Music
ATTACH;FMTTYPE=image/jpeg:https://www.penarthtowncouncil.gov.uk/ptcmedia/uploads/IMG_7268.jpg
END:VEVENT
END:VCALENDAR