BEGIN:VCALENDAR
VERSION:2.0
PRODID:-//penarthtowncouncil.gov.uk - ECPv6.15.20//NONSGML v1.0//EN
CALSCALE:GREGORIAN
METHOD:PUBLISH
X-WR-CALNAME:penarthtowncouncil.gov.uk
X-ORIGINAL-URL:https://www.penarthtowncouncil.gov.uk
X-WR-CALDESC:Events for penarthtowncouncil.gov.uk
REFRESH-INTERVAL;VALUE=DURATION:PT1H
X-Robots-Tag:noindex
X-PUBLISHED-TTL:PT1H
BEGIN:VTIMEZONE
TZID:Europe/London
BEGIN:DAYLIGHT
TZOFFSETFROM:+0000
TZOFFSETTO:+0100
TZNAME:BST
DTSTART:20240331T010000
END:DAYLIGHT
BEGIN:STANDARD
TZOFFSETFROM:+0100
TZOFFSETTO:+0000
TZNAME:GMT
DTSTART:20241027T010000
END:STANDARD
BEGIN:DAYLIGHT
TZOFFSETFROM:+0000
TZOFFSETTO:+0100
TZNAME:BST
DTSTART:20250330T010000
END:DAYLIGHT
BEGIN:STANDARD
TZOFFSETFROM:+0100
TZOFFSETTO:+0000
TZNAME:GMT
DTSTART:20251026T010000
END:STANDARD
BEGIN:DAYLIGHT
TZOFFSETFROM:+0000
TZOFFSETTO:+0100
TZNAME:BST
DTSTART:20260329T010000
END:DAYLIGHT
BEGIN:STANDARD
TZOFFSETFROM:+0100
TZOFFSETTO:+0000
TZNAME:GMT
DTSTART:20261025T010000
END:STANDARD
END:VTIMEZONE
BEGIN:VEVENT
DTSTART;TZID=Europe/London:20250806T100000
DTEND;TZID=Europe/London:20250806T120000
DTSTAMP:20260420T103235
CREATED:20210616T090526Z
LAST-MODIFIED:20250502T092626Z
UID:10000354-1754474400-1754481600@www.penarthtowncouncil.gov.uk
SUMMARY:Singing and Social Groups for Older Adults
DESCRIPTION:With Music in Mind‘s Penarth Group sessions run each Wednesday (apart from the second Wednesday in each month) from 10:00am to 12:00pm at St. Augustine’s Parish Hall. \nTheir groups are informal and inclusive. Groups cost £5 (carers go free)\, and your first session is free of charge. \nDue to restrictions on numbers\, it is essential to book a place before attending each time. \nYou can book a place via their website here\, via phone at 07500 776 295 or via email at info@withmusicinmind.co.uk.
URL:https://www.penarthtowncouncil.gov.uk/event/singing-and-social-groups-for-older-adults/2025-08-06/
LOCATION:St. Augustine’s Parish Hall\, Albert Road\, Penarth\, CF64 1BX
CATEGORIES:Community Events,Courses and Classes
ATTACH;FMTTYPE=image/jpeg:https://www.penarthtowncouncil.gov.uk/ptcmedia/uploads/WMIM-scaled.jpg
GEO:51.4414663;-3.1722673
X-APPLE-STRUCTURED-LOCATION;VALUE=URI;X-ADDRESS=St. Augustine’s Parish Hall Albert Road Penarth CF64 1BX;X-APPLE-RADIUS=500;X-TITLE=Albert Road:geo:-3.1722673,51.4414663
END:VEVENT
BEGIN:VEVENT
DTSTART;TZID=Europe/London:20250730T100000
DTEND;TZID=Europe/London:20250730T120000
DTSTAMP:20260420T103235
CREATED:20210616T090526Z
LAST-MODIFIED:20250502T092626Z
UID:10000353-1753869600-1753876800@www.penarthtowncouncil.gov.uk
SUMMARY:Singing and Social Groups for Older Adults
DESCRIPTION:With Music in Mind‘s Penarth Group sessions run each Wednesday (apart from the second Wednesday in each month) from 10:00am to 12:00pm at St. Augustine’s Parish Hall. \nTheir groups are informal and inclusive. Groups cost £5 (carers go free)\, and your first session is free of charge. \nDue to restrictions on numbers\, it is essential to book a place before attending each time. \nYou can book a place via their website here\, via phone at 07500 776 295 or via email at info@withmusicinmind.co.uk.
URL:https://www.penarthtowncouncil.gov.uk/event/singing-and-social-groups-for-older-adults/2025-07-30/
LOCATION:St. Augustine’s Parish Hall\, Albert Road\, Penarth\, CF64 1BX
CATEGORIES:Community Events,Courses and Classes
ATTACH;FMTTYPE=image/jpeg:https://www.penarthtowncouncil.gov.uk/ptcmedia/uploads/WMIM-scaled.jpg
GEO:51.4414663;-3.1722673
X-APPLE-STRUCTURED-LOCATION;VALUE=URI;X-ADDRESS=St. Augustine’s Parish Hall Albert Road Penarth CF64 1BX;X-APPLE-RADIUS=500;X-TITLE=Albert Road:geo:-3.1722673,51.4414663
END:VEVENT
BEGIN:VEVENT
DTSTART;TZID=Europe/London:20250723T100000
DTEND;TZID=Europe/London:20250723T120000
DTSTAMP:20260420T103236
CREATED:20210616T090526Z
LAST-MODIFIED:20250502T092626Z
UID:10000352-1753264800-1753272000@www.penarthtowncouncil.gov.uk
SUMMARY:Singing and Social Groups for Older Adults
DESCRIPTION:With Music in Mind‘s Penarth Group sessions run each Wednesday (apart from the second Wednesday in each month) from 10:00am to 12:00pm at St. Augustine’s Parish Hall. \nTheir groups are informal and inclusive. Groups cost £5 (carers go free)\, and your first session is free of charge. \nDue to restrictions on numbers\, it is essential to book a place before attending each time. \nYou can book a place via their website here\, via phone at 07500 776 295 or via email at info@withmusicinmind.co.uk.
URL:https://www.penarthtowncouncil.gov.uk/event/singing-and-social-groups-for-older-adults/2025-07-23/
LOCATION:St. Augustine’s Parish Hall\, Albert Road\, Penarth\, CF64 1BX
CATEGORIES:Community Events,Courses and Classes
ATTACH;FMTTYPE=image/jpeg:https://www.penarthtowncouncil.gov.uk/ptcmedia/uploads/WMIM-scaled.jpg
GEO:51.4414663;-3.1722673
X-APPLE-STRUCTURED-LOCATION;VALUE=URI;X-ADDRESS=St. Augustine’s Parish Hall Albert Road Penarth CF64 1BX;X-APPLE-RADIUS=500;X-TITLE=Albert Road:geo:-3.1722673,51.4414663
END:VEVENT
BEGIN:VEVENT
DTSTART;TZID=Europe/London:20250716T100000
DTEND;TZID=Europe/London:20250716T120000
DTSTAMP:20260420T103236
CREATED:20210616T090526Z
LAST-MODIFIED:20250502T092626Z
UID:10000351-1752660000-1752667200@www.penarthtowncouncil.gov.uk
SUMMARY:Singing and Social Groups for Older Adults
DESCRIPTION:With Music in Mind‘s Penarth Group sessions run each Wednesday (apart from the second Wednesday in each month) from 10:00am to 12:00pm at St. Augustine’s Parish Hall. \nTheir groups are informal and inclusive. Groups cost £5 (carers go free)\, and your first session is free of charge. \nDue to restrictions on numbers\, it is essential to book a place before attending each time. \nYou can book a place via their website here\, via phone at 07500 776 295 or via email at info@withmusicinmind.co.uk.
URL:https://www.penarthtowncouncil.gov.uk/event/singing-and-social-groups-for-older-adults/2025-07-16/
LOCATION:St. Augustine’s Parish Hall\, Albert Road\, Penarth\, CF64 1BX
CATEGORIES:Community Events,Courses and Classes
ATTACH;FMTTYPE=image/jpeg:https://www.penarthtowncouncil.gov.uk/ptcmedia/uploads/WMIM-scaled.jpg
GEO:51.4414663;-3.1722673
X-APPLE-STRUCTURED-LOCATION;VALUE=URI;X-ADDRESS=St. Augustine’s Parish Hall Albert Road Penarth CF64 1BX;X-APPLE-RADIUS=500;X-TITLE=Albert Road:geo:-3.1722673,51.4414663
END:VEVENT
BEGIN:VEVENT
DTSTART;TZID=Europe/London:20250709T100000
DTEND;TZID=Europe/London:20250709T120000
DTSTAMP:20260420T103236
CREATED:20210616T090526Z
LAST-MODIFIED:20250502T092626Z
UID:10000350-1752055200-1752062400@www.penarthtowncouncil.gov.uk
SUMMARY:Singing and Social Groups for Older Adults
DESCRIPTION:With Music in Mind‘s Penarth Group sessions run each Wednesday (apart from the second Wednesday in each month) from 10:00am to 12:00pm at St. Augustine’s Parish Hall. \nTheir groups are informal and inclusive. Groups cost £5 (carers go free)\, and your first session is free of charge. \nDue to restrictions on numbers\, it is essential to book a place before attending each time. \nYou can book a place via their website here\, via phone at 07500 776 295 or via email at info@withmusicinmind.co.uk.
URL:https://www.penarthtowncouncil.gov.uk/event/singing-and-social-groups-for-older-adults/2025-07-09/
LOCATION:St. Augustine’s Parish Hall\, Albert Road\, Penarth\, CF64 1BX
CATEGORIES:Community Events,Courses and Classes
ATTACH;FMTTYPE=image/jpeg:https://www.penarthtowncouncil.gov.uk/ptcmedia/uploads/WMIM-scaled.jpg
GEO:51.4414663;-3.1722673
X-APPLE-STRUCTURED-LOCATION;VALUE=URI;X-ADDRESS=St. Augustine’s Parish Hall Albert Road Penarth CF64 1BX;X-APPLE-RADIUS=500;X-TITLE=Albert Road:geo:-3.1722673,51.4414663
END:VEVENT
BEGIN:VEVENT
DTSTART;TZID=Europe/London:20250702T100000
DTEND;TZID=Europe/London:20250702T120000
DTSTAMP:20260420T103236
CREATED:20210616T090526Z
LAST-MODIFIED:20250502T092626Z
UID:10000258-1751450400-1751457600@www.penarthtowncouncil.gov.uk
SUMMARY:Singing and Social Groups for Older Adults
DESCRIPTION:With Music in Mind‘s Penarth Group sessions run each Wednesday (apart from the second Wednesday in each month) from 10:00am to 12:00pm at St. Augustine’s Parish Hall. \nTheir groups are informal and inclusive. Groups cost £5 (carers go free)\, and your first session is free of charge. \nDue to restrictions on numbers\, it is essential to book a place before attending each time. \nYou can book a place via their website here\, via phone at 07500 776 295 or via email at info@withmusicinmind.co.uk.
URL:https://www.penarthtowncouncil.gov.uk/event/singing-and-social-groups-for-older-adults/2025-07-02/
LOCATION:St. Augustine’s Parish Hall\, Albert Road\, Penarth\, CF64 1BX
CATEGORIES:Community Events,Courses and Classes
ATTACH;FMTTYPE=image/jpeg:https://www.penarthtowncouncil.gov.uk/ptcmedia/uploads/WMIM-scaled.jpg
GEO:51.4414663;-3.1722673
X-APPLE-STRUCTURED-LOCATION;VALUE=URI;X-ADDRESS=St. Augustine’s Parish Hall Albert Road Penarth CF64 1BX;X-APPLE-RADIUS=500;X-TITLE=Albert Road:geo:-3.1722673,51.4414663
END:VEVENT
BEGIN:VEVENT
DTSTART;TZID=Europe/London:20250625T100000
DTEND;TZID=Europe/London:20250625T120000
DTSTAMP:20260420T103236
CREATED:20210616T090526Z
LAST-MODIFIED:20250502T092626Z
UID:10000257-1750845600-1750852800@www.penarthtowncouncil.gov.uk
SUMMARY:Singing and Social Groups for Older Adults
DESCRIPTION:With Music in Mind‘s Penarth Group sessions run each Wednesday (apart from the second Wednesday in each month) from 10:00am to 12:00pm at St. Augustine’s Parish Hall. \nTheir groups are informal and inclusive. Groups cost £5 (carers go free)\, and your first session is free of charge. \nDue to restrictions on numbers\, it is essential to book a place before attending each time. \nYou can book a place via their website here\, via phone at 07500 776 295 or via email at info@withmusicinmind.co.uk.
URL:https://www.penarthtowncouncil.gov.uk/event/singing-and-social-groups-for-older-adults/2025-06-25/
LOCATION:St. Augustine’s Parish Hall\, Albert Road\, Penarth\, CF64 1BX
CATEGORIES:Community Events,Courses and Classes
ATTACH;FMTTYPE=image/jpeg:https://www.penarthtowncouncil.gov.uk/ptcmedia/uploads/WMIM-scaled.jpg
GEO:51.4414663;-3.1722673
X-APPLE-STRUCTURED-LOCATION;VALUE=URI;X-ADDRESS=St. Augustine’s Parish Hall Albert Road Penarth CF64 1BX;X-APPLE-RADIUS=500;X-TITLE=Albert Road:geo:-3.1722673,51.4414663
END:VEVENT
BEGIN:VEVENT
DTSTART;TZID=Europe/London:20250618T100000
DTEND;TZID=Europe/London:20250618T120000
DTSTAMP:20260420T103237
CREATED:20210616T090526Z
LAST-MODIFIED:20250502T092626Z
UID:10000256-1750240800-1750248000@www.penarthtowncouncil.gov.uk
SUMMARY:Singing and Social Groups for Older Adults
DESCRIPTION:With Music in Mind‘s Penarth Group sessions run each Wednesday (apart from the second Wednesday in each month) from 10:00am to 12:00pm at St. Augustine’s Parish Hall. \nTheir groups are informal and inclusive. Groups cost £5 (carers go free)\, and your first session is free of charge. \nDue to restrictions on numbers\, it is essential to book a place before attending each time. \nYou can book a place via their website here\, via phone at 07500 776 295 or via email at info@withmusicinmind.co.uk.
URL:https://www.penarthtowncouncil.gov.uk/event/singing-and-social-groups-for-older-adults/2025-06-18/
LOCATION:St. Augustine’s Parish Hall\, Albert Road\, Penarth\, CF64 1BX
CATEGORIES:Community Events,Courses and Classes
ATTACH;FMTTYPE=image/jpeg:https://www.penarthtowncouncil.gov.uk/ptcmedia/uploads/WMIM-scaled.jpg
GEO:51.4414663;-3.1722673
X-APPLE-STRUCTURED-LOCATION;VALUE=URI;X-ADDRESS=St. Augustine’s Parish Hall Albert Road Penarth CF64 1BX;X-APPLE-RADIUS=500;X-TITLE=Albert Road:geo:-3.1722673,51.4414663
END:VEVENT
BEGIN:VEVENT
DTSTART;TZID=Europe/London:20250611T100000
DTEND;TZID=Europe/London:20250611T120000
DTSTAMP:20260420T103237
CREATED:20210616T090526Z
LAST-MODIFIED:20250502T092626Z
UID:10000255-1749636000-1749643200@www.penarthtowncouncil.gov.uk
SUMMARY:Singing and Social Groups for Older Adults
DESCRIPTION:With Music in Mind‘s Penarth Group sessions run each Wednesday (apart from the second Wednesday in each month) from 10:00am to 12:00pm at St. Augustine’s Parish Hall. \nTheir groups are informal and inclusive. Groups cost £5 (carers go free)\, and your first session is free of charge. \nDue to restrictions on numbers\, it is essential to book a place before attending each time. \nYou can book a place via their website here\, via phone at 07500 776 295 or via email at info@withmusicinmind.co.uk.
URL:https://www.penarthtowncouncil.gov.uk/event/singing-and-social-groups-for-older-adults/2025-06-11/
LOCATION:St. Augustine’s Parish Hall\, Albert Road\, Penarth\, CF64 1BX
CATEGORIES:Community Events,Courses and Classes
ATTACH;FMTTYPE=image/jpeg:https://www.penarthtowncouncil.gov.uk/ptcmedia/uploads/WMIM-scaled.jpg
GEO:51.4414663;-3.1722673
X-APPLE-STRUCTURED-LOCATION;VALUE=URI;X-ADDRESS=St. Augustine’s Parish Hall Albert Road Penarth CF64 1BX;X-APPLE-RADIUS=500;X-TITLE=Albert Road:geo:-3.1722673,51.4414663
END:VEVENT
BEGIN:VEVENT
DTSTART;TZID=Europe/London:20250604T100000
DTEND;TZID=Europe/London:20250604T120000
DTSTAMP:20260420T103237
CREATED:20210616T090526Z
LAST-MODIFIED:20250502T092626Z
UID:10000254-1749031200-1749038400@www.penarthtowncouncil.gov.uk
SUMMARY:Singing and Social Groups for Older Adults
DESCRIPTION:With Music in Mind‘s Penarth Group sessions run each Wednesday (apart from the second Wednesday in each month) from 10:00am to 12:00pm at St. Augustine’s Parish Hall. \nTheir groups are informal and inclusive. Groups cost £5 (carers go free)\, and your first session is free of charge. \nDue to restrictions on numbers\, it is essential to book a place before attending each time. \nYou can book a place via their website here\, via phone at 07500 776 295 or via email at info@withmusicinmind.co.uk.
URL:https://www.penarthtowncouncil.gov.uk/event/singing-and-social-groups-for-older-adults/2025-06-04/
LOCATION:St. Augustine’s Parish Hall\, Albert Road\, Penarth\, CF64 1BX
CATEGORIES:Community Events,Courses and Classes
ATTACH;FMTTYPE=image/jpeg:https://www.penarthtowncouncil.gov.uk/ptcmedia/uploads/WMIM-scaled.jpg
GEO:51.4414663;-3.1722673
X-APPLE-STRUCTURED-LOCATION;VALUE=URI;X-ADDRESS=St. Augustine’s Parish Hall Albert Road Penarth CF64 1BX;X-APPLE-RADIUS=500;X-TITLE=Albert Road:geo:-3.1722673,51.4414663
END:VEVENT
BEGIN:VEVENT
DTSTART;TZID=Europe/London:20250528T100000
DTEND;TZID=Europe/London:20250528T120000
DTSTAMP:20260420T103237
CREATED:20210616T090526Z
LAST-MODIFIED:20250502T092626Z
UID:10000253-1748426400-1748433600@www.penarthtowncouncil.gov.uk
SUMMARY:Singing and Social Groups for Older Adults
DESCRIPTION:With Music in Mind‘s Penarth Group sessions run each Wednesday (apart from the second Wednesday in each month) from 10:00am to 12:00pm at St. Augustine’s Parish Hall. \nTheir groups are informal and inclusive. Groups cost £5 (carers go free)\, and your first session is free of charge. \nDue to restrictions on numbers\, it is essential to book a place before attending each time. \nYou can book a place via their website here\, via phone at 07500 776 295 or via email at info@withmusicinmind.co.uk.
URL:https://www.penarthtowncouncil.gov.uk/event/singing-and-social-groups-for-older-adults/2025-05-28/
LOCATION:St. Augustine’s Parish Hall\, Albert Road\, Penarth\, CF64 1BX
CATEGORIES:Community Events,Courses and Classes
ATTACH;FMTTYPE=image/jpeg:https://www.penarthtowncouncil.gov.uk/ptcmedia/uploads/WMIM-scaled.jpg
GEO:51.4414663;-3.1722673
X-APPLE-STRUCTURED-LOCATION;VALUE=URI;X-ADDRESS=St. Augustine’s Parish Hall Albert Road Penarth CF64 1BX;X-APPLE-RADIUS=500;X-TITLE=Albert Road:geo:-3.1722673,51.4414663
END:VEVENT
BEGIN:VEVENT
DTSTART;TZID=Europe/London:20250521T100000
DTEND;TZID=Europe/London:20250521T120000
DTSTAMP:20260420T103237
CREATED:20210616T090526Z
LAST-MODIFIED:20250502T092626Z
UID:10000252-1747821600-1747828800@www.penarthtowncouncil.gov.uk
SUMMARY:Singing and Social Groups for Older Adults
DESCRIPTION:With Music in Mind‘s Penarth Group sessions run each Wednesday (apart from the second Wednesday in each month) from 10:00am to 12:00pm at St. Augustine’s Parish Hall. \nTheir groups are informal and inclusive. Groups cost £5 (carers go free)\, and your first session is free of charge. \nDue to restrictions on numbers\, it is essential to book a place before attending each time. \nYou can book a place via their website here\, via phone at 07500 776 295 or via email at info@withmusicinmind.co.uk.
URL:https://www.penarthtowncouncil.gov.uk/event/singing-and-social-groups-for-older-adults/2025-05-21/
LOCATION:St. Augustine’s Parish Hall\, Albert Road\, Penarth\, CF64 1BX
CATEGORIES:Community Events,Courses and Classes
ATTACH;FMTTYPE=image/jpeg:https://www.penarthtowncouncil.gov.uk/ptcmedia/uploads/WMIM-scaled.jpg
GEO:51.4414663;-3.1722673
X-APPLE-STRUCTURED-LOCATION;VALUE=URI;X-ADDRESS=St. Augustine’s Parish Hall Albert Road Penarth CF64 1BX;X-APPLE-RADIUS=500;X-TITLE=Albert Road:geo:-3.1722673,51.4414663
END:VEVENT
BEGIN:VEVENT
DTSTART;TZID=Europe/London:20250514T100000
DTEND;TZID=Europe/London:20250514T120000
DTSTAMP:20260420T103237
CREATED:20210616T090526Z
LAST-MODIFIED:20250502T092626Z
UID:10000251-1747216800-1747224000@www.penarthtowncouncil.gov.uk
SUMMARY:Singing and Social Groups for Older Adults
DESCRIPTION:With Music in Mind‘s Penarth Group sessions run each Wednesday (apart from the second Wednesday in each month) from 10:00am to 12:00pm at St. Augustine’s Parish Hall. \nTheir groups are informal and inclusive. Groups cost £5 (carers go free)\, and your first session is free of charge. \nDue to restrictions on numbers\, it is essential to book a place before attending each time. \nYou can book a place via their website here\, via phone at 07500 776 295 or via email at info@withmusicinmind.co.uk.
URL:https://www.penarthtowncouncil.gov.uk/event/singing-and-social-groups-for-older-adults/2025-05-14/
LOCATION:St. Augustine’s Parish Hall\, Albert Road\, Penarth\, CF64 1BX
CATEGORIES:Community Events,Courses and Classes
ATTACH;FMTTYPE=image/jpeg:https://www.penarthtowncouncil.gov.uk/ptcmedia/uploads/WMIM-scaled.jpg
GEO:51.4414663;-3.1722673
X-APPLE-STRUCTURED-LOCATION;VALUE=URI;X-ADDRESS=St. Augustine’s Parish Hall Albert Road Penarth CF64 1BX;X-APPLE-RADIUS=500;X-TITLE=Albert Road:geo:-3.1722673,51.4414663
END:VEVENT
BEGIN:VEVENT
DTSTART;TZID=Europe/London:20250507T100000
DTEND;TZID=Europe/London:20250507T120000
DTSTAMP:20260420T103237
CREATED:20210616T090526Z
LAST-MODIFIED:20250502T092626Z
UID:10000250-1746612000-1746619200@www.penarthtowncouncil.gov.uk
SUMMARY:Singing and Social Groups for Older Adults
DESCRIPTION:With Music in Mind‘s Penarth Group sessions run each Wednesday (apart from the second Wednesday in each month) from 10:00am to 12:00pm at St. Augustine’s Parish Hall. \nTheir groups are informal and inclusive. Groups cost £5 (carers go free)\, and your first session is free of charge. \nDue to restrictions on numbers\, it is essential to book a place before attending each time. \nYou can book a place via their website here\, via phone at 07500 776 295 or via email at info@withmusicinmind.co.uk.
URL:https://www.penarthtowncouncil.gov.uk/event/singing-and-social-groups-for-older-adults/2025-05-07/
LOCATION:St. Augustine’s Parish Hall\, Albert Road\, Penarth\, CF64 1BX
CATEGORIES:Community Events,Courses and Classes
ATTACH;FMTTYPE=image/jpeg:https://www.penarthtowncouncil.gov.uk/ptcmedia/uploads/WMIM-scaled.jpg
GEO:51.4414663;-3.1722673
X-APPLE-STRUCTURED-LOCATION;VALUE=URI;X-ADDRESS=St. Augustine’s Parish Hall Albert Road Penarth CF64 1BX;X-APPLE-RADIUS=500;X-TITLE=Albert Road:geo:-3.1722673,51.4414663
END:VEVENT
BEGIN:VEVENT
DTSTART;TZID=Europe/London:20250430T100000
DTEND;TZID=Europe/London:20250430T120000
DTSTAMP:20260420T103237
CREATED:20210616T090526Z
LAST-MODIFIED:20250502T092626Z
UID:10000249-1746007200-1746014400@www.penarthtowncouncil.gov.uk
SUMMARY:Singing and Social Groups for Older Adults
DESCRIPTION:With Music in Mind‘s Penarth Group sessions run each Wednesday (apart from the second Wednesday in each month) from 10:00am to 12:00pm at St. Augustine’s Parish Hall. \nTheir groups are informal and inclusive. Groups cost £5 (carers go free)\, and your first session is free of charge. \nDue to restrictions on numbers\, it is essential to book a place before attending each time. \nYou can book a place via their website here\, via phone at 07500 776 295 or via email at info@withmusicinmind.co.uk.
URL:https://www.penarthtowncouncil.gov.uk/event/singing-and-social-groups-for-older-adults/2025-04-30/
LOCATION:St. Augustine’s Parish Hall\, Albert Road\, Penarth\, CF64 1BX
CATEGORIES:Community Events,Courses and Classes
ATTACH;FMTTYPE=image/jpeg:https://www.penarthtowncouncil.gov.uk/ptcmedia/uploads/WMIM-scaled.jpg
GEO:51.4414663;-3.1722673
X-APPLE-STRUCTURED-LOCATION;VALUE=URI;X-ADDRESS=St. Augustine’s Parish Hall Albert Road Penarth CF64 1BX;X-APPLE-RADIUS=500;X-TITLE=Albert Road:geo:-3.1722673,51.4414663
END:VEVENT
BEGIN:VEVENT
DTSTART;TZID=Europe/London:20250423T100000
DTEND;TZID=Europe/London:20250423T120000
DTSTAMP:20260420T103238
CREATED:20210616T090526Z
LAST-MODIFIED:20250502T092626Z
UID:10000248-1745402400-1745409600@www.penarthtowncouncil.gov.uk
SUMMARY:Singing and Social Groups for Older Adults
DESCRIPTION:With Music in Mind‘s Penarth Group sessions run each Wednesday (apart from the second Wednesday in each month) from 10:00am to 12:00pm at St. Augustine’s Parish Hall. \nTheir groups are informal and inclusive. Groups cost £5 (carers go free)\, and your first session is free of charge. \nDue to restrictions on numbers\, it is essential to book a place before attending each time. \nYou can book a place via their website here\, via phone at 07500 776 295 or via email at info@withmusicinmind.co.uk.
URL:https://www.penarthtowncouncil.gov.uk/event/singing-and-social-groups-for-older-adults/2025-04-23/
LOCATION:St. Augustine’s Parish Hall\, Albert Road\, Penarth\, CF64 1BX
CATEGORIES:Community Events,Courses and Classes
ATTACH;FMTTYPE=image/jpeg:https://www.penarthtowncouncil.gov.uk/ptcmedia/uploads/WMIM-scaled.jpg
GEO:51.4414663;-3.1722673
X-APPLE-STRUCTURED-LOCATION;VALUE=URI;X-ADDRESS=St. Augustine’s Parish Hall Albert Road Penarth CF64 1BX;X-APPLE-RADIUS=500;X-TITLE=Albert Road:geo:-3.1722673,51.4414663
END:VEVENT
END:VCALENDAR