BEGIN:VCALENDAR
VERSION:2.0
PRODID:-//penarthtowncouncil.gov.uk - ECPv6.15.20//NONSGML v1.0//EN
CALSCALE:GREGORIAN
METHOD:PUBLISH
X-ORIGINAL-URL:https://www.penarthtowncouncil.gov.uk
X-WR-CALDESC:Events for penarthtowncouncil.gov.uk
REFRESH-INTERVAL;VALUE=DURATION:PT1H
X-Robots-Tag:noindex
X-PUBLISHED-TTL:PT1H
BEGIN:VTIMEZONE
TZID:Europe/London
BEGIN:DAYLIGHT
TZOFFSETFROM:+0000
TZOFFSETTO:+0100
TZNAME:BST
DTSTART:20250330T010000
END:DAYLIGHT
BEGIN:STANDARD
TZOFFSETFROM:+0100
TZOFFSETTO:+0000
TZNAME:GMT
DTSTART:20251026T010000
END:STANDARD
BEGIN:DAYLIGHT
TZOFFSETFROM:+0000
TZOFFSETTO:+0100
TZNAME:BST
DTSTART:20260329T010000
END:DAYLIGHT
BEGIN:STANDARD
TZOFFSETFROM:+0100
TZOFFSETTO:+0000
TZNAME:GMT
DTSTART:20261025T010000
END:STANDARD
BEGIN:DAYLIGHT
TZOFFSETFROM:+0000
TZOFFSETTO:+0100
TZNAME:BST
DTSTART:20270328T010000
END:DAYLIGHT
BEGIN:STANDARD
TZOFFSETFROM:+0100
TZOFFSETTO:+0000
TZNAME:GMT
DTSTART:20271031T010000
END:STANDARD
END:VTIMEZONE
BEGIN:VEVENT
DTSTART;TZID=Europe/London:20260513T193000
DTEND;TZID=Europe/London:20260513T220000
DTSTAMP:20260423T115433
CREATED:20260420T160006Z
LAST-MODIFIED:20260420T113558Z
UID:10001579-1778700600-1778709600@www.penarthtowncouncil.gov.uk
SUMMARY:We Will Rock You
DESCRIPTION:Penarth Operatic and Dramatic Society Presents ‘We Will Rock You.’\nMusic and Lyrics by Queen\nStory and Script by Ben Elton\nOriginal Vocal Score by Brian May\, Roger Taylor & Mike Dixon \nWednesday 13th May 2026 – Saturday 16th May 2026\nThe Paget Rooms\, Penarth\, CF64 2YG \nTickets available at https://www.ticketsource.com/pods/we-will-rock-you/e-gpglog
URL:https://www.penarthtowncouncil.gov.uk/event/we-will-rock-you/2026-05-13/
LOCATION:Paget Rooms Penarth\, Paget Rooms Penarth
CATEGORIES:Community Events,Film & Theatre
ATTACH;FMTTYPE=image/jpeg:https://www.penarthtowncouncil.gov.uk/ptcmedia/uploads/PODS_WWRY_Instagram_1080x1080px_1pp_v1.jpg
END:VEVENT
BEGIN:VEVENT
DTSTART;TZID=Europe/London:20260514T193000
DTEND;TZID=Europe/London:20260514T220000
DTSTAMP:20260423T115433
CREATED:20260420T160006Z
LAST-MODIFIED:20260420T113558Z
UID:10001580-1778787000-1778796000@www.penarthtowncouncil.gov.uk
SUMMARY:We Will Rock You
DESCRIPTION:Penarth Operatic and Dramatic Society Presents ‘We Will Rock You.’\nMusic and Lyrics by Queen\nStory and Script by Ben Elton\nOriginal Vocal Score by Brian May\, Roger Taylor & Mike Dixon \nWednesday 13th May 2026 – Saturday 16th May 2026\nThe Paget Rooms\, Penarth\, CF64 2YG \nTickets available at https://www.ticketsource.com/pods/we-will-rock-you/e-gpglog
URL:https://www.penarthtowncouncil.gov.uk/event/we-will-rock-you/2026-05-14/
LOCATION:Paget Rooms Penarth\, Paget Rooms Penarth
CATEGORIES:Community Events,Film & Theatre
ATTACH;FMTTYPE=image/jpeg:https://www.penarthtowncouncil.gov.uk/ptcmedia/uploads/PODS_WWRY_Instagram_1080x1080px_1pp_v1.jpg
END:VEVENT
BEGIN:VEVENT
DTSTART;TZID=Europe/London:20260515T193000
DTEND;TZID=Europe/London:20260515T220000
DTSTAMP:20260423T115433
CREATED:20260420T160006Z
LAST-MODIFIED:20260420T113558Z
UID:10001581-1778873400-1778882400@www.penarthtowncouncil.gov.uk
SUMMARY:We Will Rock You
DESCRIPTION:Penarth Operatic and Dramatic Society Presents ‘We Will Rock You.’\nMusic and Lyrics by Queen\nStory and Script by Ben Elton\nOriginal Vocal Score by Brian May\, Roger Taylor & Mike Dixon \nWednesday 13th May 2026 – Saturday 16th May 2026\nThe Paget Rooms\, Penarth\, CF64 2YG \nTickets available at https://www.ticketsource.com/pods/we-will-rock-you/e-gpglog
URL:https://www.penarthtowncouncil.gov.uk/event/we-will-rock-you/2026-05-15/
LOCATION:Paget Rooms Penarth\, Paget Rooms Penarth
CATEGORIES:Community Events,Film & Theatre
ATTACH;FMTTYPE=image/jpeg:https://www.penarthtowncouncil.gov.uk/ptcmedia/uploads/PODS_WWRY_Instagram_1080x1080px_1pp_v1.jpg
END:VEVENT
BEGIN:VEVENT
DTSTART;TZID=Europe/London:20260516T140000
DTEND;TZID=Europe/London:20260516T163000
DTSTAMP:20260423T115433
CREATED:20260420T160006Z
LAST-MODIFIED:20260420T113558Z
UID:10001582-1778940000-1778949000@www.penarthtowncouncil.gov.uk
SUMMARY:We Will Rock You
DESCRIPTION:Penarth Operatic and Dramatic Society Presents ‘We Will Rock You.’\nMusic and Lyrics by Queen\nStory and Script by Ben Elton\nOriginal Vocal Score by Brian May\, Roger Taylor & Mike Dixon \nWednesday 13th May 2026 – Saturday 16th May 2026\nThe Paget Rooms\, Penarth\, CF64 2YG \nTickets available at https://www.ticketsource.com/pods/we-will-rock-you/e-gpglog
URL:https://www.penarthtowncouncil.gov.uk/event/we-will-rock-you/2026-05-16/1/
LOCATION:Paget Rooms Penarth\, Paget Rooms Penarth
CATEGORIES:Community Events,Film & Theatre
ATTACH;FMTTYPE=image/jpeg:https://www.penarthtowncouncil.gov.uk/ptcmedia/uploads/PODS_WWRY_Instagram_1080x1080px_1pp_v1.jpg
END:VEVENT
BEGIN:VEVENT
DTSTART;TZID=Europe/London:20260516T193000
DTEND;TZID=Europe/London:20260516T220000
DTSTAMP:20260423T115433
CREATED:20260420T160006Z
LAST-MODIFIED:20260420T113558Z
UID:10001583-1778959800-1778968800@www.penarthtowncouncil.gov.uk
SUMMARY:We Will Rock You
DESCRIPTION:Penarth Operatic and Dramatic Society Presents ‘We Will Rock You.’\nMusic and Lyrics by Queen\nStory and Script by Ben Elton\nOriginal Vocal Score by Brian May\, Roger Taylor & Mike Dixon \nWednesday 13th May 2026 – Saturday 16th May 2026\nThe Paget Rooms\, Penarth\, CF64 2YG \nTickets available at https://www.ticketsource.com/pods/we-will-rock-you/e-gpglog
URL:https://www.penarthtowncouncil.gov.uk/event/we-will-rock-you/2026-05-16/2/
LOCATION:Paget Rooms Penarth\, Paget Rooms Penarth
CATEGORIES:Community Events,Film & Theatre
ATTACH;FMTTYPE=image/jpeg:https://www.penarthtowncouncil.gov.uk/ptcmedia/uploads/PODS_WWRY_Instagram_1080x1080px_1pp_v1.jpg
END:VEVENT
END:VCALENDAR