BEGIN:VCALENDAR
VERSION:2.0
PRODID:-//penarthtowncouncil.gov.uk - ECPv6.15.20//NONSGML v1.0//EN
CALSCALE:GREGORIAN
METHOD:PUBLISH
X-ORIGINAL-URL:https://www.penarthtowncouncil.gov.uk
X-WR-CALDESC:Events for penarthtowncouncil.gov.uk
REFRESH-INTERVAL;VALUE=DURATION:PT1H
X-Robots-Tag:noindex
X-PUBLISHED-TTL:PT1H
BEGIN:VTIMEZONE
TZID:Europe/London
BEGIN:DAYLIGHT
TZOFFSETFROM:+0000
TZOFFSETTO:+0100
TZNAME:BST
DTSTART:20250330T010000
END:DAYLIGHT
BEGIN:STANDARD
TZOFFSETFROM:+0100
TZOFFSETTO:+0000
TZNAME:GMT
DTSTART:20251026T010000
END:STANDARD
BEGIN:DAYLIGHT
TZOFFSETFROM:+0000
TZOFFSETTO:+0100
TZNAME:BST
DTSTART:20260329T010000
END:DAYLIGHT
BEGIN:STANDARD
TZOFFSETFROM:+0100
TZOFFSETTO:+0000
TZNAME:GMT
DTSTART:20261025T010000
END:STANDARD
BEGIN:DAYLIGHT
TZOFFSETFROM:+0000
TZOFFSETTO:+0100
TZNAME:BST
DTSTART:20270328T010000
END:DAYLIGHT
BEGIN:STANDARD
TZOFFSETFROM:+0100
TZOFFSETTO:+0000
TZNAME:GMT
DTSTART:20271031T010000
END:STANDARD
END:VTIMEZONE
BEGIN:VEVENT
DTSTART;TZID=Europe/London:20260311T100000
DTEND;TZID=Europe/London:20260311T120000
DTSTAMP:20260423T091537
CREATED:20210616T090526Z
LAST-MODIFIED:20250502T092626Z
UID:10000385-1773223200-1773230400@www.penarthtowncouncil.gov.uk
SUMMARY:Singing and Social Groups for Older Adults
DESCRIPTION:With Music in Mind‘s Penarth Group sessions run each Wednesday (apart from the second Wednesday in each month) from 10:00am to 12:00pm at St. Augustine’s Parish Hall. \nTheir groups are informal and inclusive. Groups cost £5 (carers go free)\, and your first session is free of charge. \nDue to restrictions on numbers\, it is essential to book a place before attending each time. \nYou can book a place via their website here\, via phone at 07500 776 295 or via email at info@withmusicinmind.co.uk.
URL:https://www.penarthtowncouncil.gov.uk/event/singing-and-social-groups-for-older-adults/2026-03-11/
LOCATION:St. Augustine’s Parish Hall\, Albert Road\, Penarth\, CF64 1BX
CATEGORIES:Community Events,Courses and Classes
ATTACH;FMTTYPE=image/jpeg:https://www.penarthtowncouncil.gov.uk/ptcmedia/uploads/WMIM-scaled.jpg
GEO:51.4414663;-3.1722673
X-APPLE-STRUCTURED-LOCATION;VALUE=URI;X-ADDRESS=St. Augustine’s Parish Hall Albert Road Penarth CF64 1BX;X-APPLE-RADIUS=500;X-TITLE=Albert Road:geo:-3.1722673,51.4414663
END:VEVENT
BEGIN:VEVENT
DTSTART;TZID=Europe/London:20260313T193000
DTEND;TZID=Europe/London:20260313T210000
DTSTAMP:20260423T091537
CREATED:20260306T163023Z
LAST-MODIFIED:20260306T153157Z
UID:10001557-1773430200-1773435600@www.penarthtowncouncil.gov.uk
SUMMARY:Lea Ypi: Indignity (GRIFFIN BOOKS AFTER HOURS)
DESCRIPTION:Join Lea Ypi – political theorist\, memoirist and one of Europe’s most compelling contemporary thinkers – as she discusses her powerful new book\, Indignity. \nA sweeping story that spans the twilight of the Ottoman Empire to the rise of communism in the Balkans\, Indignity has been longlisted for the 2026 Women’s Prize for Non-Fiction and named a Book of the Year by the Financial Times\, Sunday Times\, Prospect\, TLS\, Washington Post and NPR. An imaginative and searching exploration of historical injustice\, dignity and truth\, it is a family story at heart: when Ypi discovers a photograph of her grandmother\, Leman\, honeymooning in the Alps in 1941\, despite being told that all records of her early life were destroyed\, she begins a quest that unsettles everything she thought she knew.\n\nIndignity:\nWho was the real Leman Ypi? What compelled her to leave one world behind and marry into another at a time of war\, political upheaval and ideological extremity? And what does it mean to judge the choices of those who lived through such eras?\n\nMoving between archive and imagination\, court records and secret police files\, memory and speculation\, Indignity reconstructs a vanished world while asking urgent questions about truth\, survival and moral responsibility. By turns intimate and sweeping\, it examines how private lives are shaped and sometimes distorted by the forces of history. \nLea Ypi is the Ralph Miliband Professor of Politics and Philosophy at the LSE and a Fellow of the British Academy. Born in Albania\, she studied in Rome and Oxford\, and is the recipient of numerous awards for her scholarship. Her previous book\, Free\, won the Slightly Foxed Best First Biography Prize and the RSL Ondaatje Prize\, and was shortlisted for the Baillie Gifford Prize\, the Costa Biography Award and the Gordon Burn Prize. \nThis event is part of our new Griffin Books After Hours series of talks\, interviews and discussions\, which will take place in our newly expanded shop. \n***\nFriday 13 March | 7.30 pm\nGriffin Books\, 9A Windsor Road\, Penarth\, CF64 1JB*\nTickets: £26.00 including a SIGNED hardback copy of Indignity (RRP £22.00)** / £8.00 Event Only*** / £5.00 Student Ticket / £5.00 Inclusive Ticket \n*IMPORTANT: Please be aware that the toilet at Griffin Books can only be accessed via three steps and so is not accessible for wheelchair users or people with mobility issues. Please contact us on info@griffinbooks.co.uk if this would prohibit you from attending. \n**Any book not collected at the event will be held in Griffin Books for three months after the date of the event.\n***There are a limited number of Event Only\, Inclusive and Student tickets available.
URL:https://www.penarthtowncouncil.gov.uk/event/lea-ypi-indignity-griffin-books-after-hours/
LOCATION:Griffin Books\, 9A Windsor Road\, Penarth\, Griffin Books\, 9A Windsor Road\, Penarth
CATEGORIES:Community Events
ATTACH;FMTTYPE=image/png:https://www.penarthtowncouncil.gov.uk/ptcmedia/uploads/Facebook-Templates-4.png
END:VEVENT
BEGIN:VEVENT
DTSTART;TZID=Europe/London:20260314T100000
DTEND;TZID=Europe/London:20260314T120000
DTSTAMP:20260423T091537
CREATED:20260309T180049Z
LAST-MODIFIED:20260306T162036Z
UID:10001562-1773482400-1773489600@www.penarthtowncouncil.gov.uk
SUMMARY:Friends of Penarth Library Cake and Book Sale
DESCRIPTION:Friends of Penarth Library Cake and Book Sale \n10:00 – 12:00\, 14th March 2026\, Penarth Library. \nFor more information\, please contact 02920 708 438.
URL:https://www.penarthtowncouncil.gov.uk/event/friends-of-penarth-library-cake-and-book-sale-4/
LOCATION:Penarth Library\, Penarth Library
CATEGORIES:Community Events
ATTACH;FMTTYPE=image/jpeg:https://www.penarthtowncouncil.gov.uk/ptcmedia/uploads/Friends-Cake-Book-Sale-March-2026-scaled.jpg
END:VEVENT
END:VCALENDAR