BEGIN:VCALENDAR
VERSION:2.0
PRODID:-//penarthtowncouncil.gov.uk - ECPv6.15.20//NONSGML v1.0//EN
CALSCALE:GREGORIAN
METHOD:PUBLISH
X-WR-CALNAME:penarthtowncouncil.gov.uk
X-ORIGINAL-URL:https://www.penarthtowncouncil.gov.uk
X-WR-CALDESC:Events for penarthtowncouncil.gov.uk
REFRESH-INTERVAL;VALUE=DURATION:PT1H
X-Robots-Tag:noindex
X-PUBLISHED-TTL:PT1H
BEGIN:VTIMEZONE
TZID:Europe/London
BEGIN:DAYLIGHT
TZOFFSETFROM:+0000
TZOFFSETTO:+0100
TZNAME:BST
DTSTART:20240331T010000
END:DAYLIGHT
BEGIN:STANDARD
TZOFFSETFROM:+0100
TZOFFSETTO:+0000
TZNAME:GMT
DTSTART:20241027T010000
END:STANDARD
BEGIN:DAYLIGHT
TZOFFSETFROM:+0000
TZOFFSETTO:+0100
TZNAME:BST
DTSTART:20250330T010000
END:DAYLIGHT
BEGIN:STANDARD
TZOFFSETFROM:+0100
TZOFFSETTO:+0000
TZNAME:GMT
DTSTART:20251026T010000
END:STANDARD
BEGIN:DAYLIGHT
TZOFFSETFROM:+0000
TZOFFSETTO:+0100
TZNAME:BST
DTSTART:20260329T010000
END:DAYLIGHT
BEGIN:STANDARD
TZOFFSETFROM:+0100
TZOFFSETTO:+0000
TZNAME:GMT
DTSTART:20261025T010000
END:STANDARD
END:VTIMEZONE
BEGIN:VEVENT
DTSTART;TZID=Europe/London:20251111T180000
DTEND;TZID=Europe/London:20251111T220000
DTSTAMP:20260420T112601
CREATED:20251030T120049Z
LAST-MODIFIED:20251029T162117Z
UID:10000707-1762884000-1762898400@www.penarthtowncouncil.gov.uk
SUMMARY:Stitch & Sea - A Knitting & Crocheting Social at Penarth Pier
DESCRIPTION:🧶 Stitch & Sea: A Knitting & Crocheting Social at Penarth Pier 🌊\nJoin us for a relaxing and creative new gathering at the iconic Penarth Pier — a cozy space for knitters\, crocheters\, and yarn-lovers of all kinds. \nThis is not a class — there’s no formal teaching\, no pressure\, and no set agenda. It’s simply a chance for like-minded makers to come together\, share ideas\, work on their individual projects\, and make new friends in good company. Whether you’re halfway through a scarf\, finishing a blanket\, or just starting something new\, bring your yarn\, your hooks or needles\, and settle in for some peaceful stitching by the sea. \n✨ Tea\, chats\, and great views included.\n🪑 All skill levels welcome.\n🧵 Bring your own yarn and supplies. \nWhen: Tuesday 11th November\nWhere: Penarth Pier Pav\nCost: £3.95 + booking fee \nLet’s create\, connect\, unwind\, and make new friends — one stitch at a time. \n🧶 Stitch & Sea: Digwyddiad Cymdeithasol Gwau a Chrosio ar Bier Penarth 🌊\nYmunwch â ni am gynulliad newydd hamddenol a chreadigol ym Mhier eiconig Penarth — gofod clyd ar gyfer gwewyr\, croswyr\, a’r rheini sydd wrth eu bodd ag edafedd o bob math. \nNid dosbarth yw hwn – nid oes unrhyw addysgu ffurfiol\, dim pwysau\, a dim agenda benodol. Mae’n syml\, cyfle i wneuthurwyr o’r un anian ddod ynghyd\, i rannu syniadau\, gweithio ar eu prosiectau unigol\, a gwneud ffrindiau newydd mewn cwmni da. P’un a ydych chi hanner ffordd trwy wau sgarff\, yn gorffen blanced\, neu’n dechrau rhywbeth newydd\, dewch â’ch edafedd\, eich bachau neu nodwyddau\, a mwynhau ychydig o bwytho heddychlon ger y môr. \n✨ Te\, sgyrsiau\, a golygfeydd gwych wedi’u cynnwys.\n🪑 Mae croeso i bob lefel gallu.\n🧵 Dewch â’ch edafedd a’ch cyflenwadau eich hun. \nPryd: Dydd Mawrth 11 Tachwedd\nBle: Pafiliwn Pier Penarth\nCost: £3.95 + ffi archebu \nGadewch i ni greu\, cysylltu\, ymlacio\, a gwneud ffrindiau newydd – un pwyth ar y tro.
URL:https://www.penarthtowncouncil.gov.uk/event/stitch-sea-a-knitting-crocheting-social-at-penarth-pier/
LOCATION:Penarth Pier Pavilion\, Penarth Pier Pavilion
CATEGORIES:Community Events
ATTACH;FMTTYPE=image/jpeg:https://www.penarthtowncouncil.gov.uk/ptcmedia/uploads/https___cdn.evbuc_.com_images_1122186933_619501827213_1_original.jpg
END:VEVENT
BEGIN:VEVENT
DTSTART;TZID=Europe/London:20251112T100000
DTEND;TZID=Europe/London:20251112T120000
DTSTAMP:20260420T112601
CREATED:20210616T090526Z
LAST-MODIFIED:20250502T092626Z
UID:10000368-1762941600-1762948800@www.penarthtowncouncil.gov.uk
SUMMARY:Singing and Social Groups for Older Adults
DESCRIPTION:With Music in Mind‘s Penarth Group sessions run each Wednesday (apart from the second Wednesday in each month) from 10:00am to 12:00pm at St. Augustine’s Parish Hall. \nTheir groups are informal and inclusive. Groups cost £5 (carers go free)\, and your first session is free of charge. \nDue to restrictions on numbers\, it is essential to book a place before attending each time. \nYou can book a place via their website here\, via phone at 07500 776 295 or via email at info@withmusicinmind.co.uk.
URL:https://www.penarthtowncouncil.gov.uk/event/singing-and-social-groups-for-older-adults/2025-11-12/
LOCATION:St. Augustine’s Parish Hall\, Albert Road\, Penarth\, CF64 1BX
CATEGORIES:Community Events,Courses and Classes
ATTACH;FMTTYPE=image/jpeg:https://www.penarthtowncouncil.gov.uk/ptcmedia/uploads/WMIM-scaled.jpg
GEO:51.4414663;-3.1722673
X-APPLE-STRUCTURED-LOCATION;VALUE=URI;X-ADDRESS=St. Augustine’s Parish Hall Albert Road Penarth CF64 1BX;X-APPLE-RADIUS=500;X-TITLE=Albert Road:geo:-3.1722673,51.4414663
END:VEVENT
BEGIN:VEVENT
DTSTART;TZID=Europe/London:20251113T190000
DTEND;TZID=Europe/London:20251113T210000
DTSTAMP:20260420T112601
CREATED:20250911T090527Z
LAST-MODIFIED:20250911T090527Z
UID:10000676-1763060400-1763067600@www.penarthtowncouncil.gov.uk
SUMMARY:Council Meeting | 13th November 2025
DESCRIPTION:
URL:https://www.penarthtowncouncil.gov.uk/event/council-meeting-13th-november-2025/
LOCATION:West House\, Stanwell Road\, West House\, Stanwell Road
CATEGORIES:Council Meetings
END:VEVENT
BEGIN:VEVENT
DTSTART;TZID=Europe/London:20251114T193000
DTEND;TZID=Europe/London:20251114T220000
DTSTAMP:20260420T112601
CREATED:20251028T153000Z
LAST-MODIFIED:20251028T104916Z
UID:10000704-1763148600-1763157600@www.penarthtowncouncil.gov.uk
SUMMARY:Cabaret Bingo
DESCRIPTION:Grab your crew and ‘eyes down’ for the ultimate night of fun! \nLove bingo? Adore cabaret? Then Cabaret Bingo is the event you can’t miss! \nBrace yourself for an electrifying evening packed with games\, glamour\, and jaw-dropping performances. Our dazzling host will lead you through two thrilling rounds of bingo\, where line winners control the show – choosing the order of our sensational burlesque\, circus and music acts. \nWith fantastic prizes up for grabs and a night full of surprises\, this is bingo like you’ve never seen before. Don’t miss out book your tickets NOW! \nHosted by local drag sensation Venus Flytrap\, with performances by Oola Pearl\, Lili Del Fflur and It’s Llywellyn plus special guests. \nProudly presented by ‘Quill & Pearl Presents’ and ‘Del Fflur Productions’ \nOver 18s only. \nPlease note this event is UNRESERVED SEATING. \nTo book a table of 8 or more\, contact Pavilion@valeofglamorgan.gov.uk. \nDewch â’ch criw a ‘llygaid i lawr’ am y noson o hwyl! \nCaru bingo? Dwli ar cabaret? Yna Bingo Cabaret yw’r digwyddiad na allwch ei golli! Paratowch eich hun am noson wefreiddiol llawn gemau\, hudoliaeth\, a pherfformiadau syfrdanol. Bydd ein cyflwynydd rhagorol yn eich tywys trwy ddwy rownd gyffrous o bingo\, lle mae enillwyr llinellau’n rheoli’r sioe – gan ddewis trefn ein perfformiadau burlesque\, syrcas a cherddoriaeth trawiadol! \nGyda gwobrau gwych i’w cipio a noson yn llawn o’r annisgwyl\, dyma bingo fel na welsoch chi erioed o’r blaen. Peidiwch â cholli’r cyfle\, prynwch eich tocynnau NAWR! \nWedi’i arwain gan y seren drag leol Venus Flytrap\, gyda pherfformiadau gan Oola Pearl\, Lili Del Fflur ac It’s Llywellyn ynghyd â gwesteion arbennig. \nWedi’i gyflwyno gan ‘Quill & Pearl Presents’ a ‘Del Fflur Productions’ \nDros 18 oed yn unig. \nNoder bod y digwyddiad hwn yn seddi di-gadw. I archebu bwrdd i 8 neu fwy\, cysylltwch â Pavilion@valeofglamorgan.gov.uk.
URL:https://www.penarthtowncouncil.gov.uk/event/cabaret-bingo/
LOCATION:Penarth Pier Pavilion\, Penarth Pier Pavilion
CATEGORIES:Community Events
ATTACH;FMTTYPE=image/jpeg:https://www.penarthtowncouncil.gov.uk/ptcmedia/uploads/https___cdn.evbuc_.com_images_1150089733_619501827213_1_original.jpg
END:VEVENT
BEGIN:VEVENT
DTSTART;TZID=Europe/London:20251115T103000
DTEND;TZID=Europe/London:20251115T120000
DTSTAMP:20260420T112601
CREATED:20251108T113424Z
LAST-MODIFIED:20251114T172330Z
UID:10000712-1763202600-1763208000@www.penarthtowncouncil.gov.uk
SUMMARY:Coffee Morning and Cake Sale | RNLI Penarth
DESCRIPTION:Coffee Morning and Cake Sale\, Penarth Yacht Club\, The Esplanade. 10:30 until 12:00\, 15th November 2025. £1 entry fee with all proceeds going towards the RNLI.
URL:https://www.penarthtowncouncil.gov.uk/event/coffee-morning-and-cake-sale-rnli-penarth/
LOCATION:Penarth Yacht Club\, Penarth Yacht Club
CATEGORIES:Community Events
ATTACH;FMTTYPE=image/jpeg:https://www.penarthtowncouncil.gov.uk/ptcmedia/uploads/Nov-Coffee-Morning-2025-scaled.jpeg
END:VEVENT
END:VCALENDAR