BEGIN:VCALENDAR
VERSION:2.0
PRODID:-//penarthtowncouncil.gov.uk - ECPv6.15.20//NONSGML v1.0//EN
CALSCALE:GREGORIAN
METHOD:PUBLISH
X-WR-CALNAME:penarthtowncouncil.gov.uk
X-ORIGINAL-URL:https://www.penarthtowncouncil.gov.uk
X-WR-CALDESC:Events for penarthtowncouncil.gov.uk
REFRESH-INTERVAL;VALUE=DURATION:PT1H
X-Robots-Tag:noindex
X-PUBLISHED-TTL:PT1H
BEGIN:VTIMEZONE
TZID:Europe/London
BEGIN:DAYLIGHT
TZOFFSETFROM:+0000
TZOFFSETTO:+0100
TZNAME:BST
DTSTART:20240331T010000
END:DAYLIGHT
BEGIN:STANDARD
TZOFFSETFROM:+0100
TZOFFSETTO:+0000
TZNAME:GMT
DTSTART:20241027T010000
END:STANDARD
BEGIN:DAYLIGHT
TZOFFSETFROM:+0000
TZOFFSETTO:+0100
TZNAME:BST
DTSTART:20250330T010000
END:DAYLIGHT
BEGIN:STANDARD
TZOFFSETFROM:+0100
TZOFFSETTO:+0000
TZNAME:GMT
DTSTART:20251026T010000
END:STANDARD
BEGIN:DAYLIGHT
TZOFFSETFROM:+0000
TZOFFSETTO:+0100
TZNAME:BST
DTSTART:20260329T010000
END:DAYLIGHT
BEGIN:STANDARD
TZOFFSETFROM:+0100
TZOFFSETTO:+0000
TZNAME:GMT
DTSTART:20261025T010000
END:STANDARD
END:VTIMEZONE
BEGIN:VEVENT
DTSTART;TZID=Europe/London:20251015T100000
DTEND;TZID=Europe/London:20251015T120000
DTSTAMP:20260424T092445
CREATED:20210616T090526Z
LAST-MODIFIED:20250502T092626Z
UID:10000364-1760522400-1760529600@www.penarthtowncouncil.gov.uk
SUMMARY:Singing and Social Groups for Older Adults
DESCRIPTION:With Music in Mind‘s Penarth Group sessions run each Wednesday (apart from the second Wednesday in each month) from 10:00am to 12:00pm at St. Augustine’s Parish Hall. \nTheir groups are informal and inclusive. Groups cost £5 (carers go free)\, and your first session is free of charge. \nDue to restrictions on numbers\, it is essential to book a place before attending each time. \nYou can book a place via their website here\, via phone at 07500 776 295 or via email at info@withmusicinmind.co.uk.
URL:https://www.penarthtowncouncil.gov.uk/event/singing-and-social-groups-for-older-adults/2025-10-15/
LOCATION:St. Augustine’s Parish Hall\, Albert Road\, Penarth\, CF64 1BX
CATEGORIES:Community Events,Courses and Classes
ATTACH;FMTTYPE=image/jpeg:https://www.penarthtowncouncil.gov.uk/ptcmedia/uploads/WMIM-scaled.jpg
GEO:51.4414663;-3.1722673
X-APPLE-STRUCTURED-LOCATION;VALUE=URI;X-ADDRESS=St. Augustine’s Parish Hall Albert Road Penarth CF64 1BX;X-APPLE-RADIUS=500;X-TITLE=Albert Road:geo:-3.1722673,51.4414663
END:VEVENT
BEGIN:VEVENT
DTSTART;TZID=Europe/London:20251015T190000
DTEND;TZID=Europe/London:20251015T210000
DTSTAMP:20260424T092445
CREATED:20250911T090427Z
LAST-MODIFIED:20250911T090427Z
UID:10000675-1760554800-1760562000@www.penarthtowncouncil.gov.uk
SUMMARY:Council Meeting | 15th October 2025
DESCRIPTION:
URL:https://www.penarthtowncouncil.gov.uk/event/council-meeting-15th-october-2025/
LOCATION:West House\, Stanwell Road\, West House\, Stanwell Road
CATEGORIES:Council Meetings
END:VEVENT
BEGIN:VEVENT
DTSTART;TZID=Europe/London:20251015T193000
DTEND;TZID=Europe/London:20251015T193000
DTSTAMP:20260424T092445
CREATED:20250821T145538Z
LAST-MODIFIED:20250903T090423Z
UID:10000669-1760556600-1760556600@www.penarthtowncouncil.gov.uk
SUMMARY:An evening of poetry and music with Sophie Buchaillard and friends
DESCRIPTION:Poetry meets performance in this intimate evening marking the release of Sophie Buchaillard’s debut collection\, Painting Over the Cracks. Blending personal experience with poetic insight\, Sophie’s pamphlet traces a journey through trauma\, motherhood\, and healing\, where community\, friendship\, and creative expression offer ways to mend what lies beneath the surface. \nSophie will be joined by special guests: award-winning poet Mab Jones and folk singer Siobhan McCrudden. Together with these three artists\, we invite you to a night that celebrates resilience and the strength found in sharing stories. \n***\nPainting Over the Cracks is novelist Sophie Buchaillard’s poetry debut. Inspired by her life\, this pamphlet explores the healing power of expression\, friendship\, and community in overcoming trauma. Split into four chronological sections\, the pamphlet travels from the anxieties of a single mother to memories of buried traumas and how unspoken shame has a way to colour every interaction\, fraying family ties\, and making it hard to fully engage with the world. Poetry\, here\, becomes a means of articulating the unspoken\, claiming back a sense of community\, and recognising the strength that comes from friendship without judgment. \nSophie Buchaillard: Sophie is the author of two novels and a dozen essays. Her second novel\, Assimilation\, was described by cultural critic Jon Gower as “thriller meets magic realism”. Her first novel\, This Is Not Who We Are\, was shortlisted for the Rhys Davies Trust Fiction Award and the Wales Book of the Year. \nShe has written extensively about the 1994 genocide of the Tutsi in Rwanda and also contributed essays to three collections: Woman’s Wales? about women and devolution; An Open Door: New Travel Writing for a Precarious Century\, about modern travel writing; and the COVID-themed collection Together and Apart. \nAfter attending the Hay Festival in 2023 as a Writer at Work and benefitting from the mentoring of inspiring poets\, she went home and exclusively read poetry for a year. Not knowing what she was doing\, she simply wrote\, exploring family relationships at first\, letting herself being led by the words. In that sense\, she fell into poetry\, and poetry wouldn’t let go. Painting Over the Cracks is the result\, a debut pamphlet about the healing power of expression\, friendship\, and community in overcoming trauma – its title poem was shortlisted for the International Bridport Poetry Prize in 2024.\n\nMab Jones: Mab is a multi-award-winning writer and performer whose work spans the UK\, US\, France\, Ireland\, and Japan. Her poetry collections include 111 Haiku for Lockdown\, The Land That Grew Me (Selcouth Station Prize winner)\, Yubitsume\, Poor Queen\, and the recent mythological wetlands memoir Bog Witch. She has written for The New York Times\, presented BBC poetry programmes (including two Radio 4 Pick of the Week choices)\, and taught at Cardiff University. Mab has received accolades including the John Tripp Award for Spoken Poetry\, the Aurora Prize\, and a Creative Wales Award. \nSiobhan McCrudden: Described as “a singer who is gifted with one of the finest voices in contemporary UK folk music”\, Cardiff-based Siobhan crafts songs of intensity and sweetness\, recounting personal stories whilst reflecting a vivid fascination with dark folk tales and superstitions. Raised in London to parents with Scottish and Irish roots\, her vocal leanings reflect early memories of folk musicians at family gatherings and a strong desire to connect with these emotive beginnings. \n***\nWednesday 15 October | 7.30 pm (Doors at 7.00pm)\nPenarth Pier Pavilion\, Penarth\nTickets: £15.00 including a SIGNED copy of Painting over the Cracks (RRP: £10.00\, paperback)* / £10.00 Event Only** / £5.00 Student Ticket / £5.00 Inclusive Ticket \n*Any book not collected at the event will be held in Griffin Books for three months after the date of the event.\n** There are a limited number of Event Tickets available
URL:https://www.penarthtowncouncil.gov.uk/event/an-evening-of-poetry-and-music-with-sophie-buchaillard-and-friends/
LOCATION:Penarth Pier Pavilion\, Penarth Pier Pavilion
CATEGORIES:Community Events
ATTACH;FMTTYPE=image/png:https://www.penarthtowncouncil.gov.uk/ptcmedia/uploads/Newsletter-image-1000x525-5.png
END:VEVENT
BEGIN:VEVENT
DTSTART;TZID=Europe/London:20251017T183000
DTEND;TZID=Europe/London:20251017T230000
DTSTAMP:20260424T092445
CREATED:20251003T120000Z
LAST-MODIFIED:20251002T143647Z
UID:10000694-1760725800-1760742000@www.penarthtowncouncil.gov.uk
SUMMARY:Celebrating 130 years of Westbourne School
DESCRIPTION:As Westbourne School enters its 130th year\, we invite you to join us for an exclusive evening of fine dining\, dancing and memories in the splendid new Silures restaurant at the newly refurbished Holm House Hotel on Friday 17th October. \nDress up and enjoy an evening sharing tales from the past over a drink and looking ahead to the future! \nArrival drinks will be poured at 6:30pm\, followed by a 3 course meal with a DJ providing the music until late. \nTickets are priced at £90 per person\, and include:\nAn arrival drink\nA 3 course meal\nA glass of wine with dinner \nJoin us and enjoy an amazing evening as we celebrate our rich history and look to an exciting future\, All whilst raising vital funds for 2wish Cymru – a charity very close to our hearts. \nFor more information or to purchase tickets\, please contact events@westbourneschool.com. 
URL:https://www.penarthtowncouncil.gov.uk/event/celebrating-130-years-of-westbourne-school/
LOCATION:Holm House\, Marine Parade\, Penarth\, CF64 3BG\, Holm House\, Marine Parade\, Penarth\, CF64 3BG
CATEGORIES:Community Events
ATTACH;FMTTYPE=image/png:https://www.penarthtowncouncil.gov.uk/ptcmedia/uploads/unnamed-1.png
END:VEVENT
BEGIN:VEVENT
DTSTART;TZID=Europe/London:20251018T100000
DTEND;TZID=Europe/London:20251018T120000
DTSTAMP:20260424T092445
CREATED:20251003T090047Z
LAST-MODIFIED:20251002T142156Z
UID:10000693-1760781600-1760788800@www.penarthtowncouncil.gov.uk
SUMMARY:Friends of Penarth Library Cake and Book Sale
DESCRIPTION:Friends of Penarth Library Cake and Book Sale. 18th October 2025\, 10:00 – 12:00 at Penarth Library. For more information\, please call 02920 708 438.
URL:https://www.penarthtowncouncil.gov.uk/event/friends-of-penarth-library-cake-and-book-sale-2/
LOCATION:Penarth Library\, Penarth Library
CATEGORIES:Community Events
ATTACH;FMTTYPE=image/jpeg:https://www.penarthtowncouncil.gov.uk/ptcmedia/uploads/Friends-Cake-Book-Sale-October-2025-scaled.jpg
END:VEVENT
END:VCALENDAR