BEGIN:VCALENDAR
VERSION:2.0
PRODID:-//penarthtowncouncil.gov.uk - ECPv6.15.20//NONSGML v1.0//EN
CALSCALE:GREGORIAN
METHOD:PUBLISH
X-WR-CALNAME:penarthtowncouncil.gov.uk
X-ORIGINAL-URL:https://www.penarthtowncouncil.gov.uk
X-WR-CALDESC:Events for penarthtowncouncil.gov.uk
REFRESH-INTERVAL;VALUE=DURATION:PT1H
X-Robots-Tag:noindex
X-PUBLISHED-TTL:PT1H
BEGIN:VTIMEZONE
TZID:Europe/London
BEGIN:DAYLIGHT
TZOFFSETFROM:+0000
TZOFFSETTO:+0100
TZNAME:BST
DTSTART:20240331T010000
END:DAYLIGHT
BEGIN:STANDARD
TZOFFSETFROM:+0100
TZOFFSETTO:+0000
TZNAME:GMT
DTSTART:20241027T010000
END:STANDARD
BEGIN:DAYLIGHT
TZOFFSETFROM:+0000
TZOFFSETTO:+0100
TZNAME:BST
DTSTART:20250330T010000
END:DAYLIGHT
BEGIN:STANDARD
TZOFFSETFROM:+0100
TZOFFSETTO:+0000
TZNAME:GMT
DTSTART:20251026T010000
END:STANDARD
BEGIN:DAYLIGHT
TZOFFSETFROM:+0000
TZOFFSETTO:+0100
TZNAME:BST
DTSTART:20260329T010000
END:DAYLIGHT
BEGIN:STANDARD
TZOFFSETFROM:+0100
TZOFFSETTO:+0000
TZNAME:GMT
DTSTART:20261025T010000
END:STANDARD
END:VTIMEZONE
BEGIN:VEVENT
DTSTART;TZID=Europe/London:20250708T140000
DTEND;TZID=Europe/London:20250708T150000
DTSTAMP:20260424T115046
CREATED:20250618T144504Z
LAST-MODIFIED:20250620T093826Z
UID:10000641-1751983200-1751986800@www.penarthtowncouncil.gov.uk
SUMMARY:RWCMD - AFTERNOON JAZZ
DESCRIPTION:Penarth Pier Pavilion: RWCMD Afternoon Jazz! \nDate: Tuesday 8th July 2025 \nTimings: 2pm concert (doors open at 1.30pm) with 3pm finish \nTickets: Free Event – please reserve your tickets here. \n  \nPenarth Pier Pavilion is delighted to welcome Royal Welsh College of Music and Drama students Tommy Lawther on saxophone and Loz Bridge on piano for an afternoon jazz concert. \nRWCMD jazz students\, Tommy and Loz present a set of classic jazz standards from well-known jazz composers and performers. \nThis concert is part of the College’s residency at Penarth Pier Pavilion. \nWe hope you can join us for what promises to be an enchanting afternoon of music in the Pavilion’s beautiful Gallery! \n*Unreserved seating.
URL:https://www.penarthtowncouncil.gov.uk/event/rwcmd-afternoon-jazz/
LOCATION:Penarth Pier Pavilion\, Penarth Pier Pavilion
CATEGORIES:Community Events,Music
ATTACH;FMTTYPE=image/jpeg:https://www.penarthtowncouncil.gov.uk/ptcmedia/uploads/Tommy-Lawther-Sax-scaled.jpeg
END:VEVENT
BEGIN:VEVENT
DTSTART;TZID=Europe/London:20250709T100000
DTEND;TZID=Europe/London:20250709T120000
DTSTAMP:20260424T115046
CREATED:20210616T090526Z
LAST-MODIFIED:20250502T092626Z
UID:10000350-1752055200-1752062400@www.penarthtowncouncil.gov.uk
SUMMARY:Singing and Social Groups for Older Adults
DESCRIPTION:With Music in Mind‘s Penarth Group sessions run each Wednesday (apart from the second Wednesday in each month) from 10:00am to 12:00pm at St. Augustine’s Parish Hall. \nTheir groups are informal and inclusive. Groups cost £5 (carers go free)\, and your first session is free of charge. \nDue to restrictions on numbers\, it is essential to book a place before attending each time. \nYou can book a place via their website here\, via phone at 07500 776 295 or via email at info@withmusicinmind.co.uk.
URL:https://www.penarthtowncouncil.gov.uk/event/singing-and-social-groups-for-older-adults/2025-07-09/
LOCATION:St. Augustine’s Parish Hall\, Albert Road\, Penarth\, CF64 1BX
CATEGORIES:Community Events,Courses and Classes
ATTACH;FMTTYPE=image/jpeg:https://www.penarthtowncouncil.gov.uk/ptcmedia/uploads/WMIM-scaled.jpg
GEO:51.4414663;-3.1722673
X-APPLE-STRUCTURED-LOCATION;VALUE=URI;X-ADDRESS=St. Augustine’s Parish Hall Albert Road Penarth CF64 1BX;X-APPLE-RADIUS=500;X-TITLE=Albert Road:geo:-3.1722673,51.4414663
END:VEVENT
BEGIN:VEVENT
DTSTART;TZID=Europe/London:20250710T190000
DTEND;TZID=Europe/London:20250710T190000
DTSTAMP:20260424T115046
CREATED:20250530T120332Z
LAST-MODIFIED:20250530T120332Z
UID:10000626-1752174000-1752174000@www.penarthtowncouncil.gov.uk
SUMMARY:The Life of Constance Maillard - A Brenda Gibbins Talk
DESCRIPTION: Constance Maillard\, the Remarkable Reformer of Penarth. \nA talk by Brenda Gibbins\, one of our own. \nConstance Maillard\, 1880 -1984\, was a pioneer in the care of mothers and children and in local politics\, campaigner and initiator of countless organisations for the common good in Penarth. In April 2025\, a hundred years after Mrs Maillard became first female Chair of the Penarth Urban Council\, Mayor Gwenda Roberts unveiled a plaque in her honour in the Italian Gardens which Mrs Maillard had proposed. Brenda’s talk will attempt to cover the range and effect of this amazing woman’s activities. \nTickets can be prebooked on https://www.penarthsociety.org.uk/event-details/the-life-of-constance-maillard-brenda-gibbins \nFree to members\, £3.00 for non members
URL:https://www.penarthtowncouncil.gov.uk/event/the-life-of-constance-maillard-a-brenda-gibbins-talk/
LOCATION:St. Augustine’s Parish Hall\, Penarth\, St. Augustine's Parish Hall\, Penarth
CATEGORIES:Community Events
ATTACH;FMTTYPE=image/jpeg:https://www.penarthtowncouncil.gov.uk/ptcmedia/uploads/Constance-Maillard-scaled.jpg
END:VEVENT
BEGIN:VEVENT
DTSTART;TZID=Europe/London:20250712T120000
DTEND;TZID=Europe/London:20250712T200000
DTSTAMP:20260424T115046
CREATED:20250618T153920Z
LAST-MODIFIED:20250619T114305Z
UID:10000636-1752321600-1752350400@www.penarthtowncouncil.gov.uk
SUMMARY:Penarth Summer Festival
DESCRIPTION:Penarth’s annual summer festival – A garden party by the sea!\n\n📍 The Kymin\, Penarth\n🗓️ Saturday 12 July | ⏰ 12–8pm\nFree entry | Family-friendly | By the sea 🌊 \nGet ready for a day full of music\, joy and summer fun! Our live stage will feature a cracking line-up of performers: \n🎭 Penarth Operatic & Dramatic Society – show tunes and local legends\n🎸Stonehouse Collective – soulful covers and smooth harmonies\n🎤 Stevie Toddlerr & Daphne Gale Music – transatlantic folk-vocals\n🌌 no thee no ess – dreamy western psychdelic folk from Cardiff\n🛒 The Real John Lewis – rockabilly\, rhythm & blues\n🎺 Wonderbrasss – 25-piece brass band bringing jazz\, funk & ska\n🐺 Year of the Dog – high-energy brass-house and festival feeling! \n🌈 PLUS!\n✨ Kids’ performances by Kitsch n Sync Collective\n🎪 Circus skills workshops from Splatch\n🤡Face Painting\n🍳Kids craft tent by EggSeeds\n🍴 Food & drink by Big Fresh\n🔥 Mobile sauna & plunge pool by Dawnstalkers\n💬 Community stalls and seaside vibes all day long \n🧺 Bring your picnic blanket\, your dancing shoes and your curiosity – it’s going to be a brilliant day out in Penarth! 🎶 \n\nThe grounds of the Kymin will feature a range of activities suitable for the whole family to bring a party atmosphere and showcase the best of Penarth.\nTo help make the event a success\, attendees are asked to come by foot or public transport wherever possible\, and for all stakeholders to help support Penarth’s plastic free status by eliminating single use plastic.\n\nThe event runs from 12pm to 8pm and is free
URL:https://www.penarthtowncouncil.gov.uk/event/penarth-summer-festival/
LOCATION:The Kymin\, Beach Road\, Penarth\, CF64 1JX
CATEGORIES:Community Events,Featured Events,Festivals,Penarth Town Council Events
ATTACH;FMTTYPE=image/jpeg:https://www.penarthtowncouncil.gov.uk/ptcmedia/uploads/A3_Penarth_Summer_Festival_Poster_2025_MST_-scaled.jpg
GEO:51.4371975;-3.1693237
X-APPLE-STRUCTURED-LOCATION;VALUE=URI;X-ADDRESS=The Kymin Beach Road Penarth CF64 1JX;X-APPLE-RADIUS=500;X-TITLE=Beach Road:geo:-3.1693237,51.4371975
END:VEVENT
BEGIN:VEVENT
DTSTART;TZID=Europe/London:20250713T140000
DTEND;TZID=Europe/London:20250713T140000
DTSTAMP:20260424T115046
CREATED:20250611T092616Z
LAST-MODIFIED:20250611T100136Z
UID:10000631-1752415200-1752415200@www.penarthtowncouncil.gov.uk
SUMMARY:Annual Guided Walk 2025 with Alan Thorne
DESCRIPTION:Alan Thorne will be holding one of his annual town Walks on Sunday 13th July. \nThis year he is planning to cover the town centre; the walk will start from the Penarth Train Station Car Park (not from outside the Arcade on Windsor Road now)\, where we will learn the incredible story of the man who built it\, Solomon Andrews. The walk will continue through the town and Alan will regail us with tales and stories about the buildings around us and the people associated with them. \nStart at 2.00PM\, walks usually last between one and two hours. \nThis event is free to Penarth Civic Society members and £3 for non members. Tickets can be purchased at here.
URL:https://www.penarthtowncouncil.gov.uk/event/annual-guided-walk-2025-with-alan-thorne/
LOCATION:Penarth Train Station Car Park\, Stanwell Road\, Penarth\, CF64 3DQ
CATEGORIES:Community Events
ATTACH;FMTTYPE=image/jpeg:https://www.penarthtowncouncil.gov.uk/ptcmedia/uploads/Alan-Thorne-1-scaled.jpg
END:VEVENT
END:VCALENDAR