BEGIN:VCALENDAR
VERSION:2.0
PRODID:-//penarthtowncouncil.gov.uk - ECPv6.15.20//NONSGML v1.0//EN
CALSCALE:GREGORIAN
METHOD:PUBLISH
X-WR-CALNAME:penarthtowncouncil.gov.uk
X-ORIGINAL-URL:https://www.penarthtowncouncil.gov.uk
X-WR-CALDESC:Events for penarthtowncouncil.gov.uk
REFRESH-INTERVAL;VALUE=DURATION:PT1H
X-Robots-Tag:noindex
X-PUBLISHED-TTL:PT1H
BEGIN:VTIMEZONE
TZID:Europe/London
BEGIN:DAYLIGHT
TZOFFSETFROM:+0000
TZOFFSETTO:+0100
TZNAME:BST
DTSTART:20240331T010000
END:DAYLIGHT
BEGIN:STANDARD
TZOFFSETFROM:+0100
TZOFFSETTO:+0000
TZNAME:GMT
DTSTART:20241027T010000
END:STANDARD
BEGIN:DAYLIGHT
TZOFFSETFROM:+0000
TZOFFSETTO:+0100
TZNAME:BST
DTSTART:20250330T010000
END:DAYLIGHT
BEGIN:STANDARD
TZOFFSETFROM:+0100
TZOFFSETTO:+0000
TZNAME:GMT
DTSTART:20251026T010000
END:STANDARD
BEGIN:DAYLIGHT
TZOFFSETFROM:+0000
TZOFFSETTO:+0100
TZNAME:BST
DTSTART:20260329T010000
END:DAYLIGHT
BEGIN:STANDARD
TZOFFSETFROM:+0100
TZOFFSETTO:+0000
TZNAME:GMT
DTSTART:20261025T010000
END:STANDARD
END:VTIMEZONE
BEGIN:VEVENT
DTSTART;TZID=Europe/London:20250805T190000
DTEND;TZID=Europe/London:20250805T190000
DTSTAMP:20260420T110209
CREATED:20250731T201024Z
LAST-MODIFIED:20250805T115439Z
UID:10000650-1754420400-1754420400@www.penarthtowncouncil.gov.uk
SUMMARY:Men Walking and Talking Penarth
DESCRIPTION:Men Walking and Talking is a local community initiative that brings men together for a friendly\, informal walk every Tuesday evening in Penarth. \nThe group was set up to help end the stigma around men’s mental health by creating a regular\, safe space for men to connect\, talk (if they want to)\, and support one another. \nThere’s no pressure to share anything – some people come for the conversation\, others simply enjoy the company and the fresh air. \nEach walk lasts around an hour\, taken at a relaxed and steady pace. The group meets at the Plymouth Park Car Park near Cogan Tesco\, and walks take place in all weathers\, throughout the year. \nThere’s no need to sign up\, no fees\, and no commitment – just turn up\, say hello\, and walk with us. It’s open to all men\, regardless of age or background. \nMen Walking and Talking – Penarth has been running for nearly two years and continues to grow steadily\, helping more men feel connected and supported within the local community. \nIf you or someone you know could benefit from a gentle walk and some good company\, please do come along or help spread the word.
URL:https://www.penarthtowncouncil.gov.uk/event/men-walking-and-talking-penarth/
LOCATION:Plymouth Park Car Park (near Cogan Tesco)\, Plymouth Park Car Park (near Cogan Tesco)
CATEGORIES:Community Events,Other
ATTACH;FMTTYPE=image/jpeg:https://www.penarthtowncouncil.gov.uk/ptcmedia/uploads/Pic2-scaled.jpg
END:VEVENT
BEGIN:VEVENT
DTSTART;TZID=Europe/London:20250806T100000
DTEND;TZID=Europe/London:20250806T120000
DTSTAMP:20260420T110209
CREATED:20210616T090526Z
LAST-MODIFIED:20250502T092626Z
UID:10000354-1754474400-1754481600@www.penarthtowncouncil.gov.uk
SUMMARY:Singing and Social Groups for Older Adults
DESCRIPTION:With Music in Mind‘s Penarth Group sessions run each Wednesday (apart from the second Wednesday in each month) from 10:00am to 12:00pm at St. Augustine’s Parish Hall. \nTheir groups are informal and inclusive. Groups cost £5 (carers go free)\, and your first session is free of charge. \nDue to restrictions on numbers\, it is essential to book a place before attending each time. \nYou can book a place via their website here\, via phone at 07500 776 295 or via email at info@withmusicinmind.co.uk.
URL:https://www.penarthtowncouncil.gov.uk/event/singing-and-social-groups-for-older-adults/2025-08-06/
LOCATION:St. Augustine’s Parish Hall\, Albert Road\, Penarth\, CF64 1BX
CATEGORIES:Community Events,Courses and Classes
ATTACH;FMTTYPE=image/jpeg:https://www.penarthtowncouncil.gov.uk/ptcmedia/uploads/WMIM-scaled.jpg
GEO:51.4414663;-3.1722673
X-APPLE-STRUCTURED-LOCATION;VALUE=URI;X-ADDRESS=St. Augustine’s Parish Hall Albert Road Penarth CF64 1BX;X-APPLE-RADIUS=500;X-TITLE=Albert Road:geo:-3.1722673,51.4414663
END:VEVENT
BEGIN:VEVENT
DTSTART;TZID=Europe/London:20250813T100000
DTEND;TZID=Europe/London:20250813T120000
DTSTAMP:20260420T110209
CREATED:20210616T090526Z
LAST-MODIFIED:20250502T092626Z
UID:10000355-1755079200-1755086400@www.penarthtowncouncil.gov.uk
SUMMARY:Singing and Social Groups for Older Adults
DESCRIPTION:With Music in Mind‘s Penarth Group sessions run each Wednesday (apart from the second Wednesday in each month) from 10:00am to 12:00pm at St. Augustine’s Parish Hall. \nTheir groups are informal and inclusive. Groups cost £5 (carers go free)\, and your first session is free of charge. \nDue to restrictions on numbers\, it is essential to book a place before attending each time. \nYou can book a place via their website here\, via phone at 07500 776 295 or via email at info@withmusicinmind.co.uk.
URL:https://www.penarthtowncouncil.gov.uk/event/singing-and-social-groups-for-older-adults/2025-08-13/
LOCATION:St. Augustine’s Parish Hall\, Albert Road\, Penarth\, CF64 1BX
CATEGORIES:Community Events,Courses and Classes
ATTACH;FMTTYPE=image/jpeg:https://www.penarthtowncouncil.gov.uk/ptcmedia/uploads/WMIM-scaled.jpg
GEO:51.4414663;-3.1722673
X-APPLE-STRUCTURED-LOCATION;VALUE=URI;X-ADDRESS=St. Augustine’s Parish Hall Albert Road Penarth CF64 1BX;X-APPLE-RADIUS=500;X-TITLE=Albert Road:geo:-3.1722673,51.4414663
END:VEVENT
BEGIN:VEVENT
DTSTART;TZID=Europe/London:20250814T103000
DTEND;TZID=Europe/London:20250814T113000
DTSTAMP:20260420T110209
CREATED:20250810T113401Z
LAST-MODIFIED:20250812T151143Z
UID:10000654-1755167400-1755171000@www.penarthtowncouncil.gov.uk
SUMMARY:Children's Silent Disco
DESCRIPTION:Kids dance\, giggle\, and groove with headphones on—silent disco fun where music plays loud in their ears but the room stays quiet! \nFor more information or to purchase tickets\, please click here.
URL:https://www.penarthtowncouncil.gov.uk/event/childrens-silent-disco/2025-08-14/1/
LOCATION:Penarth Pier Pavilion\, Penarth Pier Pavilion
CATEGORIES:Community Events,Music
ATTACH;FMTTYPE=image/jpeg:https://www.penarthtowncouncil.gov.uk/ptcmedia/uploads/SILENT-DISCO--scaled.jpg
END:VEVENT
BEGIN:VEVENT
DTSTART;TZID=Europe/London:20250814T140000
DTEND;TZID=Europe/London:20250814T150000
DTSTAMP:20260420T110209
CREATED:20250810T113401Z
LAST-MODIFIED:20250812T151143Z
UID:10000655-1755180000-1755183600@www.penarthtowncouncil.gov.uk
SUMMARY:Children's Silent Disco
DESCRIPTION:Kids dance\, giggle\, and groove with headphones on—silent disco fun where music plays loud in their ears but the room stays quiet! \nFor more information or to purchase tickets\, please click here.
URL:https://www.penarthtowncouncil.gov.uk/event/childrens-silent-disco/2025-08-14/2/
LOCATION:Penarth Pier Pavilion\, Penarth Pier Pavilion
CATEGORIES:Community Events,Music
ATTACH;FMTTYPE=image/jpeg:https://www.penarthtowncouncil.gov.uk/ptcmedia/uploads/SILENT-DISCO--scaled.jpg
END:VEVENT
BEGIN:VEVENT
DTSTART;TZID=Europe/London:20250816T100000
DTEND;TZID=Europe/London:20250816T120000
DTSTAMP:20260420T110209
CREATED:20250729T160246Z
LAST-MODIFIED:20250805T122853Z
UID:10000652-1755338400-1755345600@www.penarthtowncouncil.gov.uk
SUMMARY:Friends of Penarth Library Cake and Book Sale
DESCRIPTION:16th August 2025\, 10:00 – 12:00 at Penarth Library. For more information\, call 02920 708 438.
URL:https://www.penarthtowncouncil.gov.uk/event/friends-of-penarth-library-cake-and-book-sale/
LOCATION:Penarth Library\, Penarth Library
CATEGORIES:Community Events
ATTACH;FMTTYPE=image/jpeg:https://www.penarthtowncouncil.gov.uk/ptcmedia/uploads/Friends-Cake-Book-Sale-August-scaled.jpg
END:VEVENT
BEGIN:VEVENT
DTSTART;TZID=Europe/London:20250820T100000
DTEND;TZID=Europe/London:20250820T120000
DTSTAMP:20260420T110209
CREATED:20210616T090526Z
LAST-MODIFIED:20250502T092626Z
UID:10000356-1755684000-1755691200@www.penarthtowncouncil.gov.uk
SUMMARY:Singing and Social Groups for Older Adults
DESCRIPTION:With Music in Mind‘s Penarth Group sessions run each Wednesday (apart from the second Wednesday in each month) from 10:00am to 12:00pm at St. Augustine’s Parish Hall. \nTheir groups are informal and inclusive. Groups cost £5 (carers go free)\, and your first session is free of charge. \nDue to restrictions on numbers\, it is essential to book a place before attending each time. \nYou can book a place via their website here\, via phone at 07500 776 295 or via email at info@withmusicinmind.co.uk.
URL:https://www.penarthtowncouncil.gov.uk/event/singing-and-social-groups-for-older-adults/2025-08-20/
LOCATION:St. Augustine’s Parish Hall\, Albert Road\, Penarth\, CF64 1BX
CATEGORIES:Community Events,Courses and Classes
ATTACH;FMTTYPE=image/jpeg:https://www.penarthtowncouncil.gov.uk/ptcmedia/uploads/WMIM-scaled.jpg
GEO:51.4414663;-3.1722673
X-APPLE-STRUCTURED-LOCATION;VALUE=URI;X-ADDRESS=St. Augustine’s Parish Hall Albert Road Penarth CF64 1BX;X-APPLE-RADIUS=500;X-TITLE=Albert Road:geo:-3.1722673,51.4414663
END:VEVENT
BEGIN:VEVENT
DTSTART;TZID=Europe/London:20250821T193000
DTEND;TZID=Europe/London:20250821T193000
DTSTAMP:20260420T110209
CREATED:20250814T134006Z
LAST-MODIFIED:20250902T155531Z
UID:10000660-1755804600-1755804600@www.penarthtowncouncil.gov.uk
SUMMARY:Into the Wild with James Roberts and Jon Gower
DESCRIPTION:Come along to a special evening in the company of two remarkable nature writers\, James Roberts and Jon Gower\, as they explore our deep and enduring relationship with the natural world. \nIn Two Lights: Walking at Dawn and Dusk on a Turning Planet\, longlisted for the 2024 RSL Ondaatje Prize\, James Roberts charts a luminous journey through landscapes and loss. From the Cambrian Mountains to the Pacific Northwest\, his dawn and dusk walks become a meditation on grief\, connection\, and the quiet\, redemptive power of the wild. \nIn Birdland\, Jon Gower turns his keen journalist’s eye and lifelong passion for birdlife into a rich exploration of the birds that share our skies. From the delicate song of a wren to the drama of a murmuration\, he captures their wonder while confronting the urgent threats they face through climate change and habitat loss. \nTogether\, these books provide beauty and insight into what can be found when we pay close attention to the world around us. \nThis event is part of our Summer at Griffin Books programme. Events will take place in our newly extended shop on Penarth high street.\n\n***\nTwo Lights: Walking at Dawn and Dusk on a Turning Planet:\nLonglisted for the RSL Ondaatje Prize 2024\, ‘Two Lights’ by James Roberts is a lyrical journey through landscapes and loss. From swans in the Cambrian Mountains to wolves in the Pacific Northwest\, Roberts finds solace and connection in the wild. Walking at dawn and dusk\, he moves through grief toward hope\, discovering a path back to life through encounters with the natural world. \nBirdland:\n‘Birdland’ by journalist and lifelong birder Jon Gower explores our deep connection with birds\, from the song of a wren to the spectacle of murmuration. Travelling across Britain in search of species like the wryneck and dotterel\, Gower celebrates birds as everyday miracles that have long inspired art and song\, yet he also confronts the decline in bird populations over the past 50 years\, examining the impacts of climate change and habitat loss. This is both a love letter to birdlife and a powerful call to protect it.\n\nJAMES ROBERTS is a writer and artist who lives in the hills of the Welsh Border country. His essays and poems have been published widely\, and his artwork has featured in several exhibitions\, books and theatre productions. He writes on Substack and shows work on Instagram as @nightriverwood. \n \nJON GOWER is a former BBC Wales arts and media correspondent who has over 40 books to his name. These include The Story of Wales\, which accompanied a landmark TV series\, the travelogue An Island Called Smith and Y Storïwr\, which won the Wales Book of the Year. \n***\nThursday 21 August | 7.30 pm\nGriffin Books\, 9A Windsor Road\, Penarth\, CF64 1JB*\nTickets: £8.00 Event Only / £5.00 Student Ticket / £5.00 Inclusive Ticket \n*IMPORTANT: Please be aware that the toilet at Griffin Books can only be accessed via three steps and so is not accessible for wheelchair users or people with mobility issues. Please contact us on info@griffinbooks.co.uk if this would prohibit you from attending. \nBoth titles are available for purchase at the event at a special discounted price.
URL:https://www.penarthtowncouncil.gov.uk/event/into-the-wild-with-james-roberts-and-jon-gower/
LOCATION:Griffin Books\, 9A Windsor Road\, Penarth\, CF64 1JB\, Griffin Books\, 9A Windsor Road\, Penarth\, CF64 1JB
CATEGORIES:Community Events
ATTACH;FMTTYPE=image/png:https://www.penarthtowncouncil.gov.uk/ptcmedia/uploads/Newsletter-image-1000x525-1.png
END:VEVENT
BEGIN:VEVENT
DTSTART;TZID=Europe/London:20250827T100000
DTEND;TZID=Europe/London:20250827T120000
DTSTAMP:20260420T110209
CREATED:20210616T090526Z
LAST-MODIFIED:20250502T092626Z
UID:10000357-1756288800-1756296000@www.penarthtowncouncil.gov.uk
SUMMARY:Singing and Social Groups for Older Adults
DESCRIPTION:With Music in Mind‘s Penarth Group sessions run each Wednesday (apart from the second Wednesday in each month) from 10:00am to 12:00pm at St. Augustine’s Parish Hall. \nTheir groups are informal and inclusive. Groups cost £5 (carers go free)\, and your first session is free of charge. \nDue to restrictions on numbers\, it is essential to book a place before attending each time. \nYou can book a place via their website here\, via phone at 07500 776 295 or via email at info@withmusicinmind.co.uk.
URL:https://www.penarthtowncouncil.gov.uk/event/singing-and-social-groups-for-older-adults/2025-08-27/
LOCATION:St. Augustine’s Parish Hall\, Albert Road\, Penarth\, CF64 1BX
CATEGORIES:Community Events,Courses and Classes
ATTACH;FMTTYPE=image/jpeg:https://www.penarthtowncouncil.gov.uk/ptcmedia/uploads/WMIM-scaled.jpg
GEO:51.4414663;-3.1722673
X-APPLE-STRUCTURED-LOCATION;VALUE=URI;X-ADDRESS=St. Augustine’s Parish Hall Albert Road Penarth CF64 1BX;X-APPLE-RADIUS=500;X-TITLE=Albert Road:geo:-3.1722673,51.4414663
END:VEVENT
END:VCALENDAR