BEGIN:VCALENDAR
VERSION:2.0
PRODID:-//penarthtowncouncil.gov.uk - ECPv6.15.20//NONSGML v1.0//EN
CALSCALE:GREGORIAN
METHOD:PUBLISH
X-ORIGINAL-URL:https://www.penarthtowncouncil.gov.uk
X-WR-CALDESC:Events for penarthtowncouncil.gov.uk
REFRESH-INTERVAL;VALUE=DURATION:PT1H
X-Robots-Tag:noindex
X-PUBLISHED-TTL:PT1H
BEGIN:VTIMEZONE
TZID:Europe/London
BEGIN:DAYLIGHT
TZOFFSETFROM:+0000
TZOFFSETTO:+0100
TZNAME:BST
DTSTART:20240331T010000
END:DAYLIGHT
BEGIN:STANDARD
TZOFFSETFROM:+0100
TZOFFSETTO:+0000
TZNAME:GMT
DTSTART:20241027T010000
END:STANDARD
BEGIN:DAYLIGHT
TZOFFSETFROM:+0000
TZOFFSETTO:+0100
TZNAME:BST
DTSTART:20250330T010000
END:DAYLIGHT
BEGIN:STANDARD
TZOFFSETFROM:+0100
TZOFFSETTO:+0000
TZNAME:GMT
DTSTART:20251026T010000
END:STANDARD
BEGIN:DAYLIGHT
TZOFFSETFROM:+0000
TZOFFSETTO:+0100
TZNAME:BST
DTSTART:20260329T010000
END:DAYLIGHT
BEGIN:STANDARD
TZOFFSETFROM:+0100
TZOFFSETTO:+0000
TZNAME:GMT
DTSTART:20261025T010000
END:STANDARD
BEGIN:DAYLIGHT
TZOFFSETFROM:+0000
TZOFFSETTO:+0100
TZNAME:BST
DTSTART:20270328T010000
END:DAYLIGHT
BEGIN:STANDARD
TZOFFSETFROM:+0100
TZOFFSETTO:+0000
TZNAME:GMT
DTSTART:20271031T010000
END:STANDARD
END:VTIMEZONE
BEGIN:VEVENT
DTSTART;TZID=Europe/London:20260418T110000
DTEND;TZID=Europe/London:20260418T160000
DTSTAMP:20260425T025828
CREATED:20260408T162622Z
LAST-MODIFIED:20260417T114833Z
UID:10001576-1776510000-1776528000@www.penarthtowncouncil.gov.uk
SUMMARY:Horatio's Garden Wales Open Day
DESCRIPTION:Horatio’s Garden Wales is opening in support of the National Garden Scheme on Saturday 18 April 2026 from 11am-4pm. \nPre-booking will be essential for this open day. Please note there are only 20 bookable places per hour. \nAdults: £7 | Children: Free | Book your place here \nHoratio’s Garden Wales will be opening its gates as part of the National Garden Scheme\, offering visitors a special opportunity to explore this beautiful\, transformative garden set within the Welsh Spinal Cord Injury and Neuro Rehabilitation Centre at University Hospital Llandough\, Cardiff. \nDesigned by two-time RHS Chelsea Flower Show Gold Medal winner Sarah Price\, the garden was inspired by the Welsh landscape and opened in May 2022. Her design is naturalistic and gentle\, creating a calm and uplifting environment for people with spinal injuries\, families\, staff and visitors alike while remaining fully accessible. \nBe sure to join us for this special afternoon – we can’t wait to welcome you.
URL:https://www.penarthtowncouncil.gov.uk/event/horatios-garden-wales-open-day/
LOCATION:Llandough Hospital\, Llandough Hospital
CATEGORIES:Community Events,Other
ATTACH;FMTTYPE=image/jpeg:https://www.penarthtowncouncil.gov.uk/ptcmedia/uploads/IMG-20260407-WA0001.jpg
END:VEVENT
BEGIN:VEVENT
DTSTART;TZID=Europe/London:20260324T140000
DTEND;TZID=Europe/London:20260324T140000
DTSTAMP:20260425T025828
CREATED:20260119T140000Z
LAST-MODIFIED:20260116T132937Z
UID:10001540-1774360800-1774360800@www.penarthtowncouncil.gov.uk
SUMMARY:Art History Talk - The Birth of Impressionism and the Art of Modern Life
DESCRIPTION:What did it mean to paint modern life in 19th century Paris? \nIn the wake of political upheaval and radical urban transformation\, a group of young artists began to turn away from history painting and idealised myth. Instead\, they looked at the world around them—capturing fleeting moments in cafés\, on the streets\, at the theatre and in the countryside. \nBaron Haussmann’s dramatic redesign of Paris created sweeping boulevards\, public parks and new vantage points—spaces that became central to the Impressionist gaze. \nInspired by Charles Baudelaire’s call for a painter of modern life\, artists such as Claude Monet\, Edgar Degas and Gustave Caillebotte set out to reflect the pace\, spectacle and anonymity of the modern city. \nThis talk explores the birth of Impressionism and its focus on modern life. \nWhy was this work so controversial? And what exactly made it so modern?\n \nFollowing the talk\, please stay for tea and cake\, served in the Pavilion’s beautiful Gallery.
URL:https://www.penarthtowncouncil.gov.uk/event/art-history-talk-the-birth-of-impressionism-and-the-art-of-modern-life/
LOCATION:Penarth Pier Pavilion\, Penarth Pier Pavilion
CATEGORIES:Community Events,Other
ATTACH;FMTTYPE=image/jpeg:https://www.penarthtowncouncil.gov.uk/ptcmedia/uploads/Gustave_Caillebotte_-_Paris_Street_Rainy_Day_-_Google_Art_Project.jpg
END:VEVENT
BEGIN:VEVENT
DTSTART;TZID=Europe/London:20260210T140000
DTEND;TZID=Europe/London:20260210T160000
DTSTAMP:20260425T025828
CREATED:20260116T160052Z
LAST-MODIFIED:20260115T134633Z
UID:10001533-1770732000-1770739200@www.penarthtowncouncil.gov.uk
SUMMARY:Art History Talk - The Last Pre-Raphaelite? The enchanting works of Edward Burne-Jones
DESCRIPTION:Edward Burne-Jones is associated with the later phase of the Pre-Raphaelite movement and was the only Pre-Raphaelite artist to have achieved international fame.  \nHe turned away from Victorian industrial progress and instead painted beautiful\, melancholic and highly romantic works inspired by Arthurian legend\, mythology\, and dream-worlds. \nThis talk will look at his most enchanting masterpieces and explore why his works are now some of the most cherished in Britain. \nFollowing the talk\, please stay for tea and cake\, served in the Pavilion’s beautiful Gallery.
URL:https://www.penarthtowncouncil.gov.uk/event/art-history-talk-the-last-pre-raphaelite-the-enchanting-works-of-edward-burne-jones/
LOCATION:Penarth Pier Pavilion\, Penarth Pier Pavilion
CATEGORIES:Community Events,Other
ATTACH;FMTTYPE=image/png:https://www.penarthtowncouncil.gov.uk/ptcmedia/uploads/Pre-Raphaelite.png
END:VEVENT
BEGIN:VEVENT
DTSTART;TZID=Europe/London:20250918T140000
DTEND;TZID=Europe/London:20250918T160000
DTSTAMP:20260425T025828
CREATED:20250131T104909Z
LAST-MODIFIED:20250620T092229Z
UID:10000341-1758204000-1758211200@www.penarthtowncouncil.gov.uk
SUMMARY:Art History Talk - Gwen John
DESCRIPTION:Gwen John is renowned for her haunting portraits of solitary women. \nYet\, contrary to the image of the reclusive artist\, this pupil of Whistler\, admirer of Cézanne\, and lover of Rodin was a forward-thinking artist whose work was ahead of its time. \nFor many years\, she was overshadowed by her flamboyant brother Augustus and her turbulent affair with Rodin. But Gwen forged a unique path in the art world\, defying conventions with her luminous portraits and quiet interiors. \n‘Without sacrificing scholarship\, Stella Grace Lyons has a most engaging way of hooking an audience into sharing her passionate interest in art history\, drawing three dimensional human stories and experiences from the two-dimensional canvas’\n– Maev Kennedy\, Guardian Arts Correspondent \nStella Grace Lyon’s talk unveils the enigmatic brilliance of a Welsh woman who proved that stillness could be revolutionary. \nFollowing the talk\, please stay for tea and cake\, served in the Pavilion’s beautiful Gallery.
URL:https://www.penarthtowncouncil.gov.uk/event/art-history-talk-gwen-john/
LOCATION:Penarth Pier Pavilion\, Penarth Pier Pavilion
CATEGORIES:Community Events,Other
ATTACH;FMTTYPE=image/jpeg:https://www.penarthtowncouncil.gov.uk/ptcmedia/uploads/gwen-john-1.jpg
END:VEVENT
BEGIN:VEVENT
DTSTART;TZID=Europe/London:20250805T190000
DTEND;TZID=Europe/London:20250805T190000
DTSTAMP:20260425T025828
CREATED:20250731T201024Z
LAST-MODIFIED:20250805T115439Z
UID:10000650-1754420400-1754420400@www.penarthtowncouncil.gov.uk
SUMMARY:Men Walking and Talking Penarth
DESCRIPTION:Men Walking and Talking is a local community initiative that brings men together for a friendly\, informal walk every Tuesday evening in Penarth. \nThe group was set up to help end the stigma around men’s mental health by creating a regular\, safe space for men to connect\, talk (if they want to)\, and support one another. \nThere’s no pressure to share anything – some people come for the conversation\, others simply enjoy the company and the fresh air. \nEach walk lasts around an hour\, taken at a relaxed and steady pace. The group meets at the Plymouth Park Car Park near Cogan Tesco\, and walks take place in all weathers\, throughout the year. \nThere’s no need to sign up\, no fees\, and no commitment – just turn up\, say hello\, and walk with us. It’s open to all men\, regardless of age or background. \nMen Walking and Talking – Penarth has been running for nearly two years and continues to grow steadily\, helping more men feel connected and supported within the local community. \nIf you or someone you know could benefit from a gentle walk and some good company\, please do come along or help spread the word.
URL:https://www.penarthtowncouncil.gov.uk/event/men-walking-and-talking-penarth/
LOCATION:Plymouth Park Car Park (near Cogan Tesco)\, Plymouth Park Car Park (near Cogan Tesco)
CATEGORIES:Community Events,Other
ATTACH;FMTTYPE=image/jpeg:https://www.penarthtowncouncil.gov.uk/ptcmedia/uploads/Pic2-scaled.jpg
END:VEVENT
BEGIN:VEVENT
DTSTART;TZID=Europe/London:20250629T140000
DTEND;TZID=Europe/London:20250629T150000
DTSTAMP:20260425T025828
CREATED:20250617T152236Z
LAST-MODIFIED:20250620T093454Z
UID:10000640-1751205600-1751209200@www.penarthtowncouncil.gov.uk
SUMMARY:LITTLE CONCERT - THE SING THING
DESCRIPTION:Date: Sunday 29th June 2025\nTimings: 11am to 12pm & from 2pm to 3pm\nVenue: Penarth Pier Pavilion\nTickets: From £10 (booking fee applies) for one child with one adult\, £20 + booking for a family ticket of up to 3 children and 2 adults (booking fee applies). To purchase\, please click here. \nLittle Concerts – ‘The Sing Thing’ – Explore the amazing human voice! \n“I’ve not come across any concert as innovative and creative for this age group”.\nThe interaction is just amazing. Short pieces and they move onto different activities involving things they can play with. It’s really\, really good.” – a parent. \n’THE SING THING’ Little Concert explores the amazing possibilities of the human voice. Always designed around the learning styles of our youngest audience members\, Little Concerts are perfect for both tiny tots and children up to 10 years. \n‘THE SING THING’ features brilliant young professional soprano\, alto\, tenor and bass singers in a joyful hour of exciting music from Mozart to new takes on nursery rhymes with percussion. Experience the musical building blocks of high and low\, slow and fast\, musical texture and colours through movement and touch. Expertly devised so that children can feel in their playful bodies what they are hearing. Interactive craft objects and instruments included for children’s use at the event. \nThis event is presented as part of the RWCMD-in-Residence programme\, a series of creative projects from Royal Welsh College musicians presented in partnership with Penarth Pavilion. \nIdeal for families with children from 0 – 10 years.
URL:https://www.penarthtowncouncil.gov.uk/event/little-concert-the-sing-thing/2025-06-29/2/
LOCATION:Penarth Pier Pavilion\, Penarth Pier Pavilion
CATEGORIES:Community Events,Other
ATTACH;FMTTYPE=image/png:https://www.penarthtowncouncil.gov.uk/ptcmedia/uploads/Eventbrite-Banner.png
END:VEVENT
BEGIN:VEVENT
DTSTART;TZID=Europe/London:20250629T110000
DTEND;TZID=Europe/London:20250629T120000
DTSTAMP:20260425T025828
CREATED:20250617T152236Z
LAST-MODIFIED:20250620T093454Z
UID:10000639-1751194800-1751198400@www.penarthtowncouncil.gov.uk
SUMMARY:LITTLE CONCERT - THE SING THING
DESCRIPTION:Date: Sunday 29th June 2025\nTimings: 11am to 12pm & from 2pm to 3pm\nVenue: Penarth Pier Pavilion\nTickets: From £10 (booking fee applies) for one child with one adult\, £20 + booking for a family ticket of up to 3 children and 2 adults (booking fee applies). To purchase\, please click here. \nLittle Concerts – ‘The Sing Thing’ – Explore the amazing human voice! \n“I’ve not come across any concert as innovative and creative for this age group”.\nThe interaction is just amazing. Short pieces and they move onto different activities involving things they can play with. It’s really\, really good.” – a parent. \n’THE SING THING’ Little Concert explores the amazing possibilities of the human voice. Always designed around the learning styles of our youngest audience members\, Little Concerts are perfect for both tiny tots and children up to 10 years. \n‘THE SING THING’ features brilliant young professional soprano\, alto\, tenor and bass singers in a joyful hour of exciting music from Mozart to new takes on nursery rhymes with percussion. Experience the musical building blocks of high and low\, slow and fast\, musical texture and colours through movement and touch. Expertly devised so that children can feel in their playful bodies what they are hearing. Interactive craft objects and instruments included for children’s use at the event. \nThis event is presented as part of the RWCMD-in-Residence programme\, a series of creative projects from Royal Welsh College musicians presented in partnership with Penarth Pavilion. \nIdeal for families with children from 0 – 10 years.
URL:https://www.penarthtowncouncil.gov.uk/event/little-concert-the-sing-thing/2025-06-29/1/
LOCATION:Penarth Pier Pavilion\, Penarth Pier Pavilion
CATEGORIES:Community Events,Other
ATTACH;FMTTYPE=image/png:https://www.penarthtowncouncil.gov.uk/ptcmedia/uploads/Eventbrite-Banner.png
END:VEVENT
BEGIN:VEVENT
DTSTART;TZID=Europe/London:20250615T160000
DTEND;TZID=Europe/London:20250615T173000
DTSTAMP:20260425T025828
CREATED:20250609T213458Z
LAST-MODIFIED:20250611T102925Z
UID:10000634-1750003200-1750008600@www.penarthtowncouncil.gov.uk
SUMMARY:Sunday@4 at St Dochdwy's\, Llandough
DESCRIPTION:The monthly Sunday@4 session at St Dochdwy’s Church in Llandough is taking place this Sunday 15th June from 4pm. \nA warm welcome awaits at this informal service for all the family\, which will explore the story of Pentecost – the church’s birthday! The session includes craft activities\, discussion\, Bible message\, songs and prayer\, and is followed by refreshments. \nContact the Penarth Ministry Area office at admin@penarthministryarea.com with any questions.
URL:https://www.penarthtowncouncil.gov.uk/event/sunday4-at-st-dochdwys-llandough/
LOCATION:St Dochdwy’s Church Llandough\, St Dochdwy's Church Llandough
CATEGORIES:Community Events,Other
ATTACH;FMTTYPE=image/jpeg:https://www.penarthtowncouncil.gov.uk/ptcmedia/uploads/Sunday@4-June-15.jpg
END:VEVENT
BEGIN:VEVENT
DTSTART;TZID=Europe/London:20250529T140000
DTEND;TZID=Europe/London:20250529T160000
DTSTAMP:20260425T025828
CREATED:20250131T104711Z
LAST-MODIFIED:20250207T155920Z
UID:10000340-1748527200-1748534400@www.penarthtowncouncil.gov.uk
SUMMARY:Art History Talk - Hogarth
DESCRIPTION:Hogarth’s work was widely distributed in print and served as the ‘News of The World’ of its day. \nIts bawdy scenes and dissolute characters have influenced everything from political cartoons to pub signs.T \nTheir moral message cannot have been very effective because most of the vices he depicts are with us today! \n‘Without sacrificing scholarship\, Stella Grace Lyons has a most engaging way of hooking an audience into sharing her passionate interest in art history\, drawing three dimensional human stories and experiences from the two-dimensional canvas’\n– Maev Kennedy\, Guardian Arts Correspondent \nThis talk examines his modern moral series A Harlot’s Progress\, as well as his famous prints Beer Street and Gin Lane. \nFollowing the talk\, please stay for tea and cake\, served in the Pavilion’s beautiful Gallery.
URL:https://www.penarthtowncouncil.gov.uk/event/art-history-talk-hogarth/
LOCATION:Penarth Pier Pavilion\, Penarth Pier Pavilion
CATEGORIES:Other
ATTACH;FMTTYPE=image/jpeg:https://www.penarthtowncouncil.gov.uk/ptcmedia/uploads/Hogarth-1.jpg
END:VEVENT
BEGIN:VEVENT
DTSTART;TZID=Europe/London:20250429T140000
DTEND;TZID=Europe/London:20250429T160000
DTSTAMP:20260425T025828
CREATED:20250131T104323Z
LAST-MODIFIED:20250207T155717Z
UID:10000339-1745935200-1745942400@www.penarthtowncouncil.gov.uk
SUMMARY:Art History Talk - Giotto
DESCRIPTION:The four walls that changed everything: Giotto’s Scrovegni Chapel \nHow did one tiny chapel in Padua\, Italy change the entire course of Art History? \nThe frescoes covering the walls of the Scrovegni Chapel are now celebrated as the pearl of the Early Renaissance. \nCommissioned by the wealthy Enrico Scrovegni to atone for his sins of moneylending\, Giotto’s chapel is a masterpiece of storytelling and human emotion. \nDevils\, grief\, love and vice adorn the opulent walls\, as well as one of the earliest representations of a kiss in art. \nThis talk will explore the frescoes and discover why they are considered a milestone in the development of Western Art. \n‘Without sacrificing scholarship\, Stella Grace Lyons has a most engaging way of hooking an audience into sharing her passionate interest in art history\, drawing three dimensional human stories and experiences from the two-dimensional canvas’\n– Maev Kennedy\, Guardian Arts Correspondent \nFollowing the talk\, please stay for tea and cake\, served in the Pavilion’s beautiful Gallery.
URL:https://www.penarthtowncouncil.gov.uk/event/art-history-talk-giotto/
LOCATION:Penarth Pier Pavilion\, Penarth Pier Pavilion
CATEGORIES:Community Events,Other
ATTACH;FMTTYPE=image/jpeg:https://www.penarthtowncouncil.gov.uk/ptcmedia/uploads/giotto-1-.jpg
END:VEVENT
END:VCALENDAR