BEGIN:VCALENDAR
VERSION:2.0
PRODID:-//penarthtowncouncil.gov.uk - ECPv6.15.20//NONSGML v1.0//EN
CALSCALE:GREGORIAN
METHOD:PUBLISH
X-WR-CALNAME:penarthtowncouncil.gov.uk
X-ORIGINAL-URL:https://www.penarthtowncouncil.gov.uk
X-WR-CALDESC:Events for penarthtowncouncil.gov.uk
REFRESH-INTERVAL;VALUE=DURATION:PT1H
X-Robots-Tag:noindex
X-PUBLISHED-TTL:PT1H
BEGIN:VTIMEZONE
TZID:Europe/London
BEGIN:DAYLIGHT
TZOFFSETFROM:+0000
TZOFFSETTO:+0100
TZNAME:BST
DTSTART:20240331T010000
END:DAYLIGHT
BEGIN:STANDARD
TZOFFSETFROM:+0100
TZOFFSETTO:+0000
TZNAME:GMT
DTSTART:20241027T010000
END:STANDARD
BEGIN:DAYLIGHT
TZOFFSETFROM:+0000
TZOFFSETTO:+0100
TZNAME:BST
DTSTART:20250330T010000
END:DAYLIGHT
BEGIN:STANDARD
TZOFFSETFROM:+0100
TZOFFSETTO:+0000
TZNAME:GMT
DTSTART:20251026T010000
END:STANDARD
BEGIN:DAYLIGHT
TZOFFSETFROM:+0000
TZOFFSETTO:+0100
TZNAME:BST
DTSTART:20260329T010000
END:DAYLIGHT
BEGIN:STANDARD
TZOFFSETFROM:+0100
TZOFFSETTO:+0000
TZNAME:GMT
DTSTART:20261025T010000
END:STANDARD
END:VTIMEZONE
BEGIN:VEVENT
DTSTART;TZID=Europe/London:20251210T190000
DTEND;TZID=Europe/London:20251210T203000
DTSTAMP:20260425T164430
CREATED:20251209T180020Z
LAST-MODIFIED:20251209T170345Z
UID:10001511-1765393200-1765398600@www.penarthtowncouncil.gov.uk
SUMMARY:RNLI Carol Service
DESCRIPTION:Lifeboat Service of 9 Lessons and Carols with the Cavatina Singers. Wednesday 10th December 2025\, 6:30pm for 7pm start\, St. Augustine’s Church. Coffee and Mince Pies\, All are Welcome.
URL:https://www.penarthtowncouncil.gov.uk/event/rnli-carol-service/
LOCATION:St Augustine’s Church\, Penarth\, St Augustine's Church\, Penarth
CATEGORIES:Community Events,Music
ATTACH;FMTTYPE=image/jpeg:https://www.penarthtowncouncil.gov.uk/ptcmedia/uploads/Carol-Service-2025-Cavatina-scaled.jpeg
END:VEVENT
BEGIN:VEVENT
DTSTART;TZID=Europe/London:20251214T140000
DTEND;TZID=Europe/London:20251214T160000
DTSTAMP:20260425T164430
CREATED:20251119T140011Z
LAST-MODIFIED:20251118T144156Z
UID:10000717-1765720800-1765728000@www.penarthtowncouncil.gov.uk
SUMMARY:Spectrum Singers | Starbright
DESCRIPTION:From the fiery-eyed celestial light of angels to children’s eyes sparkling with tinsel and fire\, this winter Spectrum Singers reflects the wonder\, awe and anticipation of Christmas morning. \nCosy up with blankets and hot chocolate on a wintry afternoon for an atmospheric choir concert full of dazzling harmonies to leave you glowing. \nThrough beloved carols in shiny new arrangements\, we’ll celebrate angelic fire\, the Star of Bethlehem and the Morning Star — symbols of hope\, joy\, and light breaking into the world. \nOh\, and we have a Grinch too… Watch out\, he’s a mean one! \nFree entry with a retiring collection. \nSunday 14th December | 2pm | Penarth Cemetery Chapel
URL:https://www.penarthtowncouncil.gov.uk/event/spectrum-singers-starbright/
LOCATION:The Chapel at Penarth Cemetery\, The Chapel at Penarth Cemetery
CATEGORIES:Community Events,Music
ATTACH;FMTTYPE=image/jpeg:https://www.penarthtowncouncil.gov.uk/ptcmedia/uploads/Starlight2-scaled.jpg
END:VEVENT
END:VCALENDAR