BEGIN:VCALENDAR
VERSION:2.0
PRODID:-//penarthtowncouncil.gov.uk - ECPv6.15.20//NONSGML v1.0//EN
CALSCALE:GREGORIAN
METHOD:PUBLISH
X-ORIGINAL-URL:https://www.penarthtowncouncil.gov.uk
X-WR-CALDESC:Events for penarthtowncouncil.gov.uk
REFRESH-INTERVAL;VALUE=DURATION:PT1H
X-Robots-Tag:noindex
X-PUBLISHED-TTL:PT1H
BEGIN:VTIMEZONE
TZID:Europe/London
BEGIN:DAYLIGHT
TZOFFSETFROM:+0000
TZOFFSETTO:+0100
TZNAME:BST
DTSTART:20250330T010000
END:DAYLIGHT
BEGIN:STANDARD
TZOFFSETFROM:+0100
TZOFFSETTO:+0000
TZNAME:GMT
DTSTART:20251026T010000
END:STANDARD
BEGIN:DAYLIGHT
TZOFFSETFROM:+0000
TZOFFSETTO:+0100
TZNAME:BST
DTSTART:20260329T010000
END:DAYLIGHT
BEGIN:STANDARD
TZOFFSETFROM:+0100
TZOFFSETTO:+0000
TZNAME:GMT
DTSTART:20261025T010000
END:STANDARD
BEGIN:DAYLIGHT
TZOFFSETFROM:+0000
TZOFFSETTO:+0100
TZNAME:BST
DTSTART:20270328T010000
END:DAYLIGHT
BEGIN:STANDARD
TZOFFSETFROM:+0100
TZOFFSETTO:+0000
TZNAME:GMT
DTSTART:20271031T010000
END:STANDARD
END:VTIMEZONE
BEGIN:VEVENT
DTSTART;TZID=Europe/London:20260121T143000
DTEND;TZID=Europe/London:20260121T160000
DTSTAMP:20260425T121141
CREATED:20260115T170031Z
LAST-MODIFIED:20260115T132301Z
UID:10001529-1769005800-1769011200@www.penarthtowncouncil.gov.uk
SUMMARY:Afternoon Jazz with Jean Guyomarc’h and Mike Frost
DESCRIPTION:Join us for an afternoon of swinging jazz guitar as Jean Guyomarc’h brings his rich\, expressive sound to a special Jazz Guitar Duo performance. \nA leading figure in contemporary manouche and jazz guitar\, Jean is celebrated for his lyrical playing\, rhythmic precision\, and deep roots in the European jazz tradition. Self-taught before formal study\, his career has taken him from festival stages to prestigious French jazz conservatoires\, performing alongside and learning from some of the genre’s most respected musicians. His work spans manouche swing\, modern jazz\, and cross-cultural collaborations\, making his performances both virtuosic and warmly accessible. \nMike is a well established jazz and hot club style guitarist on the South Wales music scene. He has played many venues and events\, including several guest spots at Brecon Jazz Festival. \nExpect an afternoon of musical delight with us at the Pier Pavilion. \nDate: Wednesday 21 January Time: 2:30pm Tickets: £12 + booking fee (includes a tea\, coffee and Welsh Cake) \nRelax\, enjoy a hot drink\, and experience an intimate afternoon of exceptional live jazz.
URL:https://www.penarthtowncouncil.gov.uk/event/afternoon-jazz-with-jean-guyomarch-and-mike-frost/
LOCATION:Penarth Pier Pavilion\, Penarth Pier Pavilion
CATEGORIES:Community Events,Music
ATTACH;FMTTYPE=image/png:https://www.penarthtowncouncil.gov.uk/ptcmedia/uploads/Afternoon-Jazz.png
END:VEVENT
END:VCALENDAR