BEGIN:VCALENDAR
VERSION:2.0
PRODID:-//penarthtowncouncil.gov.uk - ECPv6.15.20//NONSGML v1.0//EN
CALSCALE:GREGORIAN
METHOD:PUBLISH
X-WR-CALNAME:penarthtowncouncil.gov.uk
X-ORIGINAL-URL:https://www.penarthtowncouncil.gov.uk
X-WR-CALDESC:Events for penarthtowncouncil.gov.uk
REFRESH-INTERVAL;VALUE=DURATION:PT1H
X-Robots-Tag:noindex
X-PUBLISHED-TTL:PT1H
BEGIN:VTIMEZONE
TZID:Europe/London
BEGIN:DAYLIGHT
TZOFFSETFROM:+0000
TZOFFSETTO:+0100
TZNAME:BST
DTSTART:20240331T010000
END:DAYLIGHT
BEGIN:STANDARD
TZOFFSETFROM:+0100
TZOFFSETTO:+0000
TZNAME:GMT
DTSTART:20241027T010000
END:STANDARD
BEGIN:DAYLIGHT
TZOFFSETFROM:+0000
TZOFFSETTO:+0100
TZNAME:BST
DTSTART:20250330T010000
END:DAYLIGHT
BEGIN:STANDARD
TZOFFSETFROM:+0100
TZOFFSETTO:+0000
TZNAME:GMT
DTSTART:20251026T010000
END:STANDARD
BEGIN:DAYLIGHT
TZOFFSETFROM:+0000
TZOFFSETTO:+0100
TZNAME:BST
DTSTART:20260329T010000
END:DAYLIGHT
BEGIN:STANDARD
TZOFFSETFROM:+0100
TZOFFSETTO:+0000
TZNAME:GMT
DTSTART:20261025T010000
END:STANDARD
END:VTIMEZONE
BEGIN:VEVENT
DTSTART;TZID=Europe/London:20250703T193000
DTEND;TZID=Europe/London:20250703T193000
DTSTAMP:20260425T224326
CREATED:20250507T121112Z
LAST-MODIFIED:20250529T153522Z
UID:10000619-1751571000-1751571000@www.penarthtowncouncil.gov.uk
SUMMARY:Julian Martin Jazz Trio
DESCRIPTION:Step into a world where the magic of cinema meets the soulful sounds of jazz. Join us for an extraordinary evening at Jazz Meets Cinema with the Julian Martin Trio\, showcasing jazz renditions of your favourite film soundtracks. \nEnjoy this intimate performance of iconic film scores performed by the exceptional talents of the Julian Martin Trio\, headed up by Julian Martin on piano with Ross Thomas on bass\, Ian Williams on drums\, and featuring special guest Ben Thomas on trumpet. \nWhether you’re a movie buff or a jazz enthusiast\, this event promises to be a unique and captivating experience. Relive the magic of the silver screen through the enchanting sounds of jazz. \nDon’t miss this opportunity to immerse yourself in the timeless allure of jazz\, brought to life by three exceptional talents. \nLet the music inspire\, uplift\, and transport you to a realm of pure artistry amidst the warm ambience of Penarth Pier Pavilion\, the perfect setting for a memorable night of live music. \nSecure your tickets now and join us for an unforgettable evening of jazz! \nUnreserved seating
URL:https://www.penarthtowncouncil.gov.uk/event/julian-martin-jazz-trio/
LOCATION:United Kingdom
CATEGORIES:Community Events,Music
ATTACH;FMTTYPE=image/jpeg:https://www.penarthtowncouncil.gov.uk/ptcmedia/uploads/Julian-Martin-Trio-1.jpeg
END:VEVENT
BEGIN:VEVENT
DTSTART;TZID=Europe/London:20250704T193000
DTEND;TZID=Europe/London:20250704T220000
DTSTAMP:20260425T224326
CREATED:20250617T143558Z
LAST-MODIFIED:20250620T092748Z
UID:10000637-1751657400-1751666400@www.penarthtowncouncil.gov.uk
SUMMARY:Cabaret Evening - Stars\, Stripes and Rock'n'Roll
DESCRIPTION:“Stars\, Stripes & Rock ‘n’ Roll!” – 🔥 A Red-Hot Tribute to the Legends of the ’50s! 🔥 July 4th – One Night Only! \nCelebrate America’s birthday in true vintage style with electrifying tributes to The Everly Brothers\, Buddy Holly\, and Eddie Cochran – plus unforgettable hits by Elvis Presley\, Chuck Berry\, Little Richard\, and Ritchie Valens! \nCompered by the irrepressible Mark Thompson\, step into the jukebox time machine this Independence Day with the ultimate 1950s rock ‘n’ roll celebration! \nGet ready to shake\, rattle and roll as we bring the golden era of rock ‘n’ roll back to life. From sweet harmonies to wild guitar riffs\, this all-American musical fireworks show is not to be missed! \n*Unreserved seating; for this event\, the Gallery will be set up cabaret style so if you have any friends who have also booked\, and who you would like to be seated with\, please let me know and we will do our best to arrange this. \nFor more information\, or to purchase tickets\, visit the Pier Pavilions Eventbrite page here.
URL:https://www.penarthtowncouncil.gov.uk/event/cabaret-evening-stars-stripes-and-rocknroll/
LOCATION:Penarth Pier Pavilion\, Penarth Pier Pavilion
CATEGORIES:Community Events,Music
ATTACH;FMTTYPE=image/jpeg:https://www.penarthtowncouncil.gov.uk/ptcmedia/uploads/thumbnail_Everly-Brothers.jpg
END:VEVENT
BEGIN:VEVENT
DTSTART;TZID=Europe/London:20250708T140000
DTEND;TZID=Europe/London:20250708T150000
DTSTAMP:20260425T224326
CREATED:20250618T144504Z
LAST-MODIFIED:20250620T093826Z
UID:10000641-1751983200-1751986800@www.penarthtowncouncil.gov.uk
SUMMARY:RWCMD - AFTERNOON JAZZ
DESCRIPTION:Penarth Pier Pavilion: RWCMD Afternoon Jazz! \nDate: Tuesday 8th July 2025 \nTimings: 2pm concert (doors open at 1.30pm) with 3pm finish \nTickets: Free Event – please reserve your tickets here. \n  \nPenarth Pier Pavilion is delighted to welcome Royal Welsh College of Music and Drama students Tommy Lawther on saxophone and Loz Bridge on piano for an afternoon jazz concert. \nRWCMD jazz students\, Tommy and Loz present a set of classic jazz standards from well-known jazz composers and performers. \nThis concert is part of the College’s residency at Penarth Pier Pavilion. \nWe hope you can join us for what promises to be an enchanting afternoon of music in the Pavilion’s beautiful Gallery! \n*Unreserved seating.
URL:https://www.penarthtowncouncil.gov.uk/event/rwcmd-afternoon-jazz/
LOCATION:Penarth Pier Pavilion\, Penarth Pier Pavilion
CATEGORIES:Community Events,Music
ATTACH;FMTTYPE=image/jpeg:https://www.penarthtowncouncil.gov.uk/ptcmedia/uploads/Tommy-Lawther-Sax-scaled.jpeg
END:VEVENT
BEGIN:VEVENT
DTSTART;TZID=Europe/London:20250718T193000
DTEND;TZID=Europe/London:20250718T193000
DTSTAMP:20260425T224326
CREATED:20250507T121346Z
LAST-MODIFIED:20250529T154421Z
UID:10000620-1752867000-1752867000@www.penarthtowncouncil.gov.uk
SUMMARY:Retro Disco
DESCRIPTION:Event: Disco Night\, Get Ready to Boogie! \nDate: Friday 18th July 2025 \nVenue: Penarth Pier Pavilion \nTimings: 7.30pm start (doors open from 7pm)\, finishing at 11pm \nTickets: £8.50 per person + booking fee * \nGet your groove on and join us for a night of Disco Fever\, with funky beats and the greatest hits of the 70s\, 80s and 90s! \nDress up in your best retro outfit and dive into a night filled with the iconic sounds and vibrant energy of the decades. \nRelive the magic with DJ Ralphie T. at this special 70s\, 80s\, 90s Disco Night and enjoy an evening of non-stop dancing! \nDon’t miss out on this ultimate Disco Night! Grab your tickets now and get ready to party! \nLet’s boogie down and make this Disco Night one to remember! \n*Age Guidance: 18yrs +
URL:https://www.penarthtowncouncil.gov.uk/event/retro-disco/
LOCATION:United Kingdom
CATEGORIES:Community Events,Music
ATTACH;FMTTYPE=image/png:https://www.penarthtowncouncil.gov.uk/ptcmedia/uploads/Retro-Disco-July--scaled.png
END:VEVENT
END:VCALENDAR