BEGIN:VCALENDAR
VERSION:2.0
PRODID:-//penarthtowncouncil.gov.uk - ECPv6.15.20//NONSGML v1.0//EN
CALSCALE:GREGORIAN
METHOD:PUBLISH
X-WR-CALNAME:penarthtowncouncil.gov.uk
X-ORIGINAL-URL:https://www.penarthtowncouncil.gov.uk
X-WR-CALDESC:Events for penarthtowncouncil.gov.uk
REFRESH-INTERVAL;VALUE=DURATION:PT1H
X-Robots-Tag:noindex
X-PUBLISHED-TTL:PT1H
BEGIN:VTIMEZONE
TZID:Europe/London
BEGIN:DAYLIGHT
TZOFFSETFROM:+0000
TZOFFSETTO:+0100
TZNAME:BST
DTSTART:20250330T010000
END:DAYLIGHT
BEGIN:STANDARD
TZOFFSETFROM:+0100
TZOFFSETTO:+0000
TZNAME:GMT
DTSTART:20251026T010000
END:STANDARD
BEGIN:DAYLIGHT
TZOFFSETFROM:+0000
TZOFFSETTO:+0100
TZNAME:BST
DTSTART:20260329T010000
END:DAYLIGHT
BEGIN:STANDARD
TZOFFSETFROM:+0100
TZOFFSETTO:+0000
TZNAME:GMT
DTSTART:20261025T010000
END:STANDARD
BEGIN:DAYLIGHT
TZOFFSETFROM:+0000
TZOFFSETTO:+0100
TZNAME:BST
DTSTART:20270328T010000
END:DAYLIGHT
BEGIN:STANDARD
TZOFFSETFROM:+0100
TZOFFSETTO:+0000
TZNAME:GMT
DTSTART:20271031T010000
END:STANDARD
END:VTIMEZONE
BEGIN:VEVENT
DTSTART;TZID=Europe/London:20260603T100000
DTEND;TZID=Europe/London:20260603T120000
DTSTAMP:20260424T092630
CREATED:20210616T090526Z
LAST-MODIFIED:20250502T092626Z
UID:10000397-1780480800-1780488000@www.penarthtowncouncil.gov.uk
SUMMARY:Singing and Social Groups for Older Adults
DESCRIPTION:With Music in Mind‘s Penarth Group sessions run each Wednesday (apart from the second Wednesday in each month) from 10:00am to 12:00pm at St. Augustine’s Parish Hall. \nTheir groups are informal and inclusive. Groups cost £5 (carers go free)\, and your first session is free of charge. \nDue to restrictions on numbers\, it is essential to book a place before attending each time. \nYou can book a place via their website here\, via phone at 07500 776 295 or via email at info@withmusicinmind.co.uk.
URL:https://www.penarthtowncouncil.gov.uk/event/singing-and-social-groups-for-older-adults/2026-06-03/
LOCATION:St. Augustine’s Parish Hall\, Albert Road\, Penarth\, CF64 1BX
CATEGORIES:Community Events,Courses and Classes
ATTACH;FMTTYPE=image/jpeg:https://www.penarthtowncouncil.gov.uk/ptcmedia/uploads/WMIM-scaled.jpg
GEO:51.4414663;-3.1722673
X-APPLE-STRUCTURED-LOCATION;VALUE=URI;X-ADDRESS=St. Augustine’s Parish Hall Albert Road Penarth CF64 1BX;X-APPLE-RADIUS=500;X-TITLE=Albert Road:geo:-3.1722673,51.4414663
END:VEVENT
BEGIN:VEVENT
DTSTART;TZID=Europe/London:20260604T193000
DTEND;TZID=Europe/London:20260604T210000
DTSTAMP:20260424T092630
CREATED:20260421T110003Z
LAST-MODIFIED:20260420T115131Z
UID:10001585-1780601400-1780606800@www.penarthtowncouncil.gov.uk
SUMMARY:Claudine Boulstridge: Family
DESCRIPTION:Step into a world of flavour\, balance and home-cooked meals with British-French chef and mother-of-three Claudine Boulstridge\, as she talks about her debut cookbook\, Family: Simple\, healthy recipes for everyone. \nClaudine is passionate about family food; she wants to show everyone how to transform everyday meals into flavour-forward\, vibrant and healthy home-cooked dishes you and your children will love at any age. Packed with tempting and creative recipes and practical ideas for a balanced\, varied diet\, Family will make mealtimes more delicious and help you to nourish adventurous eaters at the same time. \nClaudine will be talking about the book\, sharing stories about her background as a chef and taste tester for Yotam Ottolenghi (she has tested the recipes in all of his books!)\, and provide culinary solutions for health-conscious\, time-pressed families.\n\nFamily:\nFrom mini crustless quiches to rainbow sandwiches and healthy ‘Big Mac’ burgers to chocolate fridge cake\, Family features simple\, nutritious and time-efficient recipes that fit seamlessly into busy lives. From tips on cooking with your children to making homemade snacks and treats\, this book is your go-to guide for healthy\, flavoursome\, stress-free family meals. \nClaudine Boulstridge is a French-British chef\, recipe creator and tester for Ottolenghi – she has tested the recipes in all of his books and Guardian\, New York Times and Waitrose & Partners Food Magazine articles. After graduating from The University of Southampton with a degree in European Studies\, she studied at Leiths School of Food – going on to teach a variety of popular cookery classes at Divertimenti and Cookery School at Little Portland Street in London. Claudine has created\, tested\, styled and photographed recipes for companies like Ocado\, Lindt\, Crazy Jacks\, Biotiful Kefir and Bart. She also teaches online workshops and has spoken on BBC radio and The Parent Scoop podcast. \n***\nThursday 4 June | 7.30 pm\nGriffin Books\, 9A Windsor Road\, Penarth\, CF64 1JB*\nTickets: £30.00 including a SIGNED copy of Family** / £8.00 Event Only*** / £5.00 Student Ticket / £5.00 Inclusive Ticket \n*IMPORTANT: Please be aware that the toilet at Griffin Books can only be accessed via three steps and so is not accessible for wheelchair users or people with mobility issues. Please contact us on info@griffinbooks.co.uk if this would prohibit you from attending. \n**Any book not collected at the event will be held in Griffin Books for three months after the date of the event.\n***There are a limited number of Event Only\, Inclusive and Student tickets available.
URL:https://www.penarthtowncouncil.gov.uk/event/claudine-boulstridge-family/
LOCATION:Griffin Books\, Griffin Books
CATEGORIES:Community Events
ATTACH;FMTTYPE=image/png:https://www.penarthtowncouncil.gov.uk/ptcmedia/uploads/Claudine-Boulstridge-Facebook-banner.png
END:VEVENT
BEGIN:VEVENT
DTSTART;TZID=Europe/London:20260610T100000
DTEND;TZID=Europe/London:20260610T120000
DTSTAMP:20260424T092630
CREATED:20210616T090526Z
LAST-MODIFIED:20250502T092626Z
UID:10000398-1781085600-1781092800@www.penarthtowncouncil.gov.uk
SUMMARY:Singing and Social Groups for Older Adults
DESCRIPTION:With Music in Mind‘s Penarth Group sessions run each Wednesday (apart from the second Wednesday in each month) from 10:00am to 12:00pm at St. Augustine’s Parish Hall. \nTheir groups are informal and inclusive. Groups cost £5 (carers go free)\, and your first session is free of charge. \nDue to restrictions on numbers\, it is essential to book a place before attending each time. \nYou can book a place via their website here\, via phone at 07500 776 295 or via email at info@withmusicinmind.co.uk.
URL:https://www.penarthtowncouncil.gov.uk/event/singing-and-social-groups-for-older-adults/2026-06-10/
LOCATION:St. Augustine’s Parish Hall\, Albert Road\, Penarth\, CF64 1BX
CATEGORIES:Community Events,Courses and Classes
ATTACH;FMTTYPE=image/jpeg:https://www.penarthtowncouncil.gov.uk/ptcmedia/uploads/WMIM-scaled.jpg
GEO:51.4414663;-3.1722673
X-APPLE-STRUCTURED-LOCATION;VALUE=URI;X-ADDRESS=St. Augustine’s Parish Hall Albert Road Penarth CF64 1BX;X-APPLE-RADIUS=500;X-TITLE=Albert Road:geo:-3.1722673,51.4414663
END:VEVENT
BEGIN:VEVENT
DTSTART;TZID=Europe/London:20260612T193000
DTEND;TZID=Europe/London:20260612T220000
DTSTAMP:20260424T092630
CREATED:20260421T140047Z
LAST-MODIFIED:20260420T121046Z
UID:10001586-1781292600-1781301600@www.penarthtowncouncil.gov.uk
SUMMARY:Silver: 25th Anniversary Concert
DESCRIPTION:Magpie-like\, we’ve gathered a hoard of brilliant choral music to celebrate our Silver Jubilee as we revel in the reflective and radiant qualities of this precious metal. \nBask in Spectrum Singers’ glittering mix of genres in contemporary choral compositions\, polyphony and madrigals\, close‑harmony jazz\, doo‑wap\, and barbershop\, all sung a cappella. \nBright new repertoire and beloved golden oldies are woven together with threads of silver\, which run organically through hair and tongue; nobly through coinage and breastplate; luminously through gleaming water and moonlight. \nJoin us for this shining night in celebration of Spectrum Singers’ 25 years beside the silvery sea. \nProgramme to include: \nMorten Lauridsen / Sure on this Shining Night\nĒriks Ešenvalds / Stars\nThe Beach Boys arr. Tomas Bergquist / God Only Knows\nArvo Pärt / The Deer’s Cry\nThe Beatles (Lennon & McCartney) arr. Paul Hart / When I’m Sixty-Four\nLudwig van Beethoven arr. Benjamin Gait / Piano Concerto No.5 (Adagio)\nHenry Mancini arr. Steve Zegree / Moon River\nCaroline Shaw / and the swallow
URL:https://www.penarthtowncouncil.gov.uk/event/silver-25th-anniversary-concert/
LOCATION:Penarth Pier Pavilion\, Penarth Pier Pavilion
CATEGORIES:Community Events,Music
ATTACH;FMTTYPE=image/jpeg:https://www.penarthtowncouncil.gov.uk/ptcmedia/uploads/Silver-Poster_Low-Res.jpg
ORGANIZER;CN="Spectrum Singers":MAILTO:hello@spectrumsingers.vpweb.co.uk 
END:VEVENT
BEGIN:VEVENT
DTSTART;TZID=Europe/London:20260617T100000
DTEND;TZID=Europe/London:20260617T120000
DTSTAMP:20260424T092630
CREATED:20210616T090526Z
LAST-MODIFIED:20250502T092626Z
UID:10000399-1781690400-1781697600@www.penarthtowncouncil.gov.uk
SUMMARY:Singing and Social Groups for Older Adults
DESCRIPTION:With Music in Mind‘s Penarth Group sessions run each Wednesday (apart from the second Wednesday in each month) from 10:00am to 12:00pm at St. Augustine’s Parish Hall. \nTheir groups are informal and inclusive. Groups cost £5 (carers go free)\, and your first session is free of charge. \nDue to restrictions on numbers\, it is essential to book a place before attending each time. \nYou can book a place via their website here\, via phone at 07500 776 295 or via email at info@withmusicinmind.co.uk.
URL:https://www.penarthtowncouncil.gov.uk/event/singing-and-social-groups-for-older-adults/2026-06-17/
LOCATION:St. Augustine’s Parish Hall\, Albert Road\, Penarth\, CF64 1BX
CATEGORIES:Community Events,Courses and Classes
ATTACH;FMTTYPE=image/jpeg:https://www.penarthtowncouncil.gov.uk/ptcmedia/uploads/WMIM-scaled.jpg
GEO:51.4414663;-3.1722673
X-APPLE-STRUCTURED-LOCATION;VALUE=URI;X-ADDRESS=St. Augustine’s Parish Hall Albert Road Penarth CF64 1BX;X-APPLE-RADIUS=500;X-TITLE=Albert Road:geo:-3.1722673,51.4414663
END:VEVENT
BEGIN:VEVENT
DTSTART;TZID=Europe/London:20260624T100000
DTEND;TZID=Europe/London:20260624T120000
DTSTAMP:20260424T092630
CREATED:20210616T090526Z
LAST-MODIFIED:20250502T092626Z
UID:10000400-1782295200-1782302400@www.penarthtowncouncil.gov.uk
SUMMARY:Singing and Social Groups for Older Adults
DESCRIPTION:With Music in Mind‘s Penarth Group sessions run each Wednesday (apart from the second Wednesday in each month) from 10:00am to 12:00pm at St. Augustine’s Parish Hall. \nTheir groups are informal and inclusive. Groups cost £5 (carers go free)\, and your first session is free of charge. \nDue to restrictions on numbers\, it is essential to book a place before attending each time. \nYou can book a place via their website here\, via phone at 07500 776 295 or via email at info@withmusicinmind.co.uk.
URL:https://www.penarthtowncouncil.gov.uk/event/singing-and-social-groups-for-older-adults/2026-06-24/
LOCATION:St. Augustine’s Parish Hall\, Albert Road\, Penarth\, CF64 1BX
CATEGORIES:Community Events,Courses and Classes
ATTACH;FMTTYPE=image/jpeg:https://www.penarthtowncouncil.gov.uk/ptcmedia/uploads/WMIM-scaled.jpg
GEO:51.4414663;-3.1722673
X-APPLE-STRUCTURED-LOCATION;VALUE=URI;X-ADDRESS=St. Augustine’s Parish Hall Albert Road Penarth CF64 1BX;X-APPLE-RADIUS=500;X-TITLE=Albert Road:geo:-3.1722673,51.4414663
END:VEVENT
END:VCALENDAR